Workbook
Name Source1: 'Delay Performance Summary'!$H$43
Name Source2: 'Delay Performance Summary'!$H$44

Sheet Device Overview
A1: Device Overview and Report Index | L1: Device Overview and Report Index(Remote)
C10: Channel 1 | D10: Channel 2 | E10: Channel 3 | F10: Channel 4 | G10: Channel 5 | H10: Channel 6 | N10: Channel 1 | O10: Channel 2 | P10: Channel 3 | Q10: Channel 4 | R10: Channel 5 | S10: Channel 6
B11: Make | M11: Make
B12: Model | M12: Model
B13: Role | M13: Role
B14: Hardware Identifier | M14: Hardware Identifier
B15: Adapter | M15: Adapter
B16: Number to Dial | M16: Number to Dial
B17: Number Dialing From | M17: Number Dialing From
B18: End Input Level | C18: 0 | D18: 0 | E18: 220 | F18: 220 | G18: 180 | H18: 180 | M18: End Input Level
B19: End Output Level | C19: 165 | D19: 165 | E19: 165 | F19: 165 | G19: 165 | H19: 165 | M19: End Output Level
B22: Click any report Name below to view the report: | M22: Click any report Name below to view the report:
B24: Name | D24: Test Type | G24: Description | M24: Name | O24: Test Type | R24: Description
B25: Voice Quality Summary | D25: Voice Quality | G25: Statistical and distribution information for uplink and downlink MOS results | M25: Voice Quality Summary | O25: Voice Quality | R25: Statistical and distribution information for uplink and downlink MOS results
B26: Detailed MOS Data | D26: Voice Quality | G26: Detailed MOS result data for each channel ordered by time | M26: Detailed MOS Data | O26: Voice Quality | R26: Detailed MOS result data for each channel ordered by time
B27: Delay Performance Summary | D27: Delay | G27: Statistical information for Delay Task results | M27: Delay Performance Summary | O27: Delay | R27: Statistical information for Delay Task results
B28: Detailed Delay Data | D28: Delay | G28: Detailed Delay result data | M28: Detailed Delay Data | O28: Delay | R28: Detailed Delay result data
B29: Call Performance Summary | D29: Call Performance | G29: Provides a snapshot of the Failed Initiation and Dropped Call Rate | M29: Call Performance Summary | O29: Call Performance | R29: Provides a snapshot of the Failed Initiation and Dropped Call Rate
B30: Call Initiation Performance Report | D30: Call Performance | G30: Provides a breakdown of Call Initiation Failure events by failure type | M30: Call Initiation Performance Report | O30: Call Performance | R30: Provides a breakdown of Call Initiation Failure events by failure type
B31: Call Retention Performance Report | D31: Call Performance | G31: Displays the Dropped Call Rate for each device as the % of successful initiations that result in a dropped call | M31: Call Retention Performance Report | O31: Call Performance | R31: Displays the Dropped Call Rate for each device as the % of successful initiations that result in a dropped call
B32: Audio Verification Performance Report | D32: Call Performance | G32: Displays the Audio Verification Failure Rate based on the number of calls where audio was not detected | M32: Audio Verification Performance Report | O32: Call Performance | R32: Displays the Audio Verification Failure Rate based on the number of calls where audio was not detected
B33: Device Performance Report | D33: Call Performance | G33: Summarizes signal strength and battery reports from the device as well as Bluetooth errors. | M33: Device Performance Report | O33: Call Performance | R33: Summarizes signal strength and battery reports from the device as well as Bluetooth errors.

Sheet Voice Quality Summary
A1: Voice Quality Summary | R1: Voice Quality Summary(Remote)
C8: Downlink MOS | I8: Uplink MOS | T8: Downlink MOS | Z8: Uplink MOS
C9: =CONCATENATE('Device Overview'!C12," DL") -> DL | D9: =CONCATENATE('Device Overview'!D12," DL") -> DL | E9: =CONCATENATE('Device Overview'!E12," DL") -> DL | F9: =CONCATENATE('Device Overview'!F12," DL") -> DL | G9: =CONCATENATE('Device Overview'!G12," DL") -> DL | H9: =CONCATENATE('Device Overview'!H12," DL") -> DL | I9: =CONCATENATE('Device Overview'!C12," UL") -> UL | J9: =CONCATENATE('Device Overview'!D12," UL") -> UL | K9: =CONCATENATE('Device Overview'!E12," UL") -> UL | L9: =CONCATENATE('Device Overview'!F12," UL") -> UL | M9: =CONCATENATE('Device Overview'!G12," UL") -> UL | N9: =CONCATENATE('Device Overview'!H12," UL") -> UL | T9: =CONCATENATE('Device Overview'!N12," DL") -> DL | U9: =CONCATENATE('Device Overview'!O12," DL") -> DL | V9: =CONCATENATE('Device Overview'!P12," DL") -> DL | W9: =CONCATENATE('Device Overview'!Q12," DL") -> DL | X9: =CONCATENATE('Device Overview'!R12," DL") -> DL | Y9: =CONCATENATE('Device Overview'!S12," DL") -> DL | Z9: =CONCATENATE('Device Overview'!N12," UL") -> UL | AA9: =CONCATENATE('Device Overview'!O12," UL") -> UL | AB9: =CONCATENATE('Device Overview'!P12," UL") -> UL | AC9: =CONCATENATE('Device Overview'!Q12," UL") -> UL | AD9: =CONCATENATE('Device Overview'!R12," UL") -> UL | AE9: =CONCATENATE('Device Overview'!S12," UL") -> UL
B10: Average | C10: =IFERROR(AVERAGE(VQ_MOSData!D:D),"") | D10: =IFERROR(AVERAGE(VQ_MOSData!E:E),"") | E10: =IFERROR(AVERAGE(VQ_MOSData!F:F),"") -> 4.4336054 | F10: =IFERROR(AVERAGE(VQ_MOSData!G:G),"") | G10: =IFERROR(AVERAGE(VQ_MOSData!H:H),"") -> 3.8435272 | H10: =IFERROR(AVERAGE(VQ_MOSData!I:I),"") | I10: =IFERROR(AVERAGE(VQ_MOSData!J:J),"") | J10: =IFERROR(AVERAGE(VQ_MOSData!K:K),"") | K10: =IFERROR(AVERAGE(VQ_MOSData!L:L),"") -> 4.3945197 | L10: =IFERROR(AVERAGE(VQ_MOSData!M:M),"") | M10: =IFERROR(AVERAGE(VQ_MOSData!N:N),"") -> 3.8079874 | N10: =IFERROR(AVERAGE(VQ_MOSData!O:O),"") | S10: Average | T10: =IFERROR(AVERAGE(VQ_MOSData!P:P),"") | U10: =IFERROR(AVERAGE(VQ_MOSData!Q:Q),"") | V10: =IFERROR(AVERAGE(VQ_MOSData!R:R),"") | W10: =IFERROR(AVERAGE(VQ_MOSData!S:S),"") | X10: =IFERROR(AVERAGE(VQ_MOSData!T:T),"") | Y10: =IFERROR(AVERAGE(VQ_MOSData!U:U),"") | Z10: =IFERROR(AVERAGE(VQ_MOSData!V:V),"") | AA10: =IFERROR(AVERAGE(VQ_MOSData!W:W),"") | AB10: =IFERROR(AVERAGE(VQ_MOSData!X:X),"") | AC10: =IFERROR(AVERAGE(VQ_MOSData!Y:Y),"") | AD10: =IFERROR(AVERAGE(VQ_MOSData!Z:Z),"") | AE10: =IFERROR(AVERAGE(VQ_MOSData!AA:AA),"")
B11: Standard Deviation | C11: =IFERROR(STDEV(VQ_MOSData!D:D),"") | D11: =IFERROR(STDEV(VQ_MOSData!E:E),"") | E11: =IFERROR(STDEV(VQ_MOSData!F:F),"") -> 0.13563716 | F11: =IFERROR(STDEV(VQ_MOSData!G:G),"") | G11: =IFERROR(STDEV(VQ_MOSData!H:H),"") -> 0.26582862 | H11: =IFERROR(STDEV(VQ_MOSData!I:I),"") | I11: =IFERROR(STDEV(VQ_MOSData!J:J),"") | J11: =IFERROR(STDEV(VQ_MOSData!K:K),"") | K11: =IFERROR(STDEV(VQ_MOSData!L:L),"") -> 0.37329469 | L11: =IFERROR(STDEV(VQ_MOSData!M:M),"") | M11: =IFERROR(STDEV(VQ_MOSData!N:N),"") -> 0.32435221 | N11: =IFERROR(STDEV(VQ_MOSData!O:O),"") | S11: Standard Deviation | T11: =IFERROR(STDEV(VQ_MOSData!P:P),"") | U11: =IFERROR(STDEV(VQ_MOSData!Q:Q),"") | V11: =IFERROR(STDEV(VQ_MOSData!R:R),"") | W11: =IFERROR(STDEV(VQ_MOSData!S:S),"") | X11: =IFERROR(STDEV(VQ_MOSData!T:T),"") | Y11: =IFERROR(STDEV(VQ_MOSData!U:U),"") | Z11: =IFERROR(STDEV(VQ_MOSData!V:V),"") | AA11: =IFERROR(STDEV(VQ_MOSData!W:W),"") | AB11: =IFERROR(STDEV(VQ_MOSData!X:X),"") | AC11: =IFERROR(STDEV(VQ_MOSData!Y:Y),"") | AD11: =IFERROR(STDEV(VQ_MOSData!Z:Z),"") | AE11: =IFERROR(STDEV(VQ_MOSData!AA:AA),"")
B12: Maximum Score | C12: =MAX(VQ_MOSData!D:D) -> 0 | D12: =MAX(VQ_MOSData!E:E) -> 0 | E12: =MAX(VQ_MOSData!F:F) -> 4.5665016 | F12: =MAX(VQ_MOSData!G:G) -> 0 | G12: =MAX(VQ_MOSData!H:H) -> 4.1355977 | H12: =MAX(VQ_MOSData!I:I) -> 0 | I12: =MAX(VQ_MOSData!J:J) -> 0 | J12: =MAX(VQ_MOSData!K:K) -> 0 | K12: =MAX(VQ_MOSData!L:L) -> 4.5519981 | L12: =MAX(VQ_MOSData!M:M) -> 0 | M12: =MAX(VQ_MOSData!N:N) -> 4.1028285 | N12: =MAX(VQ_MOSData!O:O) -> 0 | S12: Maximum Score | T12: =MAX(VQ_MOSData!P:P) -> 0 | U12: =MAX(VQ_MOSData!Q:Q) -> 0 | V12: =MAX(VQ_MOSData!R:R) -> 0 | W12: =MAX(VQ_MOSData!S:S) -> 0 | X12: =MAX(VQ_MOSData!T:T) -> 0 | Y12: =MAX(VQ_MOSData!U:U) -> 0 | Z12: =MAX(VQ_MOSData!V:V) -> 0 | AA12: =MAX(VQ_MOSData!W:W) -> 0 | AB12: =MAX(VQ_MOSData!X:X) -> 0 | AC12: =MAX(VQ_MOSData!Y:Y) -> 0 | AD12: =MAX(VQ_MOSData!Z:Z) -> 0 | AE12: =MAX(VQ_MOSData!AA:AA) -> 0
B13: Count | C13: =COUNT(VQ_MOSData!D:D) -> 0 | D13: =COUNT(VQ_MOSData!E:E) -> 0 | E13: =COUNT(VQ_MOSData!F:F) -> 87 | F13: =COUNT(VQ_MOSData!G:G) -> 0 | G13: =COUNT(VQ_MOSData!H:H) -> 88 | H13: =COUNT(VQ_MOSData!I:I) -> 0 | I13: =COUNT(VQ_MOSData!J:J) -> 0 | J13: =COUNT(VQ_MOSData!K:K) -> 0 | K13: =COUNT(VQ_MOSData!L:L) -> 90 | L13: =COUNT(VQ_MOSData!M:M) -> 0 | M13: =COUNT(VQ_MOSData!N:N) -> 89 | N13: =COUNT(VQ_MOSData!O:O) -> 0 | S13: Count | T13: =COUNT(VQ_MOSData!P:P) -> 0 | U13: =COUNT(VQ_MOSData!Q:Q) -> 0 | V13: =COUNT(VQ_MOSData!R:R) -> 0 | W13: =COUNT(VQ_MOSData!S:S) -> 0 | X13: =COUNT(VQ_MOSData!T:T) -> 0 | Y13: =COUNT(VQ_MOSData!U:U) -> 0 | Z13: =COUNT(VQ_MOSData!V:V) -> 0 | AA13: =COUNT(VQ_MOSData!W:W) -> 0 | AB13: =COUNT(VQ_MOSData!X:X) -> 0 | AC13: =COUNT(VQ_MOSData!Y:Y) -> 0 | AD13: =COUNT(VQ_MOSData!Z:Z) -> 0 | AE13: =COUNT(VQ_MOSData!AA:AA) -> 0
B14: % MOS greater than or equal to 3.2 | C14: =IFERROR(COUNTIF(VQ_MOSData!D:D,">=3.2")/C13,"") | D14: =IFERROR(COUNTIF(VQ_MOSData!E:E,">=3.2")/D13,"") | E14: =IFERROR(COUNTIF(VQ_MOSData!F:F,">=3.2")/E13,"") -> 1 | F14: =IFERROR(COUNTIF(VQ_MOSData!G:G,">=3.2")/F13,"") | G14: =IFERROR(COUNTIF(VQ_MOSData!H:H,">=3.2")/G13,"") -> 0.97727273 | H14: =IFERROR(COUNTIF(VQ_MOSData!I:I,">=3.2")/H13,"") | I14: =IFERROR(COUNTIF(VQ_MOSData!J:J,">=3.2")/I13,"") | J14: =IFERROR(COUNTIF(VQ_MOSData!K:K,">=3.2")/J13,"") | K14: =IFERROR(COUNTIF(VQ_MOSData!L:L,">=3.2")/K13,"") -> 0.97777778 | L14: =IFERROR(COUNTIF(VQ_MOSData!M:M,">=3.2")/L13,"") | M14: =IFERROR(COUNTIF(VQ_MOSData!N:N,">=3.2")/M13,"") -> 0.94382022 | N14: =IFERROR(COUNTIF(VQ_MOSData!O:O,">=3.2")/N13,"") | S14: % MOS greater than or equal to 3.2 | T14: =IFERROR(COUNTIF(VQ_MOSData!P:P,">=3.2")/T13,"") | U14: =IFERROR(COUNTIF(VQ_MOSData!Q:Q,">=3.2")/U13,"") | V14: =IFERROR(COUNTIF(VQ_MOSData!R:R,">=3.2")/V13,"") | W14: =IFERROR(COUNTIF(VQ_MOSData!S:S,">=3.2")/W13,"") | X14: =IFERROR(COUNTIF(VQ_MOSData!T:T,">=3.2")/X13,"") | Y14: =IFERROR(COUNTIF(VQ_MOSData!U:U,">=3.2")/Y13,"") | Z14: =IFERROR(COUNTIF(VQ_MOSData!V:V,">=3.2")/Z13,"") | AA14: =IFERROR(COUNTIF(VQ_MOSData!W:W,">=3.2")/AA13,"") | AB14: =IFERROR(COUNTIF(VQ_MOSData!X:X,">=3.2")/AB13,"") | AC14: =IFERROR(COUNTIF(VQ_MOSData!Y:Y,">=3.2")/AC13,"") | AD14: =IFERROR(COUNTIF(VQ_MOSData!Z:Z,">=3.2")/AD13,"") | AE14: =IFERROR(COUNTIF(VQ_MOSData!AA:AA,">=3.2")/AE13,"")
B15: % MOS less than 3.0 | C15: =IFERROR(COUNTIF(VQ_MOSData!D:D,"<3.0")/C13,"") | D15: =IFERROR(COUNTIF(VQ_MOSData!E:E,"<3.0")/D13,"") | E15: =IFERROR(COUNTIF(VQ_MOSData!F:F,"<3.0")/E13,"") -> 0 | F15: =IFERROR(COUNTIF(VQ_MOSData!G:G,"<3.0")/F13,"") | G15: =IFERROR(COUNTIF(VQ_MOSData!H:H,"<3.0")/G13,"") -> 0.011363636 | H15: =IFERROR(COUNTIF(VQ_MOSData!I:I,"<3.0")/H13,"") | I15: =IFERROR(COUNTIF(VQ_MOSData!J:J,"<3.0")/I13,"") | J15: =IFERROR(COUNTIF(VQ_MOSData!K:K,"<3.0")/J13,"") | K15: =IFERROR(COUNTIF(VQ_MOSData!L:L,"<3.0")/K13,"") -> 0.011111111 | L15: =IFERROR(COUNTIF(VQ_MOSData!M:M,"<3.0")/L13,"") | M15: =IFERROR(COUNTIF(VQ_MOSData!N:N,"<3.0")/M13,"") -> 0.04494382 | N15: =IFERROR(COUNTIF(VQ_MOSData!O:O,"<3.0")/N13,"") | S15: % MOS less than 3.0 | T15: =IFERROR(COUNTIF(VQ_MOSData!P:P,"<3.0")/T13,"") | U15: =IFERROR(COUNTIF(VQ_MOSData!Q:Q,"<3.0")/U13,"") | V15: =IFERROR(COUNTIF(VQ_MOSData!R:R,"<3.0")/V13,"") | W15: =IFERROR(COUNTIF(VQ_MOSData!S:S,"<3.0")/W13,"") | X15: =IFERROR(COUNTIF(VQ_MOSData!T:T,"<3.0")/X13,"") | Y15: =IFERROR(COUNTIF(VQ_MOSData!U:U,"<3.0")/Y13,"") | Z15: =IFERROR(COUNTIF(VQ_MOSData!V:V,"<3.0")/Z13,"") | AA15: =IFERROR(COUNTIF(VQ_MOSData!W:W,"<3.0")/AA13,"") | AB15: =IFERROR(COUNTIF(VQ_MOSData!X:X,"<3.0")/AB13,"") | AC15: =IFERROR(COUNTIF(VQ_MOSData!Y:Y,"<3.0")/AC13,"") | AD15: =IFERROR(COUNTIF(VQ_MOSData!Z:Z,"<3.0")/AD13,"") | AE15: =IFERROR(COUNTIF(VQ_MOSData!AA:AA,"<3.0")/AE13,"")
B16: % MOS less than 2.0 | C16: =IFERROR(COUNTIF(VQ_MOSData!D:D,"<2.0")/C13,"") | D16: =IFERROR(COUNTIF(VQ_MOSData!E:E,"<2.0")/D13,"") | E16: =IFERROR(COUNTIF(VQ_MOSData!F:F,"<2.0")/E13,"") -> 0 | F16: =IFERROR(COUNTIF(VQ_MOSData!G:G,"<2.0")/F13,"") | G16: =IFERROR(COUNTIF(VQ_MOSData!H:H,"<2.0")/G13,"") -> 0.011363636 | H16: =IFERROR(COUNTIF(VQ_MOSData!I:I,"<2.0")/H13,"") | I16: =IFERROR(COUNTIF(VQ_MOSData!J:J,"<2.0")/I13,"") | J16: =IFERROR(COUNTIF(VQ_MOSData!K:K,"<2.0")/J13,"") | K16: =IFERROR(COUNTIF(VQ_MOSData!L:L,"<2.0")/K13,"") -> 0.011111111 | L16: =IFERROR(COUNTIF(VQ_MOSData!M:M,"<2.0")/L13,"") | M16: =IFERROR(COUNTIF(VQ_MOSData!N:N,"<2.0")/M13,"") -> 0 | N16: =IFERROR(COUNTIF(VQ_MOSData!O:O,"<2.0")/N13,"") | S16: % MOS less than 2.0 | T16: =IFERROR(COUNTIF(VQ_MOSData!P:P,"<2.0")/T13,"") | U16: =IFERROR(COUNTIF(VQ_MOSData!Q:Q,"<2.0")/U13,"") | V16: =IFERROR(COUNTIF(VQ_MOSData!R:R,"<2.0")/V13,"") | W16: =IFERROR(COUNTIF(VQ_MOSData!S:S,"<2.0")/W13,"") | X16: =IFERROR(COUNTIF(VQ_MOSData!T:T,"<2.0")/X13,"") | Y16: =IFERROR(COUNTIF(VQ_MOSData!U:U,"<2.0")/Y13,"") | Z16: =IFERROR(COUNTIF(VQ_MOSData!V:V,"<2.0")/Z13,"") | AA16: =IFERROR(COUNTIF(VQ_MOSData!W:W,"<2.0")/AA13,"") | AB16: =IFERROR(COUNTIF(VQ_MOSData!X:X,"<2.0")/AB13,"") | AC16: =IFERROR(COUNTIF(VQ_MOSData!Y:Y,"<2.0")/AC13,"") | AD16: =IFERROR(COUNTIF(VQ_MOSData!Z:Z,"<2.0")/AD13,"") | AE16: =IFERROR(COUNTIF(VQ_MOSData!AA:AA,"<2.0")/AE13,"")
B17: % MOS less than or equal to 1.8 | C17: =IFERROR(COUNTIF(VQ_MOSData!D:D,"<=1.8")/C13,"") | D17: =IFERROR(COUNTIF(VQ_MOSData!E:E,"<=1.8")/D13,"") | E17: =IFERROR(COUNTIF(VQ_MOSData!F:F,"<=1.8")/E13,"") -> 0 | F17: =IFERROR(COUNTIF(VQ_MOSData!G:G,"<=1.8")/F13,"") | G17: =IFERROR(COUNTIF(VQ_MOSData!H:H,"<=1.8")/G13,"") -> 0 | H17: =IFERROR(COUNTIF(VQ_MOSData!I:I,"<=1.8")/H13,"") | I17: =IFERROR(COUNTIF(VQ_MOSData!J:J,"<=1.8")/I13,"") | J17: =IFERROR(COUNTIF(VQ_MOSData!K:K,"<=1.8")/J13,"") | K17: =IFERROR(COUNTIF(VQ_MOSData!L:L,"<=1.8")/K13,"") -> 0.011111111 | L17: =IFERROR(COUNTIF(VQ_MOSData!M:M,"<=1.8")/L13,"") | M17: =IFERROR(COUNTIF(VQ_MOSData!N:N,"<=1.8")/M13,"") -> 0 | N17: =IFERROR(COUNTIF(VQ_MOSData!O:O,"<=1.8")/N13,"") | S17: % MOS less than or equal to 1.8 | T17: =IFERROR(COUNTIF(VQ_MOSData!P:P,"<=1.8")/T13,"") | U17: =IFERROR(COUNTIF(VQ_MOSData!Q:Q,"<=1.8")/U13,"") | V17: =IFERROR(COUNTIF(VQ_MOSData!R:R,"<=1.8")/V13,"") | W17: =IFERROR(COUNTIF(VQ_MOSData!S:S,"<=1.8")/W13,"") | X17: =IFERROR(COUNTIF(VQ_MOSData!T:T,"<=1.8")/X13,"") | Y17: =IFERROR(COUNTIF(VQ_MOSData!U:U,"<=1.8")/Y13,"") | Z17: =IFERROR(COUNTIF(VQ_MOSData!V:V,"<=1.8")/Z13,"") | AA17: =IFERROR(COUNTIF(VQ_MOSData!W:W,"<=1.8")/AA13,"") | AB17: =IFERROR(COUNTIF(VQ_MOSData!X:X,"<=1.8")/AB13,"") | AC17: =IFERROR(COUNTIF(VQ_MOSData!Y:Y,"<=1.8")/AC13,"") | AD17: =IFERROR(COUNTIF(VQ_MOSData!Z:Z,"<=1.8")/AD13,"") | AE17: =IFERROR(COUNTIF(VQ_MOSData!AA:AA,"<=1.8")/AE13,"")
B18: Scoring Algorithm | C18: PESQ & POLQA | E18: POLQA V2.4 | G18: POLQA V2.4 | I18: PESQ & POLQA | K18: POLQA V2.4 | M18: POLQA V2.4 | S18: Scoring Algorithm
B19: Narrowband Ratio | C19: 0 | E19: 0 | G19: 0 | I19: 0 | K19: 0 | M19: 0 | S19: Narrowband Ratio
B20: Wideband Ratio | C20: 1 | E20: 1 | G20: 1 | I20: 1 | K20: 1 | M20: 1 | S20: Wideband Ratio
AI76: =Z9 -> UL | AJ76: =AA9 -> UL | AK76: =AB9 -> UL | AL76: =AC9 -> UL | AM76: =AD9 -> UL | AN76: =AE9 -> UL | AO76: =T9 -> DL | AP76: =U9 -> DL | AQ76: =V9 -> DL | AR76: =W9 -> DL | AS76: =X9 -> DL | AT76: =Y9 -> DL
AI77: =C9 -> DL | AJ77: =D9 -> DL | AK77: =E9 -> DL | AL77: =F9 -> DL | AM77: =G9 -> DL | AN77: =H9 -> DL | AO77: =I9 -> UL | AP77: =J9 -> UL | ... AT77: =N9 -> UL
AH78: >=4.8 | AI78: =COUNTIF(VQ_MOSData!D:D,">=4.8")/'Voice Quality Summary'!C$13 -> #DIV/0! | AJ78: =COUNTIF(VQ_MOSData!E:E,">=4.8")/'Voice Quality Summary'!D$13 -> #DIV/0! | AK78: =COUNTIF(VQ_MOSData!F:F,">=4.8")/'Voice Quality Summary'!E$13 -> 0 | AL78: =COUNTIF(VQ_MOSData!G:G,">=4.8")/'Voice Quality Summary'!F$13 -> #DIV/0! | AM78: =COUNTIF(VQ_MOSData!H:H,">=4.8")/'Voice Quality Summary'!G$13 -> 0 | AN78: =COUNTIF(VQ_MOSData!I:I,">=4.8")/'Voice Quality Summary'!H$13 -> #DIV/0! | AO78: =COUNTIF(VQ_MOSData!J:J,">=4.8")/'Voice Quality Summary'!I$13 -> #DIV/0! | AP78: =COUNTIF(VQ_MOSData!K:K,">=4.8")/'Voice Quality Summary'!J$13 -> #DIV/0! | AQ78: =COUNTIF(VQ_MOSData!L:L,">=4.8")/'Voice Quality Summary'!K$13 -> 0 | AR78: =COUNTIF(VQ_MOSData!M:M,">=4.8")/'Voice Quality Summary'!L$13 -> #DIV/0! | AS78: =COUNTIF(VQ_MOSData!N:N,">=4.8")/'Voice Quality Summary'!M$13 -> 0 | AT78: =COUNTIF(VQ_MOSData!O:O,">=4.8")/'Voice Quality Summary'!N$13 -> #DIV/0!
AH79: <4.8 | AI79: =COUNTIF(VQ_MOSData!D:D,"<4.8")/'Voice Quality Summary'!C$13 -> #DIV/0! | AJ79: =COUNTIF(VQ_MOSData!E:E,"<4.8")/'Voice Quality Summary'!D$13 -> #DIV/0! | AK79: =COUNTIF(VQ_MOSData!F:F,"<4.8")/'Voice Quality Summary'!E$13 -> 1 | AL79: =COUNTIF(VQ_MOSData!G:G,"<4.8")/'Voice Quality Summary'!F$13 -> #DIV/0! | AM79: =COUNTIF(VQ_MOSData!H:H,"<4.8")/'Voice Quality Summary'!G$13 -> 1 | AN79: =COUNTIF(VQ_MOSData!I:I,"<4.8")/'Voice Quality Summary'!H$13 -> #DIV/0! | AO79: =COUNTIF(VQ_MOSData!J:J,"<4.8")/'Voice Quality Summary'!I$13 -> #DIV/0! | AP79: =COUNTIF(VQ_MOSData!K:K,"<4.8")/'Voice Quality Summary'!J$13 -> #DIV/0! | AQ79: =COUNTIF(VQ_MOSData!L:L,"<4.8")/'Voice Quality Summary'!K$13 -> 1 | AR79: =COUNTIF(VQ_MOSData!M:M,"<4.8")/'Voice Quality Summary'!L$13 -> #DIV/0! | AS79: =COUNTIF(VQ_MOSData!N:N,"<4.8")/'Voice Quality Summary'!M$13 -> 1 | AT79: =COUNTIF(VQ_MOSData!O:O,"<4.8")/'Voice Quality Summary'!N$13 -> #DIV/0!
AH80: <4.7 | AI80: =COUNTIF(VQ_MOSData!D:D,"<4.7")/'Voice Quality Summary'!C$13 -> #DIV/0! | AJ80: =COUNTIF(VQ_MOSData!E:E,"<4.7")/'Voice Quality Summary'!D$13 -> #DIV/0! | AK80: =COUNTIF(VQ_MOSData!F:F,"<4.7")/'Voice Quality Summary'!E$13 -> 1 | AL80: =COUNTIF(VQ_MOSData!G:G,"<4.7")/'Voice Quality Summary'!F$13 -> #DIV/0! | AM80: =COUNTIF(VQ_MOSData!H:H,"<4.7")/'Voice Quality Summary'!G$13 -> 1 | AN80: =COUNTIF(VQ_MOSData!I:I,"<4.7")/'Voice Quality Summary'!H$13 -> #DIV/0! | AO80: =COUNTIF(VQ_MOSData!J:J,"<4.7")/'Voice Quality Summary'!I$13 -> #DIV/0! | AP80: =COUNTIF(VQ_MOSData!K:K,"<4.7")/'Voice Quality Summary'!J$13 -> #DIV/0! | AQ80: =COUNTIF(VQ_MOSData!L:L,"<4.7")/'Voice Quality Summary'!K$13 -> 1 | AR80: =COUNTIF(VQ_MOSData!M:M,"<4.7")/'Voice Quality Summary'!L$13 -> #DIV/0! | AS80: =COUNTIF(VQ_MOSData!N:N,"<4.7")/'Voice Quality Summary'!M$13 -> 1 | AT80: =COUNTIF(VQ_MOSData!O:O,"<4.7")/'Voice Quality Summary'!N$13 -> #DIV/0!
AH81: <4.6 | AI81: =COUNTIF(VQ_MOSData!D:D,"<4.6")/'Voice Quality Summary'!C$13 -> #DIV/0! | AJ81: =COUNTIF(VQ_MOSData!E:E,"<4.6")/'Voice Quality Summary'!D$13 -> #DIV/0! | AK81: =COUNTIF(VQ_MOSData!F:F,"<4.6")/'Voice Quality Summary'!E$13 -> 1 | AL81: =COUNTIF(VQ_MOSData!G:G,"<4.6")/'Voice Quality Summary'!F$13 -> #DIV/0! | AM81: =COUNTIF(VQ_MOSData!H:H,"<4.6")/'Voice Quality Summary'!G$13 -> 1 | AN81: =COUNTIF(VQ_MOSData!I:I,"<4.6")/'Voice Quality Summary'!H$13 -> #DIV/0! | AO81: =COUNTIF(VQ_MOSData!J:J,"<4.6")/'Voice Quality Summary'!I$13 -> #DIV/0! | AP81: =COUNTIF(VQ_MOSData!K:K,"<4.6")/'Voice Quality Summary'!J$13 -> #DIV/0! | AQ81: =COUNTIF(VQ_MOSData!L:L,"<4.6")/'Voice Quality Summary'!K$13 -> 1 | AR81: =COUNTIF(VQ_MOSData!M:M,"<4.6")/'Voice Quality Summary'!L$13 -> #DIV/0! | AS81: =COUNTIF(VQ_MOSData!N:N,"<4.6")/'Voice Quality Summary'!M$13 -> 1 | AT81: =COUNTIF(VQ_MOSData!O:O,"<4.6")/'Voice Quality Summary'!N$13 -> #DIV/0!
AH82: <4.5 | AI82: =COUNTIF(VQ_MOSData!D:D,"<4.5")/'Voice Quality Summary'!C$13 -> #DIV/0! | AJ82: =COUNTIF(VQ_MOSData!E:E,"<4.5")/'Voice Quality Summary'!D$13 -> #DIV/0! | AK82: =COUNTIF(VQ_MOSData!F:F,"<4.5")/'Voice Quality Summary'!E$13 -> 0.7816092 | AL82: =COUNTIF(VQ_MOSData!G:G,"<4.5")/'Voice Quality Summary'!F$13 -> #DIV/0! | AM82: =COUNTIF(VQ_MOSData!H:H,"<4.5")/'Voice Quality Summary'!G$13 -> 1 | AN82: =COUNTIF(VQ_MOSData!I:I,"<4.5")/'Voice Quality Summary'!H$13 -> #DIV/0! | AO82: =COUNTIF(VQ_MOSData!J:J,"<4.5")/'Voice Quality Summary'!I$13 -> #DIV/0! | AP82: =COUNTIF(VQ_MOSData!K:K,"<4.5")/'Voice Quality Summary'!J$13 -> #DIV/0! | AQ82: =COUNTIF(VQ_MOSData!L:L,"<4.5")/'Voice Quality Summary'!K$13 -> 0.75555556 | AR82: =COUNTIF(VQ_MOSData!M:M,"<4.5")/'Voice Quality Summary'!L$13 -> #DIV/0! | AS82: =COUNTIF(VQ_MOSData!N:N,"<4.5")/'Voice Quality Summary'!M$13 -> 1 | AT82: =COUNTIF(VQ_MOSData!O:O,"<4.5")/'Voice Quality Summary'!N$13 -> #DIV/0!
AH83: <4.4 | AI83: =COUNTIF(VQ_MOSData!D:D,"<4.4")/'Voice Quality Summary'!C$13 -> #DIV/0! | AJ83: =COUNTIF(VQ_MOSData!E:E,"<4.4")/'Voice Quality Summary'!D$13 -> #DIV/0! | AK83: =COUNTIF(VQ_MOSData!F:F,"<4.4")/'Voice Quality Summary'!E$13 -> 0.1954023 | AL83: =COUNTIF(VQ_MOSData!G:G,"<4.4")/'Voice Quality Summary'!F$13 -> #DIV/0! | AM83: =COUNTIF(VQ_MOSData!H:H,"<4.4")/'Voice Quality Summary'!G$13 -> 1 | AN83: =COUNTIF(VQ_MOSData!I:I,"<4.4")/'Voice Quality Summary'!H$13 -> #DIV/0! | AO83: =COUNTIF(VQ_MOSData!J:J,"<4.4")/'Voice Quality Summary'!I$13 -> #DIV/0! | AP83: =COUNTIF(VQ_MOSData!K:K,"<4.4")/'Voice Quality Summary'!J$13 -> #DIV/0! | AQ83: =COUNTIF(VQ_MOSData!L:L,"<4.4")/'Voice Quality Summary'!K$13 -> 0.18888889 | AR83: =COUNTIF(VQ_MOSData!M:M,"<4.4")/'Voice Quality Summary'!L$13 -> #DIV/0! | AS83: =COUNTIF(VQ_MOSData!N:N,"<4.4")/'Voice Quality Summary'!M$13 -> 1 | AT83: =COUNTIF(VQ_MOSData!O:O,"<4.4")/'Voice Quality Summary'!N$13 -> #DIV/0!
AH84: <4.3 | AI84: =COUNTIF(VQ_MOSData!D:D,"<4.3")/'Voice Quality Summary'!C$13 -> #DIV/0! | AJ84: =COUNTIF(VQ_MOSData!E:E,"<4.3")/'Voice Quality Summary'!D$13 -> #DIV/0! | AK84: =COUNTIF(VQ_MOSData!F:F,"<4.3")/'Voice Quality Summary'!E$13 -> 0.045977011 | AL84: =COUNTIF(VQ_MOSData!G:G,"<4.3")/'Voice Quality Summary'!F$13 -> #DIV/0! | AM84: =COUNTIF(VQ_MOSData!H:H,"<4.3")/'Voice Quality Summary'!G$13 -> 1 | AN84: =COUNTIF(VQ_MOSData!I:I,"<4.3")/'Voice Quality Summary'!H$13 -> #DIV/0! | AO84: =COUNTIF(VQ_MOSData!J:J,"<4.3")/'Voice Quality Summary'!I$13 -> #DIV/0! | AP84: =COUNTIF(VQ_MOSData!K:K,"<4.3")/'Voice Quality Summary'!J$13 -> #DIV/0! | AQ84: =COUNTIF(VQ_MOSData!L:L,"<4.3")/'Voice Quality Summary'!K$13 -> 0.088888889 | AR84: =COUNTIF(VQ_MOSData!M:M,"<4.3")/'Voice Quality Summary'!L$13 -> #DIV/0! | AS84: =COUNTIF(VQ_MOSData!N:N,"<4.3")/'Voice Quality Summary'!M$13 -> 1 | AT84: =COUNTIF(VQ_MOSData!O:O,"<4.3")/'Voice Quality Summary'!N$13 -> #DIV/0!
AH85: <4.2 | AI85: =COUNTIF(VQ_MOSData!D:D,"<4.2")/'Voice Quality Summary'!C$13 -> #DIV/0! | AJ85: =COUNTIF(VQ_MOSData!E:E,"<4.2")/'Voice Quality Summary'!D$13 -> #DIV/0! | AK85: =COUNTIF(VQ_MOSData!F:F,"<4.2")/'Voice Quality Summary'!E$13 -> 0.045977011 | AL85: =COUNTIF(VQ_MOSData!G:G,"<4.2")/'Voice Quality Summary'!F$13 -> #DIV/0! | AM85: =COUNTIF(VQ_MOSData!H:H,"<4.2")/'Voice Quality Summary'!G$13 -> 1 | AN85: =COUNTIF(VQ_MOSData!I:I,"<4.2")/'Voice Quality Summary'!H$13 -> #DIV/0! | AO85: =COUNTIF(VQ_MOSData!J:J,"<4.2")/'Voice Quality Summary'!I$13 -> #DIV/0! | AP85: =COUNTIF(VQ_MOSData!K:K,"<4.2")/'Voice Quality Summary'!J$13 -> #DIV/0! | AQ85: =COUNTIF(VQ_MOSData!L:L,"<4.2")/'Voice Quality Summary'!K$13 -> 0.077777778 | AR85: =COUNTIF(VQ_MOSData!M:M,"<4.2")/'Voice Quality Summary'!L$13 -> #DIV/0! | AS85: =COUNTIF(VQ_MOSData!N:N,"<4.2")/'Voice Quality Summary'!M$13 -> 1 | AT85: =COUNTIF(VQ_MOSData!O:O,"<4.2")/'Voice Quality Summary'!N$13 -> #DIV/0!
AH86: <4.1 | AI86: =COUNTIF(VQ_MOSData!D:D,"<4.1")/'Voice Quality Summary'!C$13 -> #DIV/0! | AJ86: =COUNTIF(VQ_MOSData!E:E,"<4.1")/'Voice Quality Summary'!D$13 -> #DIV/0! | AK86: =COUNTIF(VQ_MOSData!F:F,"<4.1")/'Voice Quality Summary'!E$13 -> 0.034482759 | AL86: =COUNTIF(VQ_MOSData!G:G,"<4.1")/'Voice Quality Summary'!F$13 -> #DIV/0! | AM86: =COUNTIF(VQ_MOSData!H:H,"<4.1")/'Voice Quality Summary'!G$13 -> 0.97727273 | AN86: =COUNTIF(VQ_MOSData!I:I,"<4.1")/'Voice Quality Summary'!H$13 -> #DIV/0! | AO86: =COUNTIF(VQ_MOSData!J:J,"<4.1")/'Voice Quality Summary'!I$13 -> #DIV/0! | AP86: =COUNTIF(VQ_MOSData!K:K,"<4.1")/'Voice Quality Summary'!J$13 -> #DIV/0! | AQ86: =COUNTIF(VQ_MOSData!L:L,"<4.1")/'Voice Quality Summary'!K$13 -> 0.055555556 | AR86: =COUNTIF(VQ_MOSData!M:M,"<4.1")/'Voice Quality Summary'!L$13 -> #DIV/0! | AS86: =COUNTIF(VQ_MOSData!N:N,"<4.1")/'Voice Quality Summary'!M$13 -> 0.98876404 | AT86: =COUNTIF(VQ_MOSData!O:O,"<4.1")/'Voice Quality Summary'!N$13 -> #DIV/0!
AH87: <4.0 | AI87: =COUNTIF(VQ_MOSData!D:D,"<4.0")/'Voice Quality Summary'!C$13 -> #DIV/0! | AJ87: =COUNTIF(VQ_MOSData!E:E,"<4.0")/'Voice Quality Summary'!D$13 -> #DIV/0! | AK87: =COUNTIF(VQ_MOSData!F:F,"<4.0")/'Voice Quality Summary'!E$13 -> 0.034482759 | AL87: =COUNTIF(VQ_MOSData!G:G,"<4.0")/'Voice Quality Summary'!F$13 -> #DIV/0! | AM87: =COUNTIF(VQ_MOSData!H:H,"<4.0")/'Voice Quality Summary'!G$13 -> 0.79545455 | AN87: =COUNTIF(VQ_MOSData!I:I,"<4.0")/'Voice Quality Summary'!H$13 -> #DIV/0! | AO87: =COUNTIF(VQ_MOSData!J:J,"<4.0")/'Voice Quality Summary'!I$13 -> #DIV/0! | AP87: =COUNTIF(VQ_MOSData!K:K,"<4.0")/'Voice Quality Summary'!J$13 -> #DIV/0! | AQ87: =COUNTIF(VQ_MOSData!L:L,"<4.0")/'Voice Quality Summary'!K$13 -> 0.022222222 | AR87: =COUNTIF(VQ_MOSData!M:M,"<4.0")/'Voice Quality Summary'!L$13 -> #DIV/0! | AS87: =COUNTIF(VQ_MOSData!N:N,"<4.0")/'Voice Quality Summary'!M$13 -> 0.80898876 | AT87: =COUNTIF(VQ_MOSData!O:O,"<4.0")/'Voice Quality Summary'!N$13 -> #DIV/0!
AH88: <3.9 | AI88: =COUNTIF(VQ_MOSData!D:D,"<3.9")/'Voice Quality Summary'!C$13 -> #DIV/0! | AJ88: =COUNTIF(VQ_MOSData!E:E,"<3.9")/'Voice Quality Summary'!D$13 -> #DIV/0! | AK88: =COUNTIF(VQ_MOSData!F:F,"<3.9")/'Voice Quality Summary'!E$13 -> 0.022988506 | AL88: =COUNTIF(VQ_MOSData!G:G,"<3.9")/'Voice Quality Summary'!F$13 -> #DIV/0! | AM88: =COUNTIF(VQ_MOSData!H:H,"<3.9")/'Voice Quality Summary'!G$13 -> 0.57954545 | AN88: =COUNTIF(VQ_MOSData!I:I,"<3.9")/'Voice Quality Summary'!H$13 -> #DIV/0! | AO88: =COUNTIF(VQ_MOSData!J:J,"<3.9")/'Voice Quality Summary'!I$13 -> #DIV/0! | AP88: =COUNTIF(VQ_MOSData!K:K,"<3.9")/'Voice Quality Summary'!J$13 -> #DIV/0! | AQ88: =COUNTIF(VQ_MOSData!L:L,"<3.9")/'Voice Quality Summary'!K$13 -> 0.022222222 | AR88: =COUNTIF(VQ_MOSData!M:M,"<3.9")/'Voice Quality Summary'!L$13 -> #DIV/0! | AS88: =COUNTIF(VQ_MOSData!N:N,"<3.9")/'Voice Quality Summary'!M$13 -> 0.64044944 | AT88: =COUNTIF(VQ_MOSData!O:O,"<3.9")/'Voice Quality Summary'!N$13 -> #DIV/0!
AH89: <3.8 | AI89: =COUNTIF(VQ_MOSData!D:D,"<3.8")/'Voice Quality Summary'!C$13 -> #DIV/0! | AJ89: =COUNTIF(VQ_MOSData!E:E,"<3.8")/'Voice Quality Summary'!D$13 -> #DIV/0! | AK89: =COUNTIF(VQ_MOSData!F:F,"<3.8")/'Voice Quality Summary'!E$13 -> 0.022988506 | AL89: =COUNTIF(VQ_MOSData!G:G,"<3.8")/'Voice Quality Summary'!F$13 -> #DIV/0! | AM89: =COUNTIF(VQ_MOSData!H:H,"<3.8")/'Voice Quality Summary'!G$13 -> 0.23863636 | AN89: =COUNTIF(VQ_MOSData!I:I,"<3.8")/'Voice Quality Summary'!H$13 -> #DIV/0! | AO89: =COUNTIF(VQ_MOSData!J:J,"<3.8")/'Voice Quality Summary'!I$13 -> #DIV/0! | AP89: =COUNTIF(VQ_MOSData!K:K,"<3.8")/'Voice Quality Summary'!J$13 -> #DIV/0! | AQ89: =COUNTIF(VQ_MOSData!L:L,"<3.8")/'Voice Quality Summary'!K$13 -> 0.022222222 | AR89: =COUNTIF(VQ_MOSData!M:M,"<3.8")/'Voice Quality Summary'!L$13 -> #DIV/0! | AS89: =COUNTIF(VQ_MOSData!N:N,"<3.8")/'Voice Quality Summary'!M$13 -> 0.2247191 | AT89: =COUNTIF(VQ_MOSData!O:O,"<3.8")/'Voice Quality Summary'!N$13 -> #DIV/0!
AH90: <3.7 | AI90: =COUNTIF(VQ_MOSData!D:D,"<3.7")/'Voice Quality Summary'!C$13 -> #DIV/0! | AJ90: =COUNTIF(VQ_MOSData!E:E,"<3.7")/'Voice Quality Summary'!D$13 -> #DIV/0! | AK90: =COUNTIF(VQ_MOSData!F:F,"<3.7")/'Voice Quality Summary'!E$13 -> 0.011494253 | AL90: =COUNTIF(VQ_MOSData!G:G,"<3.7")/'Voice Quality Summary'!F$13 -> #DIV/0! | AM90: =COUNTIF(VQ_MOSData!H:H,"<3.7")/'Voice Quality Summary'!G$13 -> 0.090909091 | AN90: =COUNTIF(VQ_MOSData!I:I,"<3.7")/'Voice Quality Summary'!H$13 -> #DIV/0! | AO90: =COUNTIF(VQ_MOSData!J:J,"<3.7")/'Voice Quality Summary'!I$13 -> #DIV/0! | AP90: =COUNTIF(VQ_MOSData!K:K,"<3.7")/'Voice Quality Summary'!J$13 -> #DIV/0! | AQ90: =COUNTIF(VQ_MOSData!L:L,"<3.7")/'Voice Quality Summary'!K$13 -> 0.022222222 | AR90: =COUNTIF(VQ_MOSData!M:M,"<3.7")/'Voice Quality Summary'!L$13 -> #DIV/0! | AS90: =COUNTIF(VQ_MOSData!N:N,"<3.7")/'Voice Quality Summary'!M$13 -> 0.14606742 | AT90: =COUNTIF(VQ_MOSData!O:O,"<3.7")/'Voice Quality Summary'!N$13 -> #DIV/0!
AH91: <3.6 | AI91: =COUNTIF(VQ_MOSData!D:D,"<3.6")/'Voice Quality Summary'!C$13 -> #DIV/0! | AJ91: =COUNTIF(VQ_MOSData!E:E,"<3.6")/'Voice Quality Summary'!D$13 -> #DIV/0! | AK91: =COUNTIF(VQ_MOSData!F:F,"<3.6")/'Voice Quality Summary'!E$13 -> 0 | AL91: =COUNTIF(VQ_MOSData!G:G,"<3.6")/'Voice Quality Summary'!F$13 -> #DIV/0! | AM91: =COUNTIF(VQ_MOSData!H:H,"<3.6")/'Voice Quality Summary'!G$13 -> 0.068181818 | AN91: =COUNTIF(VQ_MOSData!I:I,"<3.6")/'Voice Quality Summary'!H$13 -> #DIV/0! | AO91: =COUNTIF(VQ_MOSData!J:J,"<3.6")/'Voice Quality Summary'!I$13 -> #DIV/0! | AP91: =COUNTIF(VQ_MOSData!K:K,"<3.6")/'Voice Quality Summary'!J$13 -> #DIV/0! | AQ91: =COUNTIF(VQ_MOSData!L:L,"<3.6")/'Voice Quality Summary'!K$13 -> 0.022222222 | AR91: =COUNTIF(VQ_MOSData!M:M,"<3.6")/'Voice Quality Summary'!L$13 -> #DIV/0! | AS91: =COUNTIF(VQ_MOSData!N:N,"<3.6")/'Voice Quality Summary'!M$13 -> 0.12359551 | AT91: =COUNTIF(VQ_MOSData!O:O,"<3.6")/'Voice Quality Summary'!N$13 -> #DIV/0!
AH92: <3.5 | AI92: =COUNTIF(VQ_MOSData!D:D,"<3.5")/'Voice Quality Summary'!C$13 -> #DIV/0! | AJ92: =COUNTIF(VQ_MOSData!E:E,"<3.5")/'Voice Quality Summary'!D$13 -> #DIV/0! | AK92: =COUNTIF(VQ_MOSData!F:F,"<3.5")/'Voice Quality Summary'!E$13 -> 0 | AL92: =COUNTIF(VQ_MOSData!G:G,"<3.5")/'Voice Quality Summary'!F$13 -> #DIV/0! | AM92: =COUNTIF(VQ_MOSData!H:H,"<3.5")/'Voice Quality Summary'!G$13 -> 0.056818182 | AN92: =COUNTIF(VQ_MOSData!I:I,"<3.5")/'Voice Quality Summary'!H$13 -> #DIV/0! | AO92: =COUNTIF(VQ_MOSData!J:J,"<3.5")/'Voice Quality Summary'!I$13 -> #DIV/0! | AP92: =COUNTIF(VQ_MOSData!K:K,"<3.5")/'Voice Quality Summary'!J$13 -> #DIV/0! | AQ92: =COUNTIF(VQ_MOSData!L:L,"<3.5")/'Voice Quality Summary'!K$13 -> 0.022222222 | AR92: =COUNTIF(VQ_MOSData!M:M,"<3.5")/'Voice Quality Summary'!L$13 -> #DIV/0! | AS92: =COUNTIF(VQ_MOSData!N:N,"<3.5")/'Voice Quality Summary'!M$13 -> 0.08988764 | AT92: =COUNTIF(VQ_MOSData!O:O,"<3.5")/'Voice Quality Summary'!N$13 -> #DIV/0!
AH93: <3.4 | AI93: =COUNTIF(VQ_MOSData!D:D,"<3.4")/'Voice Quality Summary'!C$13 -> #DIV/0! | AJ93: =COUNTIF(VQ_MOSData!E:E,"<3.4")/'Voice Quality Summary'!D$13 -> #DIV/0! | AK93: =COUNTIF(VQ_MOSData!F:F,"<3.4")/'Voice Quality Summary'!E$13 -> 0 | AL93: =COUNTIF(VQ_MOSData!G:G,"<3.4")/'Voice Quality Summary'!F$13 -> #DIV/0! | AM93: =COUNTIF(VQ_MOSData!H:H,"<3.4")/'Voice Quality Summary'!G$13 -> 0.045454545 | AN93: =COUNTIF(VQ_MOSData!I:I,"<3.4")/'Voice Quality Summary'!H$13 -> #DIV/0! | AO93: =COUNTIF(VQ_MOSData!J:J,"<3.4")/'Voice Quality Summary'!I$13 -> #DIV/0! | AP93: =COUNTIF(VQ_MOSData!K:K,"<3.4")/'Voice Quality Summary'!J$13 -> #DIV/0! | AQ93: =COUNTIF(VQ_MOSData!L:L,"<3.4")/'Voice Quality Summary'!K$13 -> 0.022222222 | AR93: =COUNTIF(VQ_MOSData!M:M,"<3.4")/'Voice Quality Summary'!L$13 -> #DIV/0! | AS93: =COUNTIF(VQ_MOSData!N:N,"<3.4")/'Voice Quality Summary'!M$13 -> 0.06741573 | AT93: =COUNTIF(VQ_MOSData!O:O,"<3.4")/'Voice Quality Summary'!N$13 -> #DIV/0!
AH94: <3.3 | AI94: =COUNTIF(VQ_MOSData!D:D,"<3.3")/'Voice Quality Summary'!C$13 -> #DIV/0! | AJ94: =COUNTIF(VQ_MOSData!E:E,"<3.3")/'Voice Quality Summary'!D$13 -> #DIV/0! | AK94: =COUNTIF(VQ_MOSData!F:F,"<3.3")/'Voice Quality Summary'!E$13 -> 0 | AL94: =COUNTIF(VQ_MOSData!G:G,"<3.3")/'Voice Quality Summary'!F$13 -> #DIV/0! | AM94: =COUNTIF(VQ_MOSData!H:H,"<3.3")/'Voice Quality Summary'!G$13 -> 0.045454545 | AN94: =COUNTIF(VQ_MOSData!I:I,"<3.3")/'Voice Quality Summary'!H$13 -> #DIV/0! | AO94: =COUNTIF(VQ_MOSData!J:J,"<3.3")/'Voice Quality Summary'!I$13 -> #DIV/0! | AP94: =COUNTIF(VQ_MOSData!K:K,"<3.3")/'Voice Quality Summary'!J$13 -> #DIV/0! | AQ94: =COUNTIF(VQ_MOSData!L:L,"<3.3")/'Voice Quality Summary'!K$13 -> 0.022222222 | AR94: =COUNTIF(VQ_MOSData!M:M,"<3.3")/'Voice Quality Summary'!L$13 -> #DIV/0! | AS94: =COUNTIF(VQ_MOSData!N:N,"<3.3")/'Voice Quality Summary'!M$13 -> 0.06741573 | AT94: =COUNTIF(VQ_MOSData!O:O,"<3.3")/'Voice Quality Summary'!N$13 -> #DIV/0!
AH95: <3.2 | AI95: =COUNTIF(VQ_MOSData!D:D,"<3.2")/'Voice Quality Summary'!C$13 -> #DIV/0! | AJ95: =COUNTIF(VQ_MOSData!E:E,"<3.2")/'Voice Quality Summary'!D$13 -> #DIV/0! | AK95: =COUNTIF(VQ_MOSData!F:F,"<3.2")/'Voice Quality Summary'!E$13 -> 0 | AL95: =COUNTIF(VQ_MOSData!G:G,"<3.2")/'Voice Quality Summary'!F$13 -> #DIV/0! | AM95: =COUNTIF(VQ_MOSData!H:H,"<3.2")/'Voice Quality Summary'!G$13 -> 0.022727273 | AN95: =COUNTIF(VQ_MOSData!I:I,"<3.2")/'Voice Quality Summary'!H$13 -> #DIV/0! | AO95: =COUNTIF(VQ_MOSData!J:J,"<3.2")/'Voice Quality Summary'!I$13 -> #DIV/0! | AP95: =COUNTIF(VQ_MOSData!K:K,"<3.2")/'Voice Quality Summary'!J$13 -> #DIV/0! | AQ95: =COUNTIF(VQ_MOSData!L:L,"<3.2")/'Voice Quality Summary'!K$13 -> 0.022222222 | AR95: =COUNTIF(VQ_MOSData!M:M,"<3.2")/'Voice Quality Summary'!L$13 -> #DIV/0! | AS95: =COUNTIF(VQ_MOSData!N:N,"<3.2")/'Voice Quality Summary'!M$13 -> 0.056179775 | AT95: =COUNTIF(VQ_MOSData!O:O,"<3.2")/'Voice Quality Summary'!N$13 -> #DIV/0!
AH96: <3.1 | AI96: =COUNTIF(VQ_MOSData!D:D,"<3.1")/'Voice Quality Summary'!C$13 -> #DIV/0! | AJ96: =COUNTIF(VQ_MOSData!E:E,"<3.1")/'Voice Quality Summary'!D$13 -> #DIV/0! | AK96: =COUNTIF(VQ_MOSData!F:F,"<3.1")/'Voice Quality Summary'!E$13 -> 0 | AL96: =COUNTIF(VQ_MOSData!G:G,"<3.1")/'Voice Quality Summary'!F$13 -> #DIV/0! | AM96: =COUNTIF(VQ_MOSData!H:H,"<3.1")/'Voice Quality Summary'!G$13 -> 0.022727273 | AN96: =COUNTIF(VQ_MOSData!I:I,"<3.1")/'Voice Quality Summary'!H$13 -> #DIV/0! | AO96: =COUNTIF(VQ_MOSData!J:J,"<3.1")/'Voice Quality Summary'!I$13 -> #DIV/0! | AP96: =COUNTIF(VQ_MOSData!K:K,"<3.1")/'Voice Quality Summary'!J$13 -> #DIV/0! | AQ96: =COUNTIF(VQ_MOSData!L:L,"<3.1")/'Voice Quality Summary'!K$13 -> 0.011111111 | AR96: =COUNTIF(VQ_MOSData!M:M,"<3.1")/'Voice Quality Summary'!L$13 -> #DIV/0! | AS96: =COUNTIF(VQ_MOSData!N:N,"<3.1")/'Voice Quality Summary'!M$13 -> 0.04494382 | AT96: =COUNTIF(VQ_MOSData!O:O,"<3.1")/'Voice Quality Summary'!N$13 -> #DIV/0!
AH97: <3.0 | AI97: =COUNTIF(VQ_MOSData!D:D,"<3.0")/'Voice Quality Summary'!C$13 -> #DIV/0! | AJ97: =COUNTIF(VQ_MOSData!E:E,"<3.0")/'Voice Quality Summary'!D$13 -> #DIV/0! | AK97: =COUNTIF(VQ_MOSData!F:F,"<3.0")/'Voice Quality Summary'!E$13 -> 0 | AL97: =COUNTIF(VQ_MOSData!G:G,"<3.0")/'Voice Quality Summary'!F$13 -> #DIV/0! | AM97: =COUNTIF(VQ_MOSData!H:H,"<3.0")/'Voice Quality Summary'!G$13 -> 0.011363636 | AN97: =COUNTIF(VQ_MOSData!I:I,"<3.0")/'Voice Quality Summary'!H$13 -> #DIV/0! | AO97: =COUNTIF(VQ_MOSData!J:J,"<3.0")/'Voice Quality Summary'!I$13 -> #DIV/0! | AP97: =COUNTIF(VQ_MOSData!K:K,"<3.0")/'Voice Quality Summary'!J$13 -> #DIV/0! | AQ97: =COUNTIF(VQ_MOSData!L:L,"<3.0")/'Voice Quality Summary'!K$13 -> 0.011111111 | AR97: =COUNTIF(VQ_MOSData!M:M,"<3.0")/'Voice Quality Summary'!L$13 -> #DIV/0! | AS97: =COUNTIF(VQ_MOSData!N:N,"<3.0")/'Voice Quality Summary'!M$13 -> 0.04494382 | AT97: =COUNTIF(VQ_MOSData!O:O,"<3.0")/'Voice Quality Summary'!N$13 -> #DIV/0!
AH98: <2.9 | AI98: =COUNTIF(VQ_MOSData!D:D,"<2.9")/'Voice Quality Summary'!C$13 -> #DIV/0! | AJ98: =COUNTIF(VQ_MOSData!E:E,"<2.9")/'Voice Quality Summary'!D$13 -> #DIV/0! | AK98: =COUNTIF(VQ_MOSData!F:F,"<2.9")/'Voice Quality Summary'!E$13 -> 0 | AL98: =COUNTIF(VQ_MOSData!G:G,"<2.9")/'Voice Quality Summary'!F$13 -> #DIV/0! | AM98: =COUNTIF(VQ_MOSData!H:H,"<2.9")/'Voice Quality Summary'!G$13 -> 0.011363636 | AN98: =COUNTIF(VQ_MOSData!I:I,"<2.9")/'Voice Quality Summary'!H$13 -> #DIV/0! | AO98: =COUNTIF(VQ_MOSData!J:J,"<2.9")/'Voice Quality Summary'!I$13 -> #DIV/0! | AP98: =COUNTIF(VQ_MOSData!K:K,"<2.9")/'Voice Quality Summary'!J$13 -> #DIV/0! | AQ98: =COUNTIF(VQ_MOSData!L:L,"<2.9")/'Voice Quality Summary'!K$13 -> 0.011111111 | AR98: =COUNTIF(VQ_MOSData!M:M,"<2.9")/'Voice Quality Summary'!L$13 -> #DIV/0! | AS98: =COUNTIF(VQ_MOSData!N:N,"<2.9")/'Voice Quality Summary'!M$13 -> 0.033707865 | AT98: =COUNTIF(VQ_MOSData!O:O,"<2.9")/'Voice Quality Summary'!N$13 -> #DIV/0!
AH99: <2.8 | AI99: =COUNTIF(VQ_MOSData!D:D,"<2.8")/'Voice Quality Summary'!C$13 -> #DIV/0! | AJ99: =COUNTIF(VQ_MOSData!E:E,"<2.8")/'Voice Quality Summary'!D$13 -> #DIV/0! | AK99: =COUNTIF(VQ_MOSData!F:F,"<2.8")/'Voice Quality Summary'!E$13 -> 0 | AL99: =COUNTIF(VQ_MOSData!G:G,"<2.8")/'Voice Quality Summary'!F$13 -> #DIV/0! | AM99: =COUNTIF(VQ_MOSData!H:H,"<2.8")/'Voice Quality Summary'!G$13 -> 0.011363636 | AN99: =COUNTIF(VQ_MOSData!I:I,"<2.8")/'Voice Quality Summary'!H$13 -> #DIV/0! | AO99: =COUNTIF(VQ_MOSData!J:J,"<2.8")/'Voice Quality Summary'!I$13 -> #DIV/0! | AP99: =COUNTIF(VQ_MOSData!K:K,"<2.8")/'Voice Quality Summary'!J$13 -> #DIV/0! | AQ99: =COUNTIF(VQ_MOSData!L:L,"<2.8")/'Voice Quality Summary'!K$13 -> 0.011111111 | AR99: =COUNTIF(VQ_MOSData!M:M,"<2.8")/'Voice Quality Summary'!L$13 -> #DIV/0! | AS99: =COUNTIF(VQ_MOSData!N:N,"<2.8")/'Voice Quality Summary'!M$13 -> 0.02247191 | AT99: =COUNTIF(VQ_MOSData!O:O,"<2.8")/'Voice Quality Summary'!N$13 -> #DIV/0!
AH100: <2.7 | AI100: =COUNTIF(VQ_MOSData!D:D,"<2.7")/'Voice Quality Summary'!C$13 -> #DIV/0! | AJ100: =COUNTIF(VQ_MOSData!E:E,"<2.7")/'Voice Quality Summary'!D$13 -> #DIV/0! | AK100: =COUNTIF(VQ_MOSData!F:F,"<2.7")/'Voice Quality Summary'!E$13 -> 0 | AL100: =COUNTIF(VQ_MOSData!G:G,"<2.7")/'Voice Quality Summary'!F$13 -> #DIV/0! | AM100: =COUNTIF(VQ_MOSData!H:H,"<2.7")/'Voice Quality Summary'!G$13 -> 0.011363636 | AN100: =COUNTIF(VQ_MOSData!I:I,"<2.7")/'Voice Quality Summary'!H$13 -> #DIV/0! | AO100: =COUNTIF(VQ_MOSData!J:J,"<2.7")/'Voice Quality Summary'!I$13 -> #DIV/0! | AP100: =COUNTIF(VQ_MOSData!K:K,"<2.7")/'Voice Quality Summary'!J$13 -> #DIV/0! | AQ100: =COUNTIF(VQ_MOSData!L:L,"<2.7")/'Voice Quality Summary'!K$13 -> 0.011111111 | AR100: =COUNTIF(VQ_MOSData!M:M,"<2.7")/'Voice Quality Summary'!L$13 -> #DIV/0! | AS100: =COUNTIF(VQ_MOSData!N:N,"<2.7")/'Voice Quality Summary'!M$13 -> 0.02247191 | AT100: =COUNTIF(VQ_MOSData!O:O,"<2.7")/'Voice Quality Summary'!N$13 -> #DIV/0!
AH101: <2.6 | AI101: =COUNTIF(VQ_MOSData!D:D,"<2.6")/'Voice Quality Summary'!C$13 -> #DIV/0! | AJ101: =COUNTIF(VQ_MOSData!E:E,"<2.6")/'Voice Quality Summary'!D$13 -> #DIV/0! | AK101: =COUNTIF(VQ_MOSData!F:F,"<2.6")/'Voice Quality Summary'!E$13 -> 0 | AL101: =COUNTIF(VQ_MOSData!G:G,"<2.6")/'Voice Quality Summary'!F$13 -> #DIV/0! | AM101: =COUNTIF(VQ_MOSData!H:H,"<2.6")/'Voice Quality Summary'!G$13 -> 0.011363636 | AN101: =COUNTIF(VQ_MOSData!I:I,"<2.6")/'Voice Quality Summary'!H$13 -> #DIV/0! | AO101: =COUNTIF(VQ_MOSData!J:J,"<2.6")/'Voice Quality Summary'!I$13 -> #DIV/0! | AP101: =COUNTIF(VQ_MOSData!K:K,"<2.6")/'Voice Quality Summary'!J$13 -> #DIV/0! | AQ101: =COUNTIF(VQ_MOSData!L:L,"<2.6")/'Voice Quality Summary'!K$13 -> 0.011111111 | AR101: =COUNTIF(VQ_MOSData!M:M,"<2.6")/'Voice Quality Summary'!L$13 -> #DIV/0! | AS101: =COUNTIF(VQ_MOSData!N:N,"<2.6")/'Voice Quality Summary'!M$13 -> 0.02247191 | AT101: =COUNTIF(VQ_MOSData!O:O,"<2.6")/'Voice Quality Summary'!N$13 -> #DIV/0!
...

Sheet Delay Performance Summary
A1: Delay Performance Summary
C8: =CONCATENATE("Channel ",'Delay Measurements'!G1," to Channel ",'Delay Measurements'!H1) -> Channel 3 to Channel 4 | D8: =CONCATENATE("Channel ",'Delay Measurements'!H1," to Channel ",'Delay Measurements'!G1) -> Channel 4 to Channel 3
B9: Average Delay Start to End (s) | C9: =IFERROR(AVERAGEIF('Delay Measurements'!G2:G10000,">0"),0) -> 0 | D9: =IFERROR(AVERAGEIF('Delay Measurements'!H2:H10000,">0"),0) -> 0
B10: Delay Standard Deviation | C10: =IFERROR(STDEV('Delay Measurements'!G2:G10000),0) -> 0 | D10: =IFERROR(STDEV('Delay Measurements'!H2:H10000),0) -> 0
B11: Total # of Measurements | C11: =COUNT('Delay Measurements'!G2:G10000) -> 0 | D11: =COUNT('Delay Measurements'!H2:H10000) -> 0
B12: Minimum Delay (s) | C12: =MIN('Delay Measurements'!G2:G10000) -> 0 | D12: =MIN('Delay Measurements'!H2:H10000) -> 0
B13: Median Delay (s) | C13: =IFERROR(MEDIAN('Delay Measurements'!G2:G10000),0) -> 0 | D13: =IFERROR(MEDIAN('Delay Measurements'!H2:H10000),0) -> 0
B14: Maximum Delay (s) | C14: =MAX('Delay Measurements'!G2:G10000) -> 0 | D14: =MAX('Delay Measurements'!H2:H10000) -> 0
G43: S1 | H43: 1
G44: S2 | H44: 2
F46: =1 -> 1 | G46: <1 | H46: =COUNTIF('Delay Measurements'!G:G,"<"&F46)/'Delay Performance Summary'!$C$11 -> #DIV/0! | I46: =COUNTIF('Delay Measurements'!H:H,"<"&F46)/'Delay Performance Summary'!$D$11 -> #DIV/0!
F47: =F46-0.05 -> 0.95 | G47: <0.950 | H47: =COUNTIF('Delay Measurements'!G:G,"<"&F47)/'Delay Performance Summary'!$C$11 -> #DIV/0! | I47: =COUNTIF('Delay Measurements'!H:H,"<"&F47)/'Delay Performance Summary'!$D$11 -> #DIV/0!
F48: =F47-0.05 -> 0.9 | G48: <0.900 | H48: =COUNTIF('Delay Measurements'!G:G,"<"&F48)/'Delay Performance Summary'!$C$11 -> #DIV/0! | I48: =COUNTIF('Delay Measurements'!H:H,"<"&F48)/'Delay Performance Summary'!$D$11 -> #DIV/0!
F49: =F48-0.05 -> 0.85 | G49: <0.850 | H49: =COUNTIF('Delay Measurements'!G:G,"<"&F49)/'Delay Performance Summary'!$C$11 -> #DIV/0! | I49: =COUNTIF('Delay Measurements'!H:H,"<"&F49)/'Delay Performance Summary'!$D$11 -> #DIV/0!
F50: =F49-0.05 -> 0.8 | G50: <0.800 | H50: =COUNTIF('Delay Measurements'!G:G,"<"&F50)/'Delay Performance Summary'!$C$11 -> #DIV/0! | I50: =COUNTIF('Delay Measurements'!H:H,"<"&F50)/'Delay Performance Summary'!$D$11 -> #DIV/0!
F51: =F50-0.05 -> 0.75 | G51: <0.750 | H51: =COUNTIF('Delay Measurements'!G:G,"<"&F51)/'Delay Performance Summary'!$C$11 -> #DIV/0! | I51: =COUNTIF('Delay Measurements'!H:H,"<"&F51)/'Delay Performance Summary'!$D$11 -> #DIV/0!
F52: =F51-0.05 -> 0.7 | G52: <0.700 | H52: =COUNTIF('Delay Measurements'!G:G,"<"&F52)/'Delay Performance Summary'!$C$11 -> #DIV/0! | I52: =COUNTIF('Delay Measurements'!H:H,"<"&F52)/'Delay Performance Summary'!$D$11 -> #DIV/0!
F53: =F52-0.05 -> 0.65 | G53: <0.650 | H53: =COUNTIF('Delay Measurements'!G:G,"<"&F53)/'Delay Performance Summary'!$C$11 -> #DIV/0! | I53: =COUNTIF('Delay Measurements'!H:H,"<"&F53)/'Delay Performance Summary'!$D$11 -> #DIV/0!
F54: =F53-0.05 -> 0.6 | G54: <0.600 | H54: =COUNTIF('Delay Measurements'!G:G,"<"&F54)/'Delay Performance Summary'!$C$11 -> #DIV/0! | I54: =COUNTIF('Delay Measurements'!H:H,"<"&F54)/'Delay Performance Summary'!$D$11 -> #DIV/0!
F55: =F54-0.05 -> 0.55 | G55: <0.550 | H55: =COUNTIF('Delay Measurements'!G:G,"<"&F55)/'Delay Performance Summary'!$C$11 -> #DIV/0! | I55: =COUNTIF('Delay Measurements'!H:H,"<"&F55)/'Delay Performance Summary'!$D$11 -> #DIV/0!
F56: =F55-0.05 -> 0.5 | G56: <0.500 | H56: =COUNTIF('Delay Measurements'!G:G,"<"&F56)/'Delay Performance Summary'!$C$11 -> #DIV/0! | I56: =COUNTIF('Delay Measurements'!H:H,"<"&F56)/'Delay Performance Summary'!$D$11 -> #DIV/0!
F57: =F56-0.05 -> 0.45 | G57: <0.450 | H57: =COUNTIF('Delay Measurements'!G:G,"<"&F57)/'Delay Performance Summary'!$C$11 -> #DIV/0! | I57: =COUNTIF('Delay Measurements'!H:H,"<"&F57)/'Delay Performance Summary'!$D$11 -> #DIV/0!
F58: =F57-0.05 -> 0.4 | G58: <0.400 | H58: =COUNTIF('Delay Measurements'!G:G,"<"&F58)/'Delay Performance Summary'!$C$11 -> #DIV/0! | I58: =COUNTIF('Delay Measurements'!H:H,"<"&F58)/'Delay Performance Summary'!$D$11 -> #DIV/0!
... F65: =F64-0.05 -> 0.05 | G65: <0.05 | H65: =COUNTIF('Delay Measurements'!G:G,"<"&F65)/'Delay Performance Summary'!$C$11 -> #DIV/0! | I65: =COUNTIF('Delay Measurements'!H:H,"<"&F65)/'Delay Performance Summary'!$D$11 -> #DIV/0!
G67: 0.950-1 | H67: =(H46-H47) -> #DIV/0! | I67: =(I46-I47) -> #DIV/0!
G68: 0.900-0.950 | H68: =(H47-H48) -> #DIV/0! | I68: =(I47-I48) -> #DIV/0!
G69: 0.850-0.900 | H69: =(H48-H49) -> #DIV/0! | I69: =(I48-I49) -> #DIV/0!
G70: 0.800-0.850 | H70: =(H49-H50) -> #DIV/0! | I70: =(I49-I50) -> #DIV/0!
G71: 0.750-0.800 | H71: =(H50-H51) -> #DIV/0! | I71: =(I50-I51) -> #DIV/0!
G72: 0.700-0.750 | H72: =(H51-H52) -> #DIV/0! | I72: =(I51-I52) -> #DIV/0!
G73: 0.650-0.700 | H73: =(H52-H53) -> #DIV/0! | I73: =(I52-I53) -> #DIV/0!
G74: 0.600-0.650 | H74: =(H53-H54) -> #DIV/0! | I74: =(I53-I54) -> #DIV/0!
G75: 0.550-0.600 | H75: =(H54-H55) -> #DIV/0! | I75: =(I54-I55) -> #DIV/0!
G76: 0.500-0.550 | H76: =(H55-H56) -> #DIV/0! | I76: =(I55-I56) -> #DIV/0!
G77: 0.450-0.500 | H77: =(H56-H57) -> #DIV/0! | I77: =(I56-I57) -> #DIV/0!
G78: 0.400-0.450 | H78: =(H57-H58) -> #DIV/0! | I78: =(I57-I58) -> #DIV/0!
... G86: 0-0.05 | H86: =(H65-H66) -> #DIV/0! | I86: =(I65-I66) -> #DIV/0!

Sheet Call Performance Summary
A1: Call Performance Summary | N1: Call Performance Summary(Remote)
G10: Call Initiation Performance | I10: Call Retention Performance | T10: Call Initiation Performance | V10: Call Retention Performance
B11: Device Tested | C11: Hardware Identifier | D11: Connection Attempts | E11: Mean Setup Time (s) | F11: Total Call Duration (s) | G11: Successful Initiations | H11: Failed Initiations | I11: Successful Calls | J11: Dropped Calls | O11: Device Tested | P11: Hardware Identifier | Q11: Connection Attempts | R11: Mean Setup Time (s) | S11: Total Call Duration (s) | T11: Successful Initiations | U11: Failed Initiations | V11: Successful Calls | W11: Dropped Calls
D12: 0 | E12: 0 | F12: 0 | G12: 0 | H12: 0 | I12: 0 | J12: 0 | Q12: 0 | R12: 0 | S12: 0 | T12: 0 | U12: 0 | V12: 0 | W12: 0
D13: 0 | E13: 0 | F13: 0 | G13: 0 | H13: 0 | I13: 0 | J13: 0 | Q13: 0 | R13: 0 | S13: 0 | T13: 0 | U13: 0 | V13: 0 | W13: 0
D14: 0 | E14: 0 | F14: 0 | G14: 0 | H14: 0 | I14: 0 | J14: 0 | Q14: 0 | R14: 0 | S14: 0 | T14: 0 | U14: 0 | V14: 0 | W14: 0
D15: 0 | E15: 0 | F15: 0 | G15: 0 | H15: 0 | I15: 0 | J15: 0 | Q15: 0 | R15: 0 | S15: 0 | T15: 0 | U15: 0 | V15: 0 | W15: 0
D16: 0 | E16: 0 | F16: 0 | G16: 0 | H16: 0 | I16: 0 | J16: 0 | Q16: 0 | R16: 0 | S16: 0 | T16: 0 | U16: 0 | V16: 0 | W16: 0
D17: 0 | E17: 0 | F17: 0 | G17: 0 | H17: 0 | I17: 0 | J17: 0 | Q17: 0 | R17: 0 | S17: 0 | T17: 0 | U17: 0 | V17: 0 | W17: 0
A55: Terminology | N55: Terminology
A56: Successful Initiation - A successfully established call. | N56: Successful Initiation - A successfully established call.
A57: Failed Initiation - Any call not successfully established. The Call Initiation report presents Failed Initiations by outcome. | N57: Failed Initiation - Any call not successfully established. The Call Initiation report presents Failed Initiations by outcome.
A58: Successful Call - A call that is successfully established and which lasts for the expected duration | N58: Successful Call - A call that is successfully established and which lasts for the expected duration
A59: Dropped Call - A call that is successfully established but which ends before the duration has elapsed. | N59: Dropped Call - A call that is successfully established but which ends before the duration has elapsed.
A60: The red line on each chart bar indicates the 90% Confidence Interval. This allows us to report, with 90% confidence that the event rate for a | N60: The red line on each chart bar indicates the 90% Confidence Interval. This allows us to report, with 90% confidence that the event rate for a
A61: given device will fall within the calculated range above and below the measured value. | N61: given device will fall within the calculated range above and below the measured value.

Sheet Call Initiation
A1: Call Initiation Performance | P1: Call Initiation Performance(Remote)
G7: Initiation Failures | V7: Initiation Failures
B8: Test Device | C8: Hardware Identifier | D8: Mean Setup Time (s) | E8: Connection Attempts | F8: Successful Initiations | G8: Failed Attempts | H8: No Service | I8: Access Timeout | J8: Voicemail | K8: Busy | L8: Fast Busy | Q8: Test Device | R8: Hardware Identifier | S8: Mean Setup Time (s) | T8: Connection Attempts | U8: Successful Initiations | V8: Failed Attempts | W8: No Service | X8: Access Timeout | Y8: Voicemail | Z8: Busy | AA8: Fast Busy
B9: ='Call Performance Summary'!B12 -> 0 | C9: ='Call Performance Summary'!C12 -> 0 | D9: ='Call Performance Summary'!E12 -> 0 | E9: ='Call Performance Summary'!D12 -> 0 | F9: ='Call Performance Summary'!G12 -> 0 | G9: 0 | H9: 0 | I9: 0 | J9: 0 | K9: 0 | L9: 0 | Q9: ='Call Performance Summary'!O12 -> 0 | R9: ='Call Performance Summary'!P12 -> 0 | S9: ='Call Performance Summary'!R12 -> 0 | T9: ='Call Performance Summary'!Q12 -> 0 | U9: ='Call Performance Summary'!T12 -> 0 | V9: 0 | W9: 0 | X9: 0 | Y9: 0 | Z9: 0 | AA9: 0
B10: ='Call Performance Summary'!B13 -> 0 | C10: ='Call Performance Summary'!C13 -> 0 | D10: ='Call Performance Summary'!E13 -> 0 | E10: ='Call Performance Summary'!D13 -> 0 | F10: ='Call Performance Summary'!G13 -> 0 | G10: 0 | H10: 0 | I10: 0 | J10: 0 | K10: 0 | L10: 0 | Q10: ='Call Performance Summary'!O13 -> 0 | R10: ='Call Performance Summary'!P13 -> 0 | S10: ='Call Performance Summary'!R13 -> 0 | T10: ='Call Performance Summary'!Q13 -> 0 | U10: ='Call Performance Summary'!T13 -> 0 | V10: 0 | W10: 0 | X10: 0 | Y10: 0 | Z10: 0 | AA10: 0
B11: ='Call Performance Summary'!B14 -> 0 | C11: ='Call Performance Summary'!C14 -> 0 | D11: ='Call Performance Summary'!E14 -> 0 | E11: ='Call Performance Summary'!D14 -> 0 | F11: ='Call Performance Summary'!G14 -> 0 | G11: 0 | H11: 0 | I11: 0 | J11: 0 | K11: 0 | L11: 0 | Q11: ='Call Performance Summary'!O14 -> 0 | R11: ='Call Performance Summary'!P14 -> 0 | S11: ='Call Performance Summary'!R14 -> 0 | T11: ='Call Performance Summary'!Q14 -> 0 | U11: ='Call Performance Summary'!T14 -> 0 | V11: 0 | W11: 0 | X11: 0 | Y11: 0 | Z11: 0 | AA11: 0
B12: ='Call Performance Summary'!B15 -> 0 | C12: ='Call Performance Summary'!C15 -> 0 | D12: ='Call Performance Summary'!E15 -> 0 | E12: ='Call Performance Summary'!D15 -> 0 | F12: ='Call Performance Summary'!G15 -> 0 | G12: 0 | H12: 0 | I12: 0 | J12: 0 | K12: 0 | L12: 0 | Q12: ='Call Performance Summary'!O15 -> 0 | R12: ='Call Performance Summary'!P15 -> 0 | S12: ='Call Performance Summary'!R15 -> 0 | T12: ='Call Performance Summary'!Q15 -> 0 | U12: ='Call Performance Summary'!T15 -> 0 | V12: 0 | W12: 0 | X12: 0 | Y12: 0 | Z12: 0 | AA12: 0
B13: ='Call Performance Summary'!B16 -> 0 | C13: ='Call Performance Summary'!C16 -> 0 | D13: ='Call Performance Summary'!E16 -> 0 | E13: ='Call Performance Summary'!D16 -> 0 | F13: ='Call Performance Summary'!G16 -> 0 | G13: 0 | H13: 0 | I13: 0 | J13: 0 | K13: 0 | L13: 0 | Q13: ='Call Performance Summary'!O16 -> 0 | R13: ='Call Performance Summary'!P16 -> 0 | S13: ='Call Performance Summary'!R16 -> 0 | T13: ='Call Performance Summary'!Q16 -> 0 | U13: ='Call Performance Summary'!T16 -> 0 | V13: 0 | W13: 0 | X13: 0 | Y13: 0 | Z13: 0 | AA13: 0
B14: ='Call Performance Summary'!B17 -> 0 | C14: ='Call Performance Summary'!C17 -> 0 | D14: ='Call Performance Summary'!E17 -> 0 | E14: ='Call Performance Summary'!D17 -> 0 | F14: ='Call Performance Summary'!G17 -> 0 | G14: 0 | H14: 0 | I14: 0 | J14: 0 | K14: 0 | L14: 0 | Q14: ='Call Performance Summary'!O17 -> 0 | R14: ='Call Performance Summary'!P17 -> 0 | S14: ='Call Performance Summary'!R17 -> 0 | T14: ='Call Performance Summary'!Q17 -> 0 | U14: ='Call Performance Summary'!T17 -> 0 | V14: 0 | W14: 0 | X14: 0 | Y14: 0 | Z14: 0 | AA14: 0
A53: Terminology | P53: Terminology
A54: Failed Attempt - A MO call was placed and an outgoing call was established followed by the phone's return to the call placement state. | P54: Failed Attempt - A MO call was placed and an outgoing call was established followed by the phone's return to the call placement state.
A55: No Service - There was no service available when the call was attempted. | P55: No Service - There was no service available when the call was attempted.
A56: Access Timeout - A MO call was placed but no state change before Access Timeout *or* MT connection did not take place before Access Timeout. | P56: Access Timeout - A MO call was placed but no state change before Access Timeout *or* MT connection did not take place before Access Timeout.
A57: Voicemail - A MT call was placed and the nonstandard voicemail response was received from the mobile. | P57: Voicemail - A MT call was placed and the nonstandard voicemail response was received from the mobile.
A58: Busy - A MT call was placed and the nonstandard busy response was received from the mobile. | P58: Busy - A MT call was placed and the nonstandard busy response was received from the mobile.
A59: Fast Busy - A MT call was placed and the nonstandard fast busy response was received from the mobile. | P59: Fast Busy - A MT call was placed and the nonstandard fast busy response was received from the mobile.

Sheet Call Retention
A1: Call Retention Performance | L1: Call Retention Performance(Remote)
B7: Test Device | C7: Hardware Identifier | D7: Connection Attempts | E7: Successful Initiations | F7: Dropped Calls | G7: Dropped Call Rate (%) | H7: Confidence Interval | M7: Test Device | N7: Hardware Identifier | O7: Connection Attempts | P7: Successful Initiations | Q7: Dropped Calls | R7: Dropped Call Rate (%) | S7: Confidence Interval
B8: ='Call Performance Summary'!B12 -> 0 | C8: ='Call Performance Summary'!C12 -> 0 | D8: ='Call Performance Summary'!D12 -> 0 | E8: ='Call Performance Summary'!D12*'Call Performance Summary'!G12 -> 0 | F8: =E8*'Call Performance Summary'!J12 -> 0 | G8: =IF(E8>0,F8/E8,0) -> 0 | H8: =CP_Calculations!H26 -> 0 | M8: ='Call Performance Summary'!O12 -> 0 | N8: ='Call Performance Summary'!P12 -> 0 | O8: ='Call Performance Summary'!Q12 -> 0 | P8: ='Call Performance Summary'!Q12*'Call Performance Summary'!T12 -> 0 | Q8: =P8*'Call Performance Summary'!W12 -> 0 | R8: =IF(P8>0,Q8/P8,0) -> 0 | S8: =CP_Calculations!P26 -> 0
B9: ='Call Performance Summary'!B13 -> 0 | C9: ='Call Performance Summary'!C13 -> 0 | D9: ='Call Performance Summary'!D13 -> 0 | E9: ='Call Performance Summary'!D13*'Call Performance Summary'!G13 -> 0 | F9: =E9*'Call Performance Summary'!J13 -> 0 | G9: =IF(E9>0,F9/E9,0) -> 0 | H9: =CP_Calculations!H27 -> 0 | M9: ='Call Performance Summary'!O13 -> 0 | N9: ='Call Performance Summary'!P13 -> 0 | O9: ='Call Performance Summary'!Q13 -> 0 | P9: ='Call Performance Summary'!Q13*'Call Performance Summary'!T13 -> 0 | Q9: =P9*'Call Performance Summary'!W13 -> 0 | R9: =IF(P9>0,Q9/P9,0) -> 0 | S9: =CP_Calculations!P27 -> 0
B10: ='Call Performance Summary'!B14 -> 0 | C10: ='Call Performance Summary'!C14 -> 0 | D10: ='Call Performance Summary'!D14 -> 0 | E10: ='Call Performance Summary'!D14*'Call Performance Summary'!G14 -> 0 | F10: =E10*'Call Performance Summary'!J14 -> 0 | G10: =IF(E10>0,F10/E10,0) -> 0 | H10: =CP_Calculations!H28 -> 0 | M10: ='Call Performance Summary'!O14 -> 0 | N10: ='Call Performance Summary'!P14 -> 0 | O10: ='Call Performance Summary'!Q14 -> 0 | P10: ='Call Performance Summary'!Q14*'Call Performance Summary'!T14 -> 0 | Q10: =P10*'Call Performance Summary'!W14 -> 0 | R10: =IF(P10>0,Q10/P10,0) -> 0 | S10: =CP_Calculations!P28 -> 0
B11: ='Call Performance Summary'!B15 -> 0 | C11: ='Call Performance Summary'!C15 -> 0 | D11: ='Call Performance Summary'!D15 -> 0 | E11: ='Call Performance Summary'!D15*'Call Performance Summary'!G15 -> 0 | F11: =E11*'Call Performance Summary'!J15 -> 0 | G11: =IF(E11>0,F11/E11,0) -> 0 | H11: =CP_Calculations!H29 -> 0 | M11: ='Call Performance Summary'!O15 -> 0 | N11: ='Call Performance Summary'!P15 -> 0 | O11: ='Call Performance Summary'!Q15 -> 0 | P11: ='Call Performance Summary'!Q15*'Call Performance Summary'!T15 -> 0 | Q11: =P11*'Call Performance Summary'!W15 -> 0 | R11: =IF(P11>0,Q11/P11,0) -> 0 | S11: =CP_Calculations!P29 -> 0
B12: ='Call Performance Summary'!B16 -> 0 | C12: ='Call Performance Summary'!C16 -> 0 | D12: ='Call Performance Summary'!D16 -> 0 | E12: ='Call Performance Summary'!D16*'Call Performance Summary'!G16 -> 0 | F12: =E12*'Call Performance Summary'!J16 -> 0 | G12: =IF(E12>0,F12/E12,0) -> 0 | H12: =CP_Calculations!H30 -> 0 | M12: ='Call Performance Summary'!O16 -> 0 | N12: ='Call Performance Summary'!P16 -> 0 | O12: ='Call Performance Summary'!Q16 -> 0 | P12: ='Call Performance Summary'!Q16*'Call Performance Summary'!T16 -> 0 | Q12: =P12*'Call Performance Summary'!W16 -> 0 | R12: =IF(P12>0,Q12/P12,0) -> 0 | S12: =CP_Calculations!P30 -> 0
B13: ='Call Performance Summary'!B17 -> 0 | C13: ='Call Performance Summary'!C17 -> 0 | D13: ='Call Performance Summary'!D17 -> 0 | E13: ='Call Performance Summary'!D17*'Call Performance Summary'!G17 -> 0 | F13: =E13*'Call Performance Summary'!J17 -> 0 | G13: =IF(E13>0,F13/E13,0) -> 0 | H13: =CP_Calculations!H31 -> 0 | M13: ='Call Performance Summary'!O17 -> 0 | N13: ='Call Performance Summary'!P17 -> 0 | O13: ='Call Performance Summary'!Q17 -> 0 | P13: ='Call Performance Summary'!Q17*'Call Performance Summary'!T17 -> 0 | Q13: =P13*'Call Performance Summary'!W17 -> 0 | R13: =IF(P13>0,Q13/P13,0) -> 0 | S13: =CP_Calculations!P31 -> 0
A36: Terminology | L36: Terminology
A37: Dropped Call - A call that is successfully established but which ends before the duration has elapsed. | L37: Dropped Call - A call that is successfully established but which ends before the duration has elapsed.
A38: Dropped Call Rate - The percent of all successful initiations which result in a dropped call. | L38: Dropped Call Rate - The percent of all successful initiations which result in a dropped call.
A39: Confidence Interval = +/- z(a) * s(p) = 1.645 * s(p) where | L39: Confidence Interval = +/- z(a) * s(p) = 1.645 * s(p) where
B42: n = connection attempts | E42: s(p) = SQRT[ (p(1 - p) / (n - 1) ] | M42: n = connection attempts | P42: s(p) = SQRT[ (p(1 - p) / (n - 1) ]
B43: p = percentage of drops | E43: z(a) = z(90th percentile) = 1.645 | M43: p = percentage of drops | P43: z(a) = z(90th percentile) = 1.645

Sheet Audio Verification
A1: Audio Verification Performance
B7: Test Device | C7: Hardware Identifier | D7: Verification Attempts | E7: Passed Audio Verification Count | F7: Failed Audio Verification Count | G7: Failed Audio Verification (%) | H7: Confidence Interval
B8: ='Call Performance Summary'!B12 -> 0 | C8: ='Call Performance Summary'!C12 -> 0 | D8: 0 | E8: 0 | F8: 0 | G8: 0 | H8: 0
B9: ='Call Performance Summary'!B13 -> 0 | C9: ='Call Performance Summary'!C13 -> 0 | D9: 0 | E9: 0 | F9: 0 | G9: 0 | H9: 0
B10: ='Call Performance Summary'!B14 -> 0 | C10: ='Call Performance Summary'!C14 -> 0 | D10: 0 | E10: 0 | F10: 0 | G10: 0 | H10: 0
B11: ='Call Performance Summary'!B15 -> 0 | C11: ='Call Performance Summary'!C15 -> 0 | D11: 0 | E11: 0 | F11: 0 | G11: 0 | H11: 0
B12: ='Call Performance Summary'!B16 -> 0 | C12: ='Call Performance Summary'!C16 -> 0 | D12: 0 | E12: 0 | F12: 0 | G12: 0 | H12: 0
B13: ='Call Performance Summary'!B17 -> 0 | C13: ='Call Performance Summary'!C17 -> 0 | D13: 0 | E13: 0 | F13: 0 | G13: 0 | H13: 0
A35: Terminology
A36: Passed Audio Verification Count - A count of calls where the presence of audio was detected successfully
A37: Failed Audio Verification Count - A count of calls where the presence of audio was not detected successfully
A38: Confidence Interval = +/- z(a) * s(p) = 1.282 * s(p) where
B41: n = connection attempts | E41: s(p) = SQRT[ (p(1 - p) / (n - 1) ]
B42: p = percentage of failed audio verification calls | E42: z(a) = z(90th percentile) = 1.645

Sheet Device Performance
A1: Device Performance | N1: Device Performance(Remote)
G7: Signal Strength Performance* | I7: Battery Performance** | T7: Signal Strength Performance* | V7: Battery Performance**
B8: Test Device | C8: Hardware Identifier | D8: # Physical Link Errors | E8: # Logical Device Errors | F8: # BC Errors | G8: # Signal Strength Reports | H8: Mean Signal Strength | I8: # Battery Reports | J8: Mean Battery Level | O8: Test Device | P8: Hardware Identifier | Q8: # Physical Link Errors | R8: # Logical Device Errors | S8: # BC Errors | T8: # Signal Strength Reports | U8: Mean Signal Strength | V8: # Battery Reports | W8: Mean Battery Level
B9: ='Call Performance Summary'!B12 -> 0 | C9: ='Call Performance Summary'!C12 -> 0 | D9: 0 | E9: 0 | F9: 0 | G9: 0 | H9: 0 | I9: 0 | J9: 0 | O9: ='Call Performance Summary'!O12 -> 0 | P9: ='Call Performance Summary'!P12 -> 0 | Q9: 0 | R9: 0 | S9: 0 | T9: 0 | U9: 0 | V9: 0 | W9: 0
