Workbook
Name Source1: 'Delay Performance Summary'!$H$43
Name Source2: 'Delay Performance Summary'!$H$44

Sheet Device Overview
A1: Device Overview and Report Index | L1: Device Overview and Report Index(Remote)
C10: Channel 1 | D10: Channel 2 | E10: Channel 3 | F10: Channel 4 | G10: Channel 5 | H10: Channel 6 | N10: Channel 1 | O10: Channel 2 | P10: Channel 3 | Q10: Channel 4 | R10: Channel 5 | S10: Channel 6
B11: Make | M11: Make
B12: Model | M12: Model
B13: Role | M13: Role
B14: Hardware Identifier | M14: Hardware Identifier
B15: Adapter | M15: Adapter
B16: Number to Dial | M16: Number to Dial
B17: Number Dialing From | M17: Number Dialing From
B18: End Input Level | C18: 0 | D18: 0 | E18: 220 | F18: 220 | G18: 180 | H18: 180 | M18: End Input Level
B19: End Output Level | C19: 165 | D19: 165 | E19: 165 | F19: 165 | G19: 165 | H19: 165 | M19: End Output Level
B22: Click any report Name below to view the report: | M22: Click any report Name below to view the report:
B24: Name | D24: Test Type | G24: Description | M24: Name | O24: Test Type | R24: Description
B25: Voice Quality Summary | D25: Voice Quality | G25: Statistical and distribution information for uplink and downlink MOS results | M25: Voice Quality Summary | O25: Voice Quality | R25: Statistical and distribution information for uplink and downlink MOS results
B26: Detailed MOS Data | D26: Voice Quality | G26: Detailed MOS result data for each channel ordered by time | M26: Detailed MOS Data | O26: Voice Quality | R26: Detailed MOS result data for each channel ordered by time
B27: Delay Performance Summary | D27: Delay | G27: Statistical information for Delay Task results | M27: Delay Performance Summary | O27: Delay | R27: Statistical information for Delay Task results
B28: Detailed Delay Data | D28: Delay | G28: Detailed Delay result data | M28: Detailed Delay Data | O28: Delay | R28: Detailed Delay result data
B29: Call Performance Summary | D29: Call Performance | G29: Provides a snapshot of the Failed Initiation and Dropped Call Rate | M29: Call Performance Summary | O29: Call Performance | R29: Provides a snapshot of the Failed Initiation and Dropped Call Rate
B30: Call Initiation Performance Report | D30: Call Performance | G30: Provides a breakdown of Call Initiation Failure events by failure type | M30: Call Initiation Performance Report | O30: Call Performance | R30: Provides a breakdown of Call Initiation Failure events by failure type
B31: Call Retention Performance Report | D31: Call Performance | G31: Displays the Dropped Call Rate for each device as the % of successful initiations that result in a dropped call | M31: Call Retention Performance Report | O31: Call Performance | R31: Displays the Dropped Call Rate for each device as the % of successful initiations that result in a dropped call
B32: Audio Verification Performance Report | D32: Call Performance | G32: Displays the Audio Verification Failure Rate based on the number of calls where audio was not detected | M32: Audio Verification Performance Report | O32: Call Performance | R32: Displays the Audio Verification Failure Rate based on the number of calls where audio was not detected
B33: Device Performance Report | D33: Call Performance | G33: Summarizes signal strength and battery reports from the device as well as Bluetooth errors. | M33: Device Performance Report | O33: Call Performance | R33: Summarizes signal strength and battery reports from the device as well as Bluetooth errors.

Sheet Voice Quality Summary
A1: Voice Quality Summary | R1: Voice Quality Summary(Remote)
C8: Downlink MOS | I8: Uplink MOS | T8: Downlink MOS | Z8: Uplink MOS
C9: =CONCATENATE('Device Overview'!C12," DL") -> DL | D9: =CONCATENATE('Device Overview'!D12," DL") -> DL | E9: =CONCATENATE('Device Overview'!E12," DL") -> DL | F9: =CONCATENATE('Device Overview'!F12," DL") -> DL | G9: =CONCATENATE('Device Overview'!G12," DL") -> DL | H9: =CONCATENATE('Device Overview'!H12," DL") -> DL | I9: =CONCATENATE('Device Overview'!C12," UL") -> UL | J9: =CONCATENATE('Device Overview'!D12," UL") -> UL | K9: =CONCATENATE('Device Overview'!E12," UL") -> UL | L9: =CONCATENATE('Device Overview'!F12," UL") -> UL | M9: =CONCATENATE('Device Overview'!G12," UL") -> UL | N9: =CONCATENATE('Device Overview'!H12," UL") -> UL | T9: =CONCATENATE('Device Overview'!N12," DL") -> DL | U9: =CONCATENATE('Device Overview'!O12," DL") -> DL | V9: =CONCATENATE('Device Overview'!P12," DL") -> DL | W9: =CONCATENATE('Device Overview'!Q12," DL") -> DL | X9: =CONCATENATE('Device Overview'!R12," DL") -> DL | Y9: =CONCATENATE('Device Overview'!S12," DL") -> DL | Z9: =CONCATENATE('Device Overview'!N12," UL") -> UL | AA9: =CONCATENATE('Device Overview'!O12," UL") -> UL | AB9: =CONCATENATE('Device Overview'!P12," UL") -> UL | AC9: =CONCATENATE('Device Overview'!Q12," UL") -> UL | AD9: =CONCATENATE('Device Overview'!R12," UL") -> UL | AE9: =CONCATENATE('Device Overview'!S12," UL") -> UL
B10: Average | C10: =IFERROR(AVERAGE(VQ_MOSData!D:D),"") | D10: =IFERROR(AVERAGE(VQ_MOSData!E:E),"") | E10: =IFERROR(AVERAGE(VQ_MOSData!F:F),"") -> 4.4336054 | F10: =IFERROR(AVERAGE(VQ_MOSData!G:G),"") | G10: =IFERROR(AVERAGE(VQ_MOSData!H:H),"") -> 3.8435272 | H10: =IFERROR(AVERAGE(VQ_MOSData!I:I),"") | I10: =IFERROR(AVERAGE(VQ_MOSData!J:J),"") | J10: =IFERROR(AVERAGE(VQ_MOSData!K:K),"") | K10: =IFERROR(AVERAGE(VQ_MOSData!L:L),"") -> 4.3945197 | L10: =IFERROR(AVERAGE(VQ_MOSData!M:M),"") | M10: =IFERROR(AVERAGE(VQ_MOSData!N:N),"") -> 3.8079874 | N10: =IFERROR(AVERAGE(VQ_MOSData!O:O),"") | S10: Average | T10: =IFERROR(AVERAGE(VQ_MOSData!P:P),"") | U10: =IFERROR(AVERAGE(VQ_MOSData!Q:Q),"") | V10: =IFERROR(AVERAGE(VQ_MOSData!R:R),"") | W10: =IFERROR(AVERAGE(VQ_MOSData!S:S),"") | X10: =IFERROR(AVERAGE(VQ_MOSData!T:T),"") | Y10: =IFERROR(AVERAGE(VQ_MOSData!U:U),"") | Z10: =IFERROR(AVERAGE(VQ_MOSData!V:V),"") | AA10: =IFERROR(AVERAGE(VQ_MOSData!W:W),"") | AB10: =IFERROR(AVERAGE(VQ_MOSData!X:X),"") | AC10: =IFERROR(AVERAGE(VQ_MOSData!Y:Y),"") | AD10: =IFERROR(AVERAGE(VQ_MOSData!Z:Z),"") | AE10: =IFERROR(AVERAGE(VQ_MOSData!AA:AA),"")
B11: Standard Deviation | C11: =IFERROR(STDEV(VQ_MOSData!D:D),"") | D11: =IFERROR(STDEV(VQ_MOSData!E:E),"") | E11: =IFERROR(STDEV(VQ_MOSData!F:F),"") -> 0.13563716 | F11: =IFERROR(STDEV(VQ_MOSData!G:G),"") | G11: =IFERROR(STDEV(VQ_MOSData!H:H),"") -> 0.26582862 | H11: =IFERROR(STDEV(VQ_MOSData!I:I),"") | I11: =IFERROR(STDEV(VQ_MOSData!J:J),"") | J11: =IFERROR(STDEV(VQ_MOSData!K:K),"") | K11: =IFERROR(STDEV(VQ_MOSData!L:L),"") -> 0.37329469 | L11: =IFERROR(STDEV(VQ_MOSData!M:M),"") | M11: =IFERROR(STDEV(VQ_MOSData!N:N),"") -> 0.32435221 | N11: =IFERROR(STDEV(VQ_MOSData!O:O),"") | S11: Standard Deviation | T11: =IFERROR(STDEV(VQ_MOSData!P:P),"") | U11: =IFERROR(STDEV(VQ_MOSData!Q:Q),"") | V11: =IFERROR(STDEV(VQ_MOSData!R:R),"") | W11: =IFERROR(STDEV(VQ_MOSData!S:S),"") | X11: =IFERROR(STDEV(VQ_MOSData!T:T),"") | Y11: =IFERROR(STDEV(VQ_MOSData!U:U),"") | Z11: =IFERROR(STDEV(VQ_MOSData!V:V),"") | AA11: =IFERROR(STDEV(VQ_MOSData!W:W),"") | AB11: =IFERROR(STDEV(VQ_MOSData!X:X),"") | AC11: =IFERROR(STDEV(VQ_MOSData!Y:Y),"") | AD11: =IFERROR(STDEV(VQ_MOSData!Z:Z),"") | AE11: =IFERROR(STDEV(VQ_MOSData!AA:AA),"")
B12: Maximum Score | C12: =MAX(VQ_MOSData!D:D) -> 0 | D12: =MAX(VQ_MOSData!E:E) -> 0 | E12: =MAX(VQ_MOSData!F:F) -> 4.5665016 | F12: =MAX(VQ_MOSData!G:G) -> 0 | G12: =MAX(VQ_MOSData!H:H) -> 4.1355977 | H12: =MAX(VQ_MOSData!I:I) -> 0 | I12: =MAX(VQ_MOSData!J:J) -> 0 | J12: =MAX(VQ_MOSData!K:K) -> 0 | K12: =MAX(VQ_MOSData!L:L) -> 4.5519981 | L12: =MAX(VQ_MOSData!M:M) -> 0 | M12: =MAX(VQ_MOSData!N:N) -> 4.1028285 | N12: =MAX(VQ_MOSData!O:O) -> 0 | S12: Maximum Score | T12: =MAX(VQ_MOSData!P:P) -> 0 | U12: =MAX(VQ_MOSData!Q:Q) -> 0 | V12: =MAX(VQ_MOSData!R:R) -> 0 | W12: =MAX(VQ_MOSData!S:S) -> 0 | X12: =MAX(VQ_MOSData!T:T) -> 0 | Y12: =MAX(VQ_MOSData!U:U) -> 0 | Z12: =MAX(VQ_MOSData!V:V) -> 0 | AA12: =MAX(VQ_MOSData!W:W) -> 0 | AB12: =MAX(VQ_MOSData!X:X) -> 0 | AC12: =MAX(VQ_MOSData!Y:Y) -> 0 | AD12: =MAX(VQ_MOSData!Z:Z) -> 0 | AE12: =MAX(VQ_MOSData!AA:AA) -> 0
B13: Count | C13: =COUNT(VQ_MOSData!D:D) -> 0 | D13: =COUNT(VQ_MOSData!E:E) -> 0 | E13: =COUNT(VQ_MOSData!F:F) -> 87 | F13: =COUNT(VQ_MOSData!G:G) -> 0 | G13: =COUNT(VQ_MOSData!H:H) -> 88 | H13: =COUNT(VQ_MOSData!I:I) -> 0 | I13: =COUNT(VQ_MOSData!J:J) -> 0 | J13: =COUNT(VQ_MOSData!K:K) -> 0 | K13: =COUNT(VQ_MOSData!L:L) -> 90 | L13: =COUNT(VQ_MOSData!M:M) -> 0 | M13: =COUNT(VQ_MOSData!N:N) -> 89 | N13: =COUNT(VQ_MOSData!O:O) -> 0 | S13: Count | T13: =COUNT(VQ_MOSData!P:P) -> 0 | U13: =COUNT(VQ_MOSData!Q:Q) -> 0 | V13: =COUNT(VQ_MOSData!R:R) -> 0 | W13: =COUNT(VQ_MOSData!S:S) -> 0 | X13: =COUNT(VQ_MOSData!T:T) -> 0 | Y13: =COUNT(VQ_MOSData!U:U) -> 0 | Z13: =COUNT(VQ_MOSData!V:V) -> 0 | AA13: =COUNT(VQ_MOSData!W:W) -> 0 | AB13: =COUNT(VQ_MOSData!X:X) -> 0 | AC13: =COUNT(VQ_MOSData!Y:Y) -> 0 | AD13: =COUNT(VQ_MOSData!Z:Z) -> 0 | AE13: =COUNT(VQ_MOSData!AA:AA) -> 0
B14: % MOS greater than or equal to 3.2 | C14: =IFERROR(COUNTIF(VQ_MOSData!D:D,">=3.2")/C13,"") | D14: =IFERROR(COUNTIF(VQ_MOSData!E:E,">=3.2")/D13,"") | E14: =IFERROR(COUNTIF(VQ_MOSData!F:F,">=3.2")/E13,"") -> 1 | F14: =IFERROR(COUNTIF(VQ_MOSData!G:G,">=3.2")/F13,"") | G14: =IFERROR(COUNTIF(VQ_MOSData!H:H,">=3.2")/G13,"") -> 0.97727273 | H14: =IFERROR(COUNTIF(VQ_MOSData!I:I,">=3.2")/H13,"") | I14: =IFERROR(COUNTIF(VQ_MOSData!J:J,">=3.2")/I13,"") | J14: =IFERROR(COUNTIF(VQ_MOSData!K:K,">=3.2")/J13,"") | K14: =IFERROR(COUNTIF(VQ_MOSData!L:L,">=3.2")/K13,"") -> 0.97777778 | L14: =IFERROR(COUNTIF(VQ_MOSData!M:M,">=3.2")/L13,"") | M14: =IFERROR(COUNTIF(VQ_MOSData!N:N,">=3.2")/M13,"") -> 0.94382022 | N14: =IFERROR(COUNTIF(VQ_MOSData!O:O,">=3.2")/N13,"") | S14: % MOS greater than or equal to 3.2 | T14: =IFERROR(COUNTIF(VQ_MOSData!P:P,">=3.2")/T13,"") | U14: =IFERROR(COUNTIF(VQ_MOSData!Q:Q,">=3.2")/U13,"") | V14: =IFERROR(COUNTIF(VQ_MOSData!R:R,">=3.2")/V13,"") | W14: =IFERROR(COUNTIF(VQ_MOSData!S:S,">=3.2")/W13,"") | X14: =IFERROR(COUNTIF(VQ_MOSData!T:T,">=3.2")/X13,"") | Y14: =IFERROR(COUNTIF(VQ_MOSData!U:U,">=3.2")/Y13,"") | Z14: =IFERROR(COUNTIF(VQ_MOSData!V:V,">=3.2")/Z13,"") | AA14: =IFERROR(COUNTIF(VQ_MOSData!W:W,">=3.2")/AA13,"") | AB14: =IFERROR(COUNTIF(VQ_MOSData!X:X,">=3.2")/AB13,"") | AC14: =IFERROR(COUNTIF(VQ_MOSData!Y:Y,">=3.2")/AC13,"") | AD14: =IFERROR(COUNTIF(VQ_MOSData!Z:Z,">=3.2")/AD13,"") | AE14: =IFERROR(COUNTIF(VQ_MOSData!AA:AA,">=3.2")/AE13,"")
B15: % MOS less than 3.0 | C15: =IFERROR(COUNTIF(VQ_MOSData!D:D,"<3.0")/C13,"") | D15: =IFERROR(COUNTIF(VQ_MOSData!E:E,"<3.0")/D13,"") | E15: =IFERROR(COUNTIF(VQ_MOSData!F:F,"<3.0")/E13,"") -> 0 | F15: =IFERROR(COUNTIF(VQ_MOSData!G:G,"<3.0")/F13,"") | G15: =IFERROR(COUNTIF(VQ_MOSData!H:H,"<3.0")/G13,"") -> 0.011363636 | H15: =IFERROR(COUNTIF(VQ_MOSData!I:I,"<3.0")/H13,"") | I15: =IFERROR(COUNTIF(VQ_MOSData!J:J,"<3.0")/I13,"") | J15: =IFERROR(COUNTIF(VQ_MOSData!K:K,"<3.0")/J13,"") | K15: =IFERROR(COUNTIF(VQ_MOSData!L:L,"<3.0")/K13,"") -> 0.011111111 | L15: =IFERROR(COUNTIF(VQ_MOSData!M:M,"<3.0")/L13,"") | M15: =IFERROR(COUNTIF(VQ_MOSData!N:N,"<3.0")/M13,"") -> 0.04494382 | N15: =IFERROR(COUNTIF(VQ_MOSData!O:O,"<3.0")/N13,"") | S15: % MOS less than 3.0 | T15: =IFERROR(COUNTIF(VQ_MOSData!P:P,"<3.0")/T13,"") | U15: =IFERROR(COUNTIF(VQ_MOSData!Q:Q,"<3.0")/U13,"") | V15: =IFERROR(COUNTIF(VQ_MOSData!R:R,"<3.0")/V13,"") | W15: =IFERROR(COUNTIF(VQ_MOSData!S:S,"<3.0")/W13,"") | X15: =IFERROR(COUNTIF(VQ_MOSData!T:T,"<3.0")/X13,"") | Y15: =IFERROR(COUNTIF(VQ_MOSData!U:U,"<3.0")/Y13,"") | Z15: =IFERROR(COUNTIF(VQ_MOSData!V:V,"<3.0")/Z13,"") | AA15: =IFERROR(COUNTIF(VQ_MOSData!W:W,"<3.0")/AA13,"") | AB15: =IFERROR(COUNTIF(VQ_MOSData!X:X,"<3.0")/AB13,"") | AC15: =IFERROR(COUNTIF(VQ_MOSData!Y:Y,"<3.0")/AC13,"") | AD15: =IFERROR(COUNTIF(VQ_MOSData!Z:Z,"<3.0")/AD13,"") | AE15: =IFERROR(COUNTIF(VQ_MOSData!AA:AA,"<3.0")/AE13,"")
B16: % MOS less than 2.0 | C16: =IFERROR(COUNTIF(VQ_MOSData!D:D,"<2.0")/C13,"") | D16: =IFERROR(COUNTIF(VQ_MOSData!E:E,"<2.0")/D13,"") | E16: =IFERROR(COUNTIF(VQ_MOSData!F:F,"<2.0")/E13,"") -> 0 | F16: =IFERROR(COUNTIF(VQ_MOSData!G:G,"<2.0")/F13,"") | G16: =IFERROR(COUNTIF(VQ_MOSData!H:H,"<2.0")/G13,"") -> 0.011363636 | H16: =IFERROR(COUNTIF(VQ_MOSData!I:I,"<2.0")/H13,"") | I16: =IFERROR(COUNTIF(VQ_MOSData!J:J,"<2.0")/I13,"") | J16: =IFERROR(COUNTIF(VQ_MOSData!K:K,"<2.0")/J13,"") | K16: =IFERROR(COUNTIF(VQ_MOSData!L:L,"<2.0")/K13,"") -> 0.011111111 | L16: =IFERROR(COUNTIF(VQ_MOSData!M:M,"<2.0")/L13,"") | M16: =IFERROR(COUNTIF(VQ_MOSData!N:N,"<2.0")/M13,"") -> 0 | N16: =IFERROR(COUNTIF(VQ_MOSData!O:O,"<2.0")/N13,"") | S16: % MOS less than 2.0 | T16: =IFERROR(COUNTIF(VQ_MOSData!P:P,"<2.0")/T13,"") | U16: =IFERROR(COUNTIF(VQ_MOSData!Q:Q,"<2.0")/U13,"") | V16: =IFERROR(COUNTIF(VQ_MOSData!R:R,"<2.0")/V13,"") | W16: =IFERROR(COUNTIF(VQ_MOSData!S:S,"<2.0")/W13,"") | X16: =IFERROR(COUNTIF(VQ_MOSData!T:T,"<2.0")/X13,"") | Y16: =IFERROR(COUNTIF(VQ_MOSData!U:U,"<2.0")/Y13,"") | Z16: =IFERROR(COUNTIF(VQ_MOSData!V:V,"<2.0")/Z13,"") | AA16: =IFERROR(COUNTIF(VQ_MOSData!W:W,"<2.0")/AA13,"") | AB16: =IFERROR(COUNTIF(VQ_MOSData!X:X,"<2.0")/AB13,"") | AC16: =IFERROR(COUNTIF(VQ_MOSData!Y:Y,"<2.0")/AC13,"") | AD16: =IFERROR(COUNTIF(VQ_MOSData!Z:Z,"<2.0")/AD13,"") | AE16: =IFERROR(COUNTIF(VQ_MOSData!AA:AA,"<2.0")/AE13,"")
B17: % MOS less than or equal to 1.8 | C17: =IFERROR(COUNTIF(VQ_MOSData!D:D,"<=1.8")/C13,"") | D17: =IFERROR(COUNTIF(VQ_MOSData!E:E,"<=1.8")/D13,"") | E17: =IFERROR(COUNTIF(VQ_MOSData!F:F,"<=1.8")/E13,"") -> 0 | F17: =IFERROR(COUNTIF(VQ_MOSData!G:G,"<=1.8")/F13,"") | G17: =IFERROR(COUNTIF(VQ_MOSData!H:H,"<=1.8")/G13,"") -> 0 | H17: =IFERROR(COUNTIF(VQ_MOSData!I:I,"<=1.8")/H13,"") | I17: =IFERROR(COUNTIF(VQ_MOSData!J:J,"<=1.8")/I13,"") | J17: =IFERROR(COUNTIF(VQ_MOSData!K:K,"<=1.8")/J13,"") | K17: =IFERROR(COUNTIF(VQ_MOSData!L:L,"<=1.8")/K13,"") -> 0.011111111 | L17: =IFERROR(COUNTIF(VQ_MOSData!M:M,"<=1.8")/L13,"") | M17: =IFERROR(COUNTIF(VQ_MOSData!N:N,"<=1.8")/M13,"") -> 0 | N17: =IFERROR(COUNTIF(VQ_MOSData!O:O,"<=1.8")/N13,"") | S17: % MOS less than or equal to 1.8 | T17: =IFERROR(COUNTIF(VQ_MOSData!P:P,"<=1.8")/T13,"") | U17: =IFERROR(COUNTIF(VQ_MOSData!Q:Q,"<=1.8")/U13,"") | V17: =IFERROR(COUNTIF(VQ_MOSData!R:R,"<=1.8")/V13,"") | W17: =IFERROR(COUNTIF(VQ_MOSData!S:S,"<=1.8")/W13,"") | X17: =IFERROR(COUNTIF(VQ_MOSData!T:T,"<=1.8")/X13,"") | Y17: =IFERROR(COUNTIF(VQ_MOSData!U:U,"<=1.8")/Y13,"") | Z17: =IFERROR(COUNTIF(VQ_MOSData!V:V,"<=1.8")/Z13,"") | AA17: =IFERROR(COUNTIF(VQ_MOSData!W:W,"<=1.8")/AA13,"") | AB17: =IFERROR(COUNTIF(VQ_MOSData!X:X,"<=1.8")/AB13,"") | AC17: =IFERROR(COUNTIF(VQ_MOSData!Y:Y,"<=1.8")/AC13,"") | AD17: =IFERROR(COUNTIF(VQ_MOSData!Z:Z,"<=1.8")/AD13,"") | AE17: =IFERROR(COUNTIF(VQ_MOSData!AA:AA,"<=1.8")/AE13,"")
B18: Scoring Algorithm | C18: PESQ & POLQA | E18: POLQA V2.4 | G18: POLQA V2.4 | I18: PESQ & POLQA | K18: POLQA V2.4 | M18: POLQA V2.4 | S18: Scoring Algorithm
B19: Narrowband Ratio | C19: 0 | E19: 0 | G19: 0 | I19: 0 | K19: 0 | M19: 0 | S19: Narrowband Ratio
B20: Wideband Ratio | C20: 1 | E20: 1 | G20: 1 | I20: 1 | K20: 1 | M20: 1 | S20: Wideband Ratio
AI76: =Z9 -> UL | AJ76: =AA9 -> UL | AK76: =AB9 -> UL | AL76: =AC9 -> UL | AM76: =AD9 -> UL | AN76: =AE9 -> UL | AO76: =T9 -> DL | AP76: =U9 -> DL | AQ76: =V9 -> DL | AR76: =W9 -> DL | AS76: =X9 -> DL | AT76: =Y9 -> DL
AI77: =C9 -> DL | AJ77: =D9 -> DL | AK77: =E9 -> DL | AL77: =F9 -> DL | AM77: =G9 -> DL | AN77: =H9 -> DL | AO77: =I9 -> UL | AP77: =J9 -> UL | ... AT77: =N9 -> UL
AH78: >=4.8 | AI78: =COUNTIF(VQ_MOSData!D:D,">=4.8")/'Voice Quality Summary'!C$13 -> #DIV/0! | AJ78: =COUNTIF(VQ_MOSData!E:E,">=4.8")/'Voice Quality Summary'!D$13 -> #DIV/0! | AK78: =COUNTIF(VQ_MOSData!F:F,">=4.8")/'Voice Quality Summary'!E$13 -> 0 | AL78: =COUNTIF(VQ_MOSData!G:G,">=4.8")/'Voice Quality Summary'!F$13 -> #DIV/0! | AM78: =COUNTIF(VQ_MOSData!H:H,">=4.8")/'Voice Quality Summary'!G$13 -> 0 | AN78: =COUNTIF(VQ_MOSData!I:I,">=4.8")/'Voice Quality Summary'!H$13 -> #DIV/0! | AO78: =COUNTIF(VQ_MOSData!J:J,">=4.8")/'Voice Quality Summary'!I$13 -> #DIV/0! | AP78: =COUNTIF(VQ_MOSData!K:K,">=4.8")/'Voice Quality Summary'!J$13 -> #DIV/0! | AQ78: =COUNTIF(VQ_MOSData!L:L,">=4.8")/'Voice Quality Summary'!K$13 -> 0 | AR78: =COUNTIF(VQ_MOSData!M:M,">=4.8")/'Voice Quality Summary'!L$13 -> #DIV/0! | AS78: =COUNTIF(VQ_MOSData!N:N,">=4.8")/'Voice Quality Summary'!M$13 -> 0 | AT78: =COUNTIF(VQ_MOSData!O:O,">=4.8")/'Voice Quality Summary'!N$13 -> #DIV/0!
AH79: <4.8 | AI79: =COUNTIF(VQ_MOSData!D:D,"<4.8")/'Voice Quality Summary'!C$13 -> #DIV/0! | AJ79: =COUNTIF(VQ_MOSData!E:E,"<4.8")/'Voice Quality Summary'!D$13 -> #DIV/0! | AK79: =COUNTIF(VQ_MOSData!F:F,"<4.8")/'Voice Quality Summary'!E$13 -> 1 | AL79: =COUNTIF(VQ_MOSData!G:G,"<4.8")/'Voice Quality Summary'!F$13 -> #DIV/0! | AM79: =COUNTIF(VQ_MOSData!H:H,"<4.8")/'Voice Quality Summary'!G$13 -> 1 | AN79: =COUNTIF(VQ_MOSData!I:I,"<4.8")/'Voice Quality Summary'!H$13 -> #DIV/0! | AO79: =COUNTIF(VQ_MOSData!J:J,"<4.8")/'Voice Quality Summary'!I$13 -> #DIV/0! | AP79: =COUNTIF(VQ_MOSData!K:K,"<4.8")/'Voice Quality Summary'!J$13 -> #DIV/0! | AQ79: =COUNTIF(VQ_MOSData!L:L,"<4.8")/'Voice Quality Summary'!K$13 -> 1 | AR79: =COUNTIF(VQ_MOSData!M:M,"<4.8")/'Voice Quality Summary'!L$13 -> #DIV/0! | AS79: =COUNTIF(VQ_MOSData!N:N,"<4.8")/'Voice Quality Summary'!M$13 -> 1 | AT79: =COUNTIF(VQ_MOSData!O:O,"<4.8")/'Voice Quality Summary'!N$13 -> #DIV/0!
AH80: <4.7 | AI80: =COUNTIF(VQ_MOSData!D:D,"<4.7")/'Voice Quality Summary'!C$13 -> #DIV/0! | AJ80: =COUNTIF(VQ_MOSData!E:E,"<4.7")/'Voice Quality Summary'!D$13 -> #DIV/0! | AK80: =COUNTIF(VQ_MOSData!F:F,"<4.7")/'Voice Quality Summary'!E$13 -> 1 | AL80: =COUNTIF(VQ_MOSData!G:G,"<4.7")/'Voice Quality Summary'!F$13 -> #DIV/0! | AM80: =COUNTIF(VQ_MOSData!H:H,"<4.7")/'Voice Quality Summary'!G$13 -> 1 | AN80: =COUNTIF(VQ_MOSData!I:I,"<4.7")/'Voice Quality Summary'!H$13 -> #DIV/0! | AO80: =COUNTIF(VQ_MOSData!J:J,"<4.7")/'Voice Quality Summary'!I$13 -> #DIV/0! | AP80: =COUNTIF(VQ_MOSData!K:K,"<4.7")/'Voice Quality Summary'!J$13 -> #DIV/0! | AQ80: =COUNTIF(VQ_MOSData!L:L,"<4.7")/'Voice Quality Summary'!K$13 -> 1 | AR80: =COUNTIF(VQ_MOSData!M:M,"<4.7")/'Voice Quality Summary'!L$13 -> #DIV/0! | AS80: =COUNTIF(VQ_MOSData!N:N,"<4.7")/'Voice Quality Summary'!M$13 -> 1 | AT80: =COUNTIF(VQ_MOSData!O:O,"<4.7")/'Voice Quality Summary'!N$13 -> #DIV/0!
AH81: <4.6 | AI81: =COUNTIF(VQ_MOSData!D:D,"<4.6")/'Voice Quality Summary'!C$13 -> #DIV/0! | AJ81: =COUNTIF(VQ_MOSData!E:E,"<4.6")/'Voice Quality Summary'!D$13 -> #DIV/0! | AK81: =COUNTIF(VQ_MOSData!F:F,"<4.6")/'Voice Quality Summary'!E$13 -> 1 | AL81: =COUNTIF(VQ_MOSData!G:G,"<4.6")/'Voice Quality Summary'!F$13 -> #DIV/0! | AM81: =COUNTIF(VQ_MOSData!H:H,"<4.6")/'Voice Quality Summary'!G$13 -> 1 | AN81: =COUNTIF(VQ_MOSData!I:I,"<4.6")/'Voice Quality Summary'!H$13 -> #DIV/0! | AO81: =COUNTIF(VQ_MOSData!J:J,"<4.6")/'Voice Quality Summary'!I$13 -> #DIV/0! | AP81: =COUNTIF(VQ_MOSData!K:K,"<4.6")/'Voice Quality Summary'!J$13 -> #DIV/0! | AQ81: =COUNTIF(VQ_MOSData!L:L,"<4.6")/'Voice Quality Summary'!K$13 -> 1 | AR81: =COUNTIF(VQ_MOSData!M:M,"<4.6")/'Voice Quality Summary'!L$13 -> #DIV/0! | AS81: =COUNTIF(VQ_MOSData!N:N,"<4.6")/'Voice Quality Summary'!M$13 -> 1 | AT81: =COUNTIF(VQ_MOSData!O:O,"<4.6")/'Voice Quality Summary'!N$13 -> #DIV/0!
AH82: <4.5 | AI82: =COUNTIF(VQ_MOSData!D:D,"<4.5")/'Voice Quality Summary'!C$13 -> #DIV/0! | AJ82: =COUNTIF(VQ_MOSData!E:E,"<4.5")/'Voice Quality Summary'!D$13 -> #DIV/0! | AK82: =COUNTIF(VQ_MOSData!F:F,"<4.5")/'Voice Quality Summary'!E$13 -> 0.7816092 | AL82: =COUNTIF(VQ_MOSData!G:G,"<4.5")/'Voice Quality Summary'!F$13 -> #DIV/0! | AM82: =COUNTIF(VQ_MOSData!H:H,"<4.5")/'Voice Quality Summary'!G$13 -> 1 | AN82: =COUNTIF(VQ_MOSData!I:I,"<4.5")/'Voice Quality Summary'!H$13 -> #DIV/0! | AO82: =COUNTIF(VQ_MOSData!J:J,"<4.5")/'Voice Quality Summary'!I$13 -> #DIV/0! | AP82: =COUNTIF(VQ_MOSData!K:K,"<4.5")/'Voice Quality Summary'!J$13 -> #DIV/0! | AQ82: =COUNTIF(VQ_MOSData!L:L,"<4.5")/'Voice Quality Summary'!K$13 -> 0.75555556 | AR82: =COUNTIF(VQ_MOSData!M:M,"<4.5")/'Voice Quality Summary'!L$13 -> #DIV/0! | AS82: =COUNTIF(VQ_MOSData!N:N,"<4.5")/'Voice Quality Summary'!M$13 -> 1 | AT82: =COUNTIF(VQ_MOSData!O:O,"<4.5")/'Voice Quality Summary'!N$13 -> #DIV/0!
AH83: <4.4 | AI83: =COUNTIF(VQ_MOSData!D:D,"<4.4")/'Voice Quality Summary'!C$13 -> #DIV/0! | AJ83: =COUNTIF(VQ_MOSData!E:E,"<4.4")/'Voice Quality Summary'!D$13 -> #DIV/0! | AK83: =COUNTIF(VQ_MOSData!F:F,"<4.4")/'Voice Quality Summary'!E$13 -> 0.1954023 | AL83: =COUNTIF(VQ_MOSData!G:G,"<4.4")/'Voice Quality Summary'!F$13 -> #DIV/0! | AM83: =COUNTIF(VQ_MOSData!H:H,"<4.4")/'Voice Quality Summary'!G$13 -> 1 | AN83: =COUNTIF(VQ_MOSData!I:I,"<4.4")/'Voice Quality Summary'!H$13 -> #DIV/0! | AO83: =COUNTIF(VQ_MOSData!J:J,"<4.4")/'Voice Quality Summary'!I$13 -> #DIV/0! | AP83: =COUNTIF(VQ_MOSData!K:K,"<4.4")/'Voice Quality Summary'!J$13 -> #DIV/0! | AQ83: =COUNTIF(VQ_MOSData!L:L,"<4.4")/'Voice Quality Summary'!K$13 -> 0.18888889 | AR83: =COUNTIF(VQ_MOSData!M:M,"<4.4")/'Voice Quality Summary'!L$13 -> #DIV/0! | AS83: =COUNTIF(VQ_MOSData!N:N,"<4.4")/'Voice Quality Summary'!M$13 -> 1 | AT83: =COUNTIF(VQ_MOSData!O:O,"<4.4")/'Voice Quality Summary'!N$13 -> #DIV/0!
AH84: <4.3 | AI84: =COUNTIF(VQ_MOSData!D:D,"<4.3")/'Voice Quality Summary'!C$13 -> #DIV/0! | AJ84: =COUNTIF(VQ_MOSData!E:E,"<4.3")/'Voice Quality Summary'!D$13 -> #DIV/0! | AK84: =COUNTIF(VQ_MOSData!F:F,"<4.3")/'Voice Quality Summary'!E$13 -> 0.045977011 | AL84: =COUNTIF(VQ_MOSData!G:G,"<4.3")/'Voice Quality Summary'!F$13 -> #DIV/0! | AM84: =COUNTIF(VQ_MOSData!H:H,"<4.3")/'Voice Quality Summary'!G$13 -> 1 | AN84: =COUNTIF(VQ_MOSData!I:I,"<4.3")/'Voice Quality Summary'!H$13 -> #DIV/0! | AO84: =COUNTIF(VQ_MOSData!J:J,"<4.3")/'Voice Quality Summary'!I$13 -> #DIV/0! | AP84: =COUNTIF(VQ_MOSData!K:K,"<4.3")/'Voice Quality Summary'!J$13 -> #DIV/0! | AQ84: =COUNTIF(VQ_MOSData!L:L,"<4.3")/'Voice Quality Summary'!K$13 -> 0.088888889 | AR84: =COUNTIF(VQ_MOSData!M:M,"<4.3")/'Voice Quality Summary'!L$13 -> #DIV/0! | AS84: =COUNTIF(VQ_MOSData!N:N,"<4.3")/'Voice Quality Summary'!M$13 -> 1 | AT84: =COUNTIF(VQ_MOSData!O:O,"<4.3")/'Voice Quality Summary'!N$13 -> #DIV/0!
AH85: <4.2 | AI85: =COUNTIF(VQ_MOSData!D:D,"<4.2")/'Voice Quality Summary'!C$13 -> #DIV/0! | AJ85: =COUNTIF(VQ_MOSData!E:E,"<4.2")/'Voice Quality Summary'!D$13 -> #DIV/0! | AK85: =COUNTIF(VQ_MOSData!F:F,"<4.2")/'Voice Quality Summary'!E$13 -> 0.045977011 | AL85: =COUNTIF(VQ_MOSData!G:G,"<4.2")/'Voice Quality Summary'!F$13 -> #DIV/0! | AM85: =COUNTIF(VQ_MOSData!H:H,"<4.2")/'Voice Quality Summary'!G$13 -> 1 | AN85: =COUNTIF(VQ_MOSData!I:I,"<4.2")/'Voice Quality Summary'!H$13 -> #DIV/0! | AO85: =COUNTIF(VQ_MOSData!J:J,"<4.2")/'Voice Quality Summary'!I$13 -> #DIV/0! | AP85: =COUNTIF(VQ_MOSData!K:K,"<4.2")/'Voice Quality Summary'!J$13 -> #DIV/0! | AQ85: =COUNTIF(VQ_MOSData!L:L,"<4.2")/'Voice Quality Summary'!K$13 -> 0.077777778 | AR85: =COUNTIF(VQ_MOSData!M:M,"<4.2")/'Voice Quality Summary'!L$13 -> #DIV/0! | AS85: =COUNTIF(VQ_MOSData!N:N,"<4.2")/'Voice Quality Summary'!M$13 -> 1 | AT85: =COUNTIF(VQ_MOSData!O:O,"<4.2")/'Voice Quality Summary'!N$13 -> #DIV/0!
AH86: <4.1 | AI86: =COUNTIF(VQ_MOSData!D:D,"<4.1")/'Voice Quality Summary'!C$13 -> #DIV/0! | AJ86: =COUNTIF(VQ_MOSData!E:E,"<4.1")/'Voice Quality Summary'!D$13 -> #DIV/0! | AK86: =COUNTIF(VQ_MOSData!F:F,"<4.1")/'Voice Quality Summary'!E$13 -> 0.034482759 | AL86: =COUNTIF(VQ_MOSData!G:G,"<4.1")/'Voice Quality Summary'!F$13 -> #DIV/0! | AM86: =COUNTIF(VQ_MOSData!H:H,"<4.1")/'Voice Quality Summary'!G$13 -> 0.97727273 | AN86: =COUNTIF(VQ_MOSData!I:I,"<4.1")/'Voice Quality Summary'!H$13 -> #DIV/0! | AO86: =COUNTIF(VQ_MOSData!J:J,"<4.1")/'Voice Quality Summary'!I$13 -> #DIV/0! | AP86: =COUNTIF(VQ_MOSData!K:K,"<4.1")/'Voice Quality Summary'!J$13 -> #DIV/0! | AQ86: =COUNTIF(VQ_MOSData!L:L,"<4.1")/'Voice Quality Summary'!K$13 -> 0.055555556 | AR86: =COUNTIF(VQ_MOSData!M:M,"<4.1")/'Voice Quality Summary'!L$13 -> #DIV/0! | AS86: =COUNTIF(VQ_MOSData!N:N,"<4.1")/'Voice Quality Summary'!M$13 -> 0.98876404 | AT86: =COUNTIF(VQ_MOSData!O:O,"<4.1")/'Voice Quality Summary'!N$13 -> #DIV/0!
AH87: <4.0 | AI87: =COUNTIF(VQ_MOSData!D:D,"<4.0")/'Voice Quality Summary'!C$13 -> #DIV/0! | AJ87: =COUNTIF(VQ_MOSData!E:E,"<4.0")/'Voice Quality Summary'!D$13 -> #DIV/0! | AK87: =COUNTIF(VQ_MOSData!F:F,"<4.0")/'Voice Quality Summary'!E$13 -> 0.034482759 | AL87: =COUNTIF(VQ_MOSData!G:G,"<4.0")/'Voice Quality Summary'!F$13 -> #DIV/0! | AM87: =COUNTIF(VQ_MOSData!H:H,"<4.0")/'Voice Quality Summary'!G$13 -> 0.79545455 | AN87: =COUNTIF(VQ_MOSData!I:I,"<4.0")/'Voice Quality Summary'!H$13 -> #DIV/0! | AO87: =COUNTIF(VQ_MOSData!J:J,"<4.0")/'Voice Quality Summary'!I$13 -> #DIV/0! | AP87: =COUNTIF(VQ_MOSData!K:K,"<4.0")/'Voice Quality Summary'!J$13 -> #DIV/0! | AQ87: =COUNTIF(VQ_MOSData!L:L,"<4.0")/'Voice Quality Summary'!K$13 -> 0.022222222 | AR87: =COUNTIF(VQ_MOSData!M:M,"<4.0")/'Voice Quality Summary'!L$13 -> #DIV/0! | AS87: =COUNTIF(VQ_MOSData!N:N,"<4.0")/'Voice Quality Summary'!M$13 -> 0.80898876 | AT87: =COUNTIF(VQ_MOSData!O:O,"<4.0")/'Voice Quality Summary'!N$13 -> #DIV/0!
AH88: <3.9 | AI88: =COUNTIF(VQ_MOSData!D:D,"<3.9")/'Voice Quality Summary'!C$13 -> #DIV/0! | AJ88: =COUNTIF(VQ_MOSData!E:E,"<3.9")/'Voice Quality Summary'!D$13 -> #DIV/0! | AK88: =COUNTIF(VQ_MOSData!F:F,"<3.9")/'Voice Quality Summary'!E$13 -> 0.022988506 | AL88: =COUNTIF(VQ_MOSData!G:G,"<3.9")/'Voice Quality Summary'!F$13 -> #DIV/0! | AM88: =COUNTIF(VQ_MOSData!H:H,"<3.9")/'Voice Quality Summary'!G$13 -> 0.57954545 | AN88: =COUNTIF(VQ_MOSData!I:I,"<3.9")/'Voice Quality Summary'!H$13 -> #DIV/0! | AO88: =COUNTIF(VQ_MOSData!J:J,"<3.9")/'Voice Quality Summary'!I$13 -> #DIV/0! | AP88: =COUNTIF(VQ_MOSData!K:K,"<3.9")/'Voice Quality Summary'!J$13 -> #DIV/0! | AQ88: =COUNTIF(VQ_MOSData!L:L,"<3.9")/'Voice Quality Summary'!K$13 -> 0.022222222 | AR88: =COUNTIF(VQ_MOSData!M:M,"<3.9")/'Voice Quality Summary'!L$13 -> #DIV/0! | AS88: =COUNTIF(VQ_MOSData!N:N,"<3.9")/'Voice Quality Summary'!M$13 -> 0.64044944 | AT88: =COUNTIF(VQ_MOSData!O:O,"<3.9")/'Voice Quality Summary'!N$13 -> #DIV/0!
AH89: <3.8 | AI89: =COUNTIF(VQ_MOSData!D:D,"<3.8")/'Voice Quality Summary'!C$13 -> #DIV/0! | AJ89: =COUNTIF(VQ_MOSData!E:E,"<3.8")/'Voice Quality Summary'!D$13 -> #DIV/0! | AK89: =COUNTIF(VQ_MOSData!F:F,"<3.8")/'Voice Quality Summary'!E$13 -> 0.022988506 | AL89: =COUNTIF(VQ_MOSData!G:G,"<3.8")/'Voice Quality Summary'!F$13 -> #DIV/0! | AM89: =COUNTIF(VQ_MOSData!H:H,"<3.8")/'Voice Quality Summary'!G$13 -> 0.23863636 | AN89: =COUNTIF(VQ_MOSData!I:I,"<3.8")/'Voice Quality Summary'!H$13 -> #DIV/0! | AO89: =COUNTIF(VQ_MOSData!J:J,"<3.8")/'Voice Quality Summary'!I$13 -> #DIV/0! | AP89: =COUNTIF(VQ_MOSData!K:K,"<3.8")/'Voice Quality Summary'!J$13 -> #DIV/0! | AQ89: =COUNTIF(VQ_MOSData!L:L,"<3.8")/'Voice Quality Summary'!K$13 -> 0.022222222 | AR89: =COUNTIF(VQ_MOSData!M:M,"<3.8")/'Voice Quality Summary'!L$13 -> #DIV/0! | AS89: =COUNTIF(VQ_MOSData!N:N,"<3.8")/'Voice Quality Summary'!M$13 -> 0.2247191 | AT89: =COUNTIF(VQ_MOSData!O:O,"<3.8")/'Voice Quality Summary'!N$13 -> #DIV/0!
AH90: <3.7 | AI90: =COUNTIF(VQ_MOSData!D:D,"<3.7")/'Voice Quality Summary'!C$13 -> #DIV/0! | AJ90: =COUNTIF(VQ_MOSData!E:E,"<3.7")/'Voice Quality Summary'!D$13 -> #DIV/0! | AK90: =COUNTIF(VQ_MOSData!F:F,"<3.7")/'Voice Quality Summary'!E$13 -> 0.011494253 | AL90: =COUNTIF(VQ_MOSData!G:G,"<3.7")/'Voice Quality Summary'!F$13 -> #DIV/0! | AM90: =COUNTIF(VQ_MOSData!H:H,"<3.7")/'Voice Quality Summary'!G$13 -> 0.090909091 | AN90: =COUNTIF(VQ_MOSData!I:I,"<3.7")/'Voice Quality Summary'!H$13 -> #DIV/0! | AO90: =COUNTIF(VQ_MOSData!J:J,"<3.7")/'Voice Quality Summary'!I$13 -> #DIV/0! | AP90: =COUNTIF(VQ_MOSData!K:K,"<3.7")/'Voice Quality Summary'!J$13 -> #DIV/0! | AQ90: =COUNTIF(VQ_MOSData!L:L,"<3.7")/'Voice Quality Summary'!K$13 -> 0.022222222 | AR90: =COUNTIF(VQ_MOSData!M:M,"<3.7")/'Voice Quality Summary'!L$13 -> #DIV/0! | AS90: =COUNTIF(VQ_MOSData!N:N,"<3.7")/'Voice Quality Summary'!M$13 -> 0.14606742 | AT90: =COUNTIF(VQ_MOSData!O:O,"<3.7")/'Voice Quality Summary'!N$13 -> #DIV/0!
AH91: <3.6 | AI91: =COUNTIF(VQ_MOSData!D:D,"<3.6")/'Voice Quality Summary'!C$13 -> #DIV/0! | AJ91: =COUNTIF(VQ_MOSData!E:E,"<3.6")/'Voice Quality Summary'!D$13 -> #DIV/0! | AK91: =COUNTIF(VQ_MOSData!F:F,"<3.6")/'Voice Quality Summary'!E$13 -> 0 | AL91: =COUNTIF(VQ_MOSData!G:G,"<3.6")/'Voice Quality Summary'!F$13 -> #DIV/0! | AM91: =COUNTIF(VQ_MOSData!H:H,"<3.6")/'Voice Quality Summary'!G$13 -> 0.068181818 | AN91: =COUNTIF(VQ_MOSData!I:I,"<3.6")/'Voice Quality Summary'!H$13 -> #DIV/0! | AO91: =COUNTIF(VQ_MOSData!J:J,"<3.6")/'Voice Quality Summary'!I$13 -> #DIV/0! | AP91: =COUNTIF(VQ_MOSData!K:K,"<3.6")/'Voice Quality Summary'!J$13 -> #DIV/0! | AQ91: =COUNTIF(VQ_MOSData!L:L,"<3.6")/'Voice Quality Summary'!K$13 -> 0.022222222 | AR91: =COUNTIF(VQ_MOSData!M:M,"<3.6")/'Voice Quality Summary'!L$13 -> #DIV/0! | AS91: =COUNTIF(VQ_MOSData!N:N,"<3.6")/'Voice Quality Summary'!M$13 -> 0.12359551 | AT91: =COUNTIF(VQ_MOSData!O:O,"<3.6")/'Voice Quality Summary'!N$13 -> #DIV/0!
AH92: <3.5 | AI92: =COUNTIF(VQ_MOSData!D:D,"<3.5")/'Voice Quality Summary'!C$13 -> #DIV/0! | AJ92: =COUNTIF(VQ_MOSData!E:E,"<3.5")/'Voice Quality Summary'!D$13 -> #DIV/0! | AK92: =COUNTIF(VQ_MOSData!F:F,"<3.5")/'Voice Quality Summary'!E$13 -> 0 | AL92: =COUNTIF(VQ_MOSData!G:G,"<3.5")/'Voice Quality Summary'!F$13 -> #DIV/0! | AM92: =COUNTIF(VQ_MOSData!H:H,"<3.5")/'Voice Quality Summary'!G$13 -> 0.056818182 | AN92: =COUNTIF(VQ_MOSData!I:I,"<3.5")/'Voice Quality Summary'!H$13 -> #DIV/0! | AO92: =COUNTIF(VQ_MOSData!J:J,"<3.5")/'Voice Quality Summary'!I$13 -> #DIV/0! | AP92: =COUNTIF(VQ_MOSData!K:K,"<3.5")/'Voice Quality Summary'!J$13 -> #DIV/0! | AQ92: =COUNTIF(VQ_MOSData!L:L,"<3.5")/'Voice Quality Summary'!K$13 -> 0.022222222 | AR92: =COUNTIF(VQ_MOSData!M:M,"<3.5")/'Voice Quality Summary'!L$13 -> #DIV/0! | AS92: =COUNTIF(VQ_MOSData!N:N,"<3.5")/'Voice Quality Summary'!M$13 -> 0.08988764 | AT92: =COUNTIF(VQ_MOSData!O:O,"<3.5")/'Voice Quality Summary'!N$13 -> #DIV/0!
AH93: <3.4 | AI93: =COUNTIF(VQ_MOSData!D:D,"<3.4")/'Voice Quality Summary'!C$13 -> #DIV/0! | AJ93: =COUNTIF(VQ_MOSData!E:E,"<3.4")/'Voice Quality Summary'!D$13 -> #DIV/0! | AK93: =COUNTIF(VQ_MOSData!F:F,"<3.4")/'Voice Quality Summary'!E$13 -> 0 | AL93: =COUNTIF(VQ_MOSData!G:G,"<3.4")/'Voice Quality Summary'!F$13 -> #DIV/0! | AM93: =COUNTIF(VQ_MOSData!H:H,"<3.4")/'Voice Quality Summary'!G$13 -> 0.045454545 | AN93: =COUNTIF(VQ_MOSData!I:I,"<3.4")/'Voice Quality Summary'!H$13 -> #DIV/0! | AO93: =COUNTIF(VQ_MOSData!J:J,"<3.4")/'Voice Quality Summary'!I$13 -> #DIV/0! | AP93: =COUNTIF(VQ_MOSData!K:K,"<3.4")/'Voice Quality Summary'!J$13 -> #DIV/0! | AQ93: =COUNTIF(VQ_MOSData!L:L,"<3.4")/'Voice Quality Summary'!K$13 -> 0.022222222 | AR93: =COUNTIF(VQ_MOSData!M:M,"<3.4")/'Voice Quality Summary'!L$13 -> #DIV/0! | AS93: =COUNTIF(VQ_MOSData!N:N,"<3.4")/'Voice Quality Summary'!M$13 -> 0.06741573 | AT93: =COUNTIF(VQ_MOSData!O:O,"<3.4")/'Voice Quality Summary'!N$13 -> #DIV/0!
AH94: <3.3 | AI94: =COUNTIF(VQ_MOSData!D:D,"<3.3")/'Voice Quality Summary'!C$13 -> #DIV/0! | AJ94: =COUNTIF(VQ_MOSData!E:E,"<3.3")/'Voice Quality Summary'!D$13 -> #DIV/0! | AK94: =COUNTIF(VQ_MOSData!F:F,"<3.3")/'Voice Quality Summary'!E$13 -> 0 | AL94: =COUNTIF(VQ_MOSData!G:G,"<3.3")/'Voice Quality Summary'!F$13 -> #DIV/0! | AM94: =COUNTIF(VQ_MOSData!H:H,"<3.3")/'Voice Quality Summary'!G$13 -> 0.045454545 | AN94: =COUNTIF(VQ_MOSData!I:I,"<3.3")/'Voice Quality Summary'!H$13 -> #DIV/0! | AO94: =COUNTIF(VQ_MOSData!J:J,"<3.3")/'Voice Quality Summary'!I$13 -> #DIV/0! | AP94: =COUNTIF(VQ_MOSData!K:K,"<3.3")/'Voice Quality Summary'!J$13 -> #DIV/0! | AQ94: =COUNTIF(VQ_MOSData!L:L,"<3.3")/'Voice Quality Summary'!K$13 -> 0.022222222 | AR94: =COUNTIF(VQ_MOSData!M:M,"<3.3")/'Voice Quality Summary'!L$13 -> #DIV/0! | AS94: =COUNTIF(VQ_MOSData!N:N,"<3.3")/'Voice Quality Summary'!M$13 -> 0.06741573 | AT94: =COUNTIF(VQ_MOSData!O:O,"<3.3")/'Voice Quality Summary'!N$13 -> #DIV/0!
AH95: <3.2 | AI95: =COUNTIF(VQ_MOSData!D:D,"<3.2")/'Voice Quality Summary'!C$13 -> #DIV/0! | AJ95: =COUNTIF(VQ_MOSData!E:E,"<3.2")/'Voice Quality Summary'!D$13 -> #DIV/0! | AK95: =COUNTIF(VQ_MOSData!F:F,"<3.2")/'Voice Quality Summary'!E$13 -> 0 | AL95: =COUNTIF(VQ_MOSData!G:G,"<3.2")/'Voice Quality Summary'!F$13 -> #DIV/0! | AM95: =COUNTIF(VQ_MOSData!H:H,"<3.2")/'Voice Quality Summary'!G$13 -> 0.022727273 | AN95: =COUNTIF(VQ_MOSData!I:I,"<3.2")/'Voice Quality Summary'!H$13 -> #DIV/0! | AO95: =COUNTIF(VQ_MOSData!J:J,"<3.2")/'Voice Quality Summary'!I$13 -> #DIV/0! | AP95: =COUNTIF(VQ_MOSData!K:K,"<3.2")/'Voice Quality Summary'!J$13 -> #DIV/0! | AQ95: =COUNTIF(VQ_MOSData!L:L,"<3.2")/'Voice Quality Summary'!K$13 -> 0.022222222 | AR95: =COUNTIF(VQ_MOSData!M:M,"<3.2")/'Voice Quality Summary'!L$13 -> #DIV/0! | AS95: =COUNTIF(VQ_MOSData!N:N,"<3.2")/'Voice Quality Summary'!M$13 -> 0.056179775 | AT95: =COUNTIF(VQ_MOSData!O:O,"<3.2")/'Voice Quality Summary'!N$13 -> #DIV/0!
AH96: <3.1 | AI96: =COUNTIF(VQ_MOSData!D:D,"<3.1")/'Voice Quality Summary'!C$13 -> #DIV/0! | AJ96: =COUNTIF(VQ_MOSData!E:E,"<3.1")/'Voice Quality Summary'!D$13 -> #DIV/0! | AK96: =COUNTIF(VQ_MOSData!F:F,"<3.1")/'Voice Quality Summary'!E$13 -> 0 | AL96: =COUNTIF(VQ_MOSData!G:G,"<3.1")/'Voice Quality Summary'!F$13 -> #DIV/0! | AM96: =COUNTIF(VQ_MOSData!H:H,"<3.1")/'Voice Quality Summary'!G$13 -> 0.022727273 | AN96: =COUNTIF(VQ_MOSData!I:I,"<3.1")/'Voice Quality Summary'!H$13 -> #DIV/0! | AO96: =COUNTIF(VQ_MOSData!J:J,"<3.1")/'Voice Quality Summary'!I$13 -> #DIV/0! | AP96: =COUNTIF(VQ_MOSData!K:K,"<3.1")/'Voice Quality Summary'!J$13 -> #DIV/0! | AQ96: =COUNTIF(VQ_MOSData!L:L,"<3.1")/'Voice Quality Summary'!K$13 -> 0.011111111 | AR96: =COUNTIF(VQ_MOSData!M:M,"<3.1")/'Voice Quality Summary'!L$13 -> #DIV/0! | AS96: =COUNTIF(VQ_MOSData!N:N,"<3.1")/'Voice Quality Summary'!M$13 -> 0.04494382 | AT96: =COUNTIF(VQ_MOSData!O:O,"<3.1")/'Voice Quality Summary'!N$13 -> #DIV/0!
AH97: <3.0 | AI97: =COUNTIF(VQ_MOSData!D:D,"<3.0")/'Voice Quality Summary'!C$13 -> #DIV/0! | AJ97: =COUNTIF(VQ_MOSData!E:E,"<3.0")/'Voice Quality Summary'!D$13 -> #DIV/0! | AK97: =COUNTIF(VQ_MOSData!F:F,"<3.0")/'Voice Quality Summary'!E$13 -> 0 | AL97: =COUNTIF(VQ_MOSData!G:G,"<3.0")/'Voice Quality Summary'!F$13 -> #DIV/0! | AM97: =COUNTIF(VQ_MOSData!H:H,"<3.0")/'Voice Quality Summary'!G$13 -> 0.011363636 | AN97: =COUNTIF(VQ_MOSData!I:I,"<3.0")/'Voice Quality Summary'!H$13 -> #DIV/0! | AO97: =COUNTIF(VQ_MOSData!J:J,"<3.0")/'Voice Quality Summary'!I$13 -> #DIV/0! | AP97: =COUNTIF(VQ_MOSData!K:K,"<3.0")/'Voice Quality Summary'!J$13 -> #DIV/0! | AQ97: =COUNTIF(VQ_MOSData!L:L,"<3.0")/'Voice Quality Summary'!K$13 -> 0.011111111 | AR97: =COUNTIF(VQ_MOSData!M:M,"<3.0")/'Voice Quality Summary'!L$13 -> #DIV/0! | AS97: =COUNTIF(VQ_MOSData!N:N,"<3.0")/'Voice Quality Summary'!M$13 -> 0.04494382 | AT97: =COUNTIF(VQ_MOSData!O:O,"<3.0")/'Voice Quality Summary'!N$13 -> #DIV/0!
AH98: <2.9 | AI98: =COUNTIF(VQ_MOSData!D:D,"<2.9")/'Voice Quality Summary'!C$13 -> #DIV/0! | AJ98: =COUNTIF(VQ_MOSData!E:E,"<2.9")/'Voice Quality Summary'!D$13 -> #DIV/0! | AK98: =COUNTIF(VQ_MOSData!F:F,"<2.9")/'Voice Quality Summary'!E$13 -> 0 | AL98: =COUNTIF(VQ_MOSData!G:G,"<2.9")/'Voice Quality Summary'!F$13 -> #DIV/0! | AM98: =COUNTIF(VQ_MOSData!H:H,"<2.9")/'Voice Quality Summary'!G$13 -> 0.011363636 | AN98: =COUNTIF(VQ_MOSData!I:I,"<2.9")/'Voice Quality Summary'!H$13 -> #DIV/0! | AO98: =COUNTIF(VQ_MOSData!J:J,"<2.9")/'Voice Quality Summary'!I$13 -> #DIV/0! | AP98: =COUNTIF(VQ_MOSData!K:K,"<2.9")/'Voice Quality Summary'!J$13 -> #DIV/0! | AQ98: =COUNTIF(VQ_MOSData!L:L,"<2.9")/'Voice Quality Summary'!K$13 -> 0.011111111 | AR98: =COUNTIF(VQ_MOSData!M:M,"<2.9")/'Voice Quality Summary'!L$13 -> #DIV/0! | AS98: =COUNTIF(VQ_MOSData!N:N,"<2.9")/'Voice Quality Summary'!M$13 -> 0.033707865 | AT98: =COUNTIF(VQ_MOSData!O:O,"<2.9")/'Voice Quality Summary'!N$13 -> #DIV/0!
AH99: <2.8 | AI99: =COUNTIF(VQ_MOSData!D:D,"<2.8")/'Voice Quality Summary'!C$13 -> #DIV/0! | AJ99: =COUNTIF(VQ_MOSData!E:E,"<2.8")/'Voice Quality Summary'!D$13 -> #DIV/0! | AK99: =COUNTIF(VQ_MOSData!F:F,"<2.8")/'Voice Quality Summary'!E$13 -> 0 | AL99: =COUNTIF(VQ_MOSData!G:G,"<2.8")/'Voice Quality Summary'!F$13 -> #DIV/0! | AM99: =COUNTIF(VQ_MOSData!H:H,"<2.8")/'Voice Quality Summary'!G$13 -> 0.011363636 | AN99: =COUNTIF(VQ_MOSData!I:I,"<2.8")/'Voice Quality Summary'!H$13 -> #DIV/0! | AO99: =COUNTIF(VQ_MOSData!J:J,"<2.8")/'Voice Quality Summary'!I$13 -> #DIV/0! | AP99: =COUNTIF(VQ_MOSData!K:K,"<2.8")/'Voice Quality Summary'!J$13 -> #DIV/0! | AQ99: =COUNTIF(VQ_MOSData!L:L,"<2.8")/'Voice Quality Summary'!K$13 -> 0.011111111 | AR99: =COUNTIF(VQ_MOSData!M:M,"<2.8")/'Voice Quality Summary'!L$13 -> #DIV/0! | AS99: =COUNTIF(VQ_MOSData!N:N,"<2.8")/'Voice Quality Summary'!M$13 -> 0.02247191 | AT99: =COUNTIF(VQ_MOSData!O:O,"<2.8")/'Voice Quality Summary'!N$13 -> #DIV/0!
AH100: <2.7 | AI100: =COUNTIF(VQ_MOSData!D:D,"<2.7")/'Voice Quality Summary'!C$13 -> #DIV/0! | AJ100: =COUNTIF(VQ_MOSData!E:E,"<2.7")/'Voice Quality Summary'!D$13 -> #DIV/0! | AK100: =COUNTIF(VQ_MOSData!F:F,"<2.7")/'Voice Quality Summary'!E$13 -> 0 | AL100: =COUNTIF(VQ_MOSData!G:G,"<2.7")/'Voice Quality Summary'!F$13 -> #DIV/0! | AM100: =COUNTIF(VQ_MOSData!H:H,"<2.7")/'Voice Quality Summary'!G$13 -> 0.011363636 | AN100: =COUNTIF(VQ_MOSData!I:I,"<2.7")/'Voice Quality Summary'!H$13 -> #DIV/0! | AO100: =COUNTIF(VQ_MOSData!J:J,"<2.7")/'Voice Quality Summary'!I$13 -> #DIV/0! | AP100: =COUNTIF(VQ_MOSData!K:K,"<2.7")/'Voice Quality Summary'!J$13 -> #DIV/0! | AQ100: =COUNTIF(VQ_MOSData!L:L,"<2.7")/'Voice Quality Summary'!K$13 -> 0.011111111 | AR100: =COUNTIF(VQ_MOSData!M:M,"<2.7")/'Voice Quality Summary'!L$13 -> #DIV/0! | AS100: =COUNTIF(VQ_MOSData!N:N,"<2.7")/'Voice Quality Summary'!M$13 -> 0.02247191 | AT100: =COUNTIF(VQ_MOSData!O:O,"<2.7")/'Voice Quality Summary'!N$13 -> #DIV/0!
AH101: <2.6 | AI101: =COUNTIF(VQ_MOSData!D:D,"<2.6")/'Voice Quality Summary'!C$13 -> #DIV/0! | AJ101: =COUNTIF(VQ_MOSData!E:E,"<2.6")/'Voice Quality Summary'!D$13 -> #DIV/0! | AK101: =COUNTIF(VQ_MOSData!F:F,"<2.6")/'Voice Quality Summary'!E$13 -> 0 | AL101: =COUNTIF(VQ_MOSData!G:G,"<2.6")/'Voice Quality Summary'!F$13 -> #DIV/0! | AM101: =COUNTIF(VQ_MOSData!H:H,"<2.6")/'Voice Quality Summary'!G$13 -> 0.011363636 | AN101: =COUNTIF(VQ_MOSData!I:I,"<2.6")/'Voice Quality Summary'!H$13 -> #DIV/0! | AO101: =COUNTIF(VQ_MOSData!J:J,"<2.6")/'Voice Quality Summary'!I$13 -> #DIV/0! | AP101: =COUNTIF(VQ_MOSData!K:K,"<2.6")/'Voice Quality Summary'!J$13 -> #DIV/0! | AQ101: =COUNTIF(VQ_MOSData!L:L,"<2.6")/'Voice Quality Summary'!K$13 -> 0.011111111 | AR101: =COUNTIF(VQ_MOSData!M:M,"<2.6")/'Voice Quality Summary'!L$13 -> #DIV/0! | AS101: =COUNTIF(VQ_MOSData!N:N,"<2.6")/'Voice Quality Summary'!M$13 -> 0.02247191 | AT101: =COUNTIF(VQ_MOSData!O:O,"<2.6")/'Voice Quality Summary'!N$13 -> #DIV/0!
AH102: <2.5 | AI102: =COUNTIF(VQ_MOSData!D:D,"<2.5")/'Voice Quality Summary'!C$13 -> #DIV/0! | AJ102: =COUNTIF(VQ_MOSData!E:E,"<2.5")/'Voice Quality Summary'!D$13 -> #DIV/0! | AK102: =COUNTIF(VQ_MOSData!F:F,"<2.5")/'Voice Quality Summary'!E$13 -> 0 | AL102: =COUNTIF(VQ_MOSData!G:G,"<2.5")/'Voice Quality Summary'!F$13 -> #DIV/0! | AM102: =COUNTIF(VQ_MOSData!H:H,"<2.5")/'Voice Quality Summary'!G$13 -> 0.011363636 | AN102: =COUNTIF(VQ_MOSData!I:I,"<2.5")/'Voice Quality Summary'!H$13 -> #DIV/0! | AO102: =COUNTIF(VQ_MOSData!J:J,"<2.5")/'Voice Quality Summary'!I$13 -> #DIV/0! | AP102: =COUNTIF(VQ_MOSData!K:K,"<2.5")/'Voice Quality Summary'!J$13 -> #DIV/0! | AQ102: =COUNTIF(VQ_MOSData!L:L,"<2.5")/'Voice Quality Summary'!K$13 -> 0.011111111 | AR102: =COUNTIF(VQ_MOSData!M:M,"<2.5")/'Voice Quality Summary'!L$13 -> #DIV/0! | AS102: =COUNTIF(VQ_MOSData!N:N,"<2.5")/'Voice Quality Summary'!M$13 -> 0.02247191 | AT102: =COUNTIF(VQ_MOSData!O:O,"<2.5")/'Voice Quality Summary'!N$13 -> #DIV/0!
AH103: <2.4 | AI103: =COUNTIF(VQ_MOSData!D:D,"<2.4")/'Voice Quality Summary'!C$13 -> #DIV/0! | AJ103: =COUNTIF(VQ_MOSData!E:E,"<2.4")/'Voice Quality Summary'!D$13 -> #DIV/0! | AK103: =COUNTIF(VQ_MOSData!F:F,"<2.4")/'Voice Quality Summary'!E$13 -> 0 | AL103: =COUNTIF(VQ_MOSData!G:G,"<2.4")/'Voice Quality Summary'!F$13 -> #DIV/0! | AM103: =COUNTIF(VQ_MOSData!H:H,"<2.4")/'Voice Quality Summary'!G$13 -> 0.011363636 | AN103: =COUNTIF(VQ_MOSData!I:I,"<2.4")/'Voice Quality Summary'!H$13 -> #DIV/0! | AO103: =COUNTIF(VQ_MOSData!J:J,"<2.4")/'Voice Quality Summary'!I$13 -> #DIV/0! | AP103: =COUNTIF(VQ_MOSData!K:K,"<2.4")/'Voice Quality Summary'!J$13 -> #DIV/0! | AQ103: =COUNTIF(VQ_MOSData!L:L,"<2.4")/'Voice Quality Summary'!K$13 -> 0.011111111 | AR103: =COUNTIF(VQ_MOSData!M:M,"<2.4")/'Voice Quality Summary'!L$13 -> #DIV/0! | AS103: =COUNTIF(VQ_MOSData!N:N,"<2.4")/'Voice Quality Summary'!M$13 -> 0.011235955 | AT103: =COUNTIF(VQ_MOSData!O:O,"<2.4")/'Voice Quality Summary'!N$13 -> #DIV/0!
AH104: <2.3 | AI104: =COUNTIF(VQ_MOSData!D:D,"<2.3")/'Voice Quality Summary'!C$13 -> #DIV/0! | AJ104: =COUNTIF(VQ_MOSData!E:E,"<2.3")/'Voice Quality Summary'!D$13 -> #DIV/0! | AK104: =COUNTIF(VQ_MOSData!F:F,"<2.3")/'Voice Quality Summary'!E$13 -> 0 | AL104: =COUNTIF(VQ_MOSData!G:G,"<2.3")/'Voice Quality Summary'!F$13 -> #DIV/0! | AM104: =COUNTIF(VQ_MOSData!H:H,"<2.3")/'Voice Quality Summary'!G$13 -> 0.011363636 | AN104: =COUNTIF(VQ_MOSData!I:I,"<2.3")/'Voice Quality Summary'!H$13 -> #DIV/0! | AO104: =COUNTIF(VQ_MOSData!J:J,"<2.3")/'Voice Quality Summary'!I$13 -> #DIV/0! | AP104: =COUNTIF(VQ_MOSData!K:K,"<2.3")/'Voice Quality Summary'!J$13 -> #DIV/0! | AQ104: =COUNTIF(VQ_MOSData!L:L,"<2.3")/'Voice Quality Summary'!K$13 -> 0.011111111 | AR104: =COUNTIF(VQ_MOSData!M:M,"<2.3")/'Voice Quality Summary'!L$13 -> #DIV/0! | AS104: =COUNTIF(VQ_MOSData!N:N,"<2.3")/'Voice Quality Summary'!M$13 -> 0.011235955 | AT104: =COUNTIF(VQ_MOSData!O:O,"<2.3")/'Voice Quality Summary'!N$13 -> #DIV/0!
AH105: <2.2 | AI105: =COUNTIF(VQ_MOSData!D:D,"<2.2")/'Voice Quality Summary'!C$13 -> #DIV/0! | AJ105: =COUNTIF(VQ_MOSData!E:E,"<2.2")/'Voice Quality Summary'!D$13 -> #DIV/0! | AK105: =COUNTIF(VQ_MOSData!F:F,"<2.2")/'Voice Quality Summary'!E$13 -> 0 | AL105: =COUNTIF(VQ_MOSData!G:G,"<2.2")/'Voice Quality Summary'!F$13 -> #DIV/0! | AM105: =COUNTIF(VQ_MOSData!H:H,"<2.2")/'Voice Quality Summary'!G$13 -> 0.011363636 | AN105: =COUNTIF(VQ_MOSData!I:I,"<2.2")/'Voice Quality Summary'!H$13 -> #DIV/0! | AO105: =COUNTIF(VQ_MOSData!J:J,"<2.2")/'Voice Quality Summary'!I$13 -> #DIV/0! | AP105: =COUNTIF(VQ_MOSData!K:K,"<2.2")/'Voice Quality Summary'!J$13 -> #DIV/0! | AQ105: =COUNTIF(VQ_MOSData!L:L,"<2.2")/'Voice Quality Summary'!K$13 -> 0.011111111 | AR105: =COUNTIF(VQ_MOSData!M:M,"<2.2")/'Voice Quality Summary'!L$13 -> #DIV/0! | AS105: =COUNTIF(VQ_MOSData!N:N,"<2.2")/'Voice Quality Summary'!M$13 -> 0.011235955 | AT105: =COUNTIF(VQ_MOSData!O:O,"<2.2")/'Voice Quality Summary'!N$13 -> #DIV/0!
AH106: <2.1 | AI106: =COUNTIF(VQ_MOSData!D:D,"<2.1")/'Voice Quality Summary'!C$13 -> #DIV/0! | AJ106: =COUNTIF(VQ_MOSData!E:E,"<2.1")/'Voice Quality Summary'!D$13 -> #DIV/0! | AK106: =COUNTIF(VQ_MOSData!F:F,"<2.1")/'Voice Quality Summary'!E$13 -> 0 | AL106: =COUNTIF(VQ_MOSData!G:G,"<2.1")/'Voice Quality Summary'!F$13 -> #DIV/0! | AM106: =COUNTIF(VQ_MOSData!H:H,"<2.1")/'Voice Quality Summary'!G$13 -> 0.011363636 | AN106: =COUNTIF(VQ_MOSData!I:I,"<2.1")/'Voice Quality Summary'!H$13 -> #DIV/0! | AO106: =COUNTIF(VQ_MOSData!J:J,"<2.1")/'Voice Quality Summary'!I$13 -> #DIV/0! | AP106: =COUNTIF(VQ_MOSData!K:K,"<2.1")/'Voice Quality Summary'!J$13 -> #DIV/0! | AQ106: =COUNTIF(VQ_MOSData!L:L,"<2.1")/'Voice Quality Summary'!K$13 -> 0.011111111 | AR106: =COUNTIF(VQ_MOSData!M:M,"<2.1")/'Voice Quality Summary'!L$13 -> #DIV/0! | AS106: =COUNTIF(VQ_MOSData!N:N,"<2.1")/'Voice Quality Summary'!M$13 -> 0.011235955 | AT106: =COUNTIF(VQ_MOSData!O:O,"<2.1")/'Voice Quality Summary'!N$13 -> #DIV/0!
AH107: <2.0 | AI107: =COUNTIF(VQ_MOSData!D:D,"<2.0")/'Voice Quality Summary'!C$13 -> #DIV/0! | AJ107: =COUNTIF(VQ_MOSData!E:E,"<2.0")/'Voice Quality Summary'!D$13 -> #DIV/0! | AK107: =COUNTIF(VQ_MOSData!F:F,"<2.0")/'Voice Quality Summary'!E$13 -> 0 | AL107: =COUNTIF(VQ_MOSData!G:G,"<2.0")/'Voice Quality Summary'!F$13 -> #DIV/0! | AM107: =COUNTIF(VQ_MOSData!H:H,"<2.0")/'Voice Quality Summary'!G$13 -> 0.011363636 | AN107: =COUNTIF(VQ_MOSData!I:I,"<2.0")/'Voice Quality Summary'!H$13 -> #DIV/0! | AO107: =COUNTIF(VQ_MOSData!J:J,"<2.0")/'Voice Quality Summary'!I$13 -> #DIV/0! | AP107: =COUNTIF(VQ_MOSData!K:K,"<2.0")/'Voice Quality Summary'!J$13 -> #DIV/0! | AQ107: =COUNTIF(VQ_MOSData!L:L,"<2.0")/'Voice Quality Summary'!K$13 -> 0.011111111 | AR107: =COUNTIF(VQ_MOSData!M:M,"<2.0")/'Voice Quality Summary'!L$13 -> #DIV/0! | AS107: =COUNTIF(VQ_MOSData!N:N,"<2.0")/'Voice Quality Summary'!M$13 -> 0 | AT107: =COUNTIF(VQ_MOSData!O:O,"<2.0")/'Voice Quality Summary'!N$13 -> #DIV/0!
AH109: 4.8+ | AI109: =AI78 -> #DIV/0! | AJ109: =AJ78 -> #DIV/0! | AK109: =AK78 -> 0 | AL109: =AL78 -> #DIV/0! | AM109: =AM78 -> 0 | AN109: =AN78 -> #DIV/0! | AO109: =AO78 -> #DIV/0! | AP109: =AP78 -> #DIV/0! | ... AT109: =AT78 -> #DIV/0!
AH110: 4.7-4.8 | AI110: =AI79-AI80 -> #DIV/0! | AJ110: =AJ79-AJ80 -> #DIV/0! | AK110: =AK79-AK80 -> 0 | AL110: =AL79-AL80 -> #DIV/0! | AM110: =AM79-AM80 -> 0 | AN110: =AN79-AN80 -> #DIV/0! | AO110: =AO79-AO80 -> #DIV/0! | AP110: =AP79-AP80 -> #DIV/0! | ... AT110: =AT79-AT80 -> #DIV/0!
AH111: 4.6-4.7 | AI111: =AI80-AI81 -> #DIV/0! | AJ111: =AJ80-AJ81 -> #DIV/0! | AK111: =AK80-AK81 -> 0 | AL111: =AL80-AL81 -> #DIV/0! | AM111: =AM80-AM81 -> 0 | AN111: =AN80-AN81 -> #DIV/0! | AO111: =AO80-AO81 -> #DIV/0! | AP111: =AP80-AP81 -> #DIV/0! | ... AT111: =AT80-AT81 -> #DIV/0!
AH112: 4.5-4.6 | AI112: =AI81-AI82 -> #DIV/0! | AJ112: =AJ81-AJ82 -> #DIV/0! | AK112: =AK81-AK82 -> 0.2183908 | AL112: =AL81-AL82 -> #DIV/0! | AM112: =AM81-AM82 -> 0 | AN112: =AN81-AN82 -> #DIV/0! | AO112: =AO81-AO82 -> #DIV/0! | AP112: =AP81-AP82 -> #DIV/0! | ... AT112: =AT81-AT82 -> #DIV/0!
AH113: 4.4-4.5 | AI113: =AI82-AI83 -> #DIV/0! | AJ113: =AJ82-AJ83 -> #DIV/0! | AK113: =AK82-AK83 -> 0.5862069 | AL113: =AL82-AL83 -> #DIV/0! | AM113: =AM82-AM83 -> 0 | AN113: =AN82-AN83 -> #DIV/0! | AO113: =AO82-AO83 -> #DIV/0! | AP113: =AP82-AP83 -> #DIV/0! | ... AT113: =AT82-AT83 -> #DIV/0!
AH114: 4.3-4.4 | AI114: =AI83-AI84 -> #DIV/0! | AJ114: =AJ83-AJ84 -> #DIV/0! | AK114: =AK83-AK84 -> 0.14942529 | AL114: =AL83-AL84 -> #DIV/0! | AM114: =AM83-AM84 -> 0 | AN114: =AN83-AN84 -> #DIV/0! | AO114: =AO83-AO84 -> #DIV/0! | AP114: =AP83-AP84 -> #DIV/0! | ... AT114: =AT83-AT84 -> #DIV/0!
AH115: 4.2-4.3 | AI115: =AI84-AI85 -> #DIV/0! | AJ115: =AJ84-AJ85 -> #DIV/0! | AK115: =AK84-AK85 -> 0 | AL115: =AL84-AL85 -> #DIV/0! | AM115: =AM84-AM85 -> 0 | AN115: =AN84-AN85 -> #DIV/0! | AO115: =AO84-AO85 -> #DIV/0! | AP115: =AP84-AP85 -> #DIV/0! | ... AT115: =AT84-AT85 -> #DIV/0!
AH116: 4.1-4.2 | AI116: =AI85-AI86 -> #DIV/0! | AJ116: =AJ85-AJ86 -> #DIV/0! | AK116: =AK85-AK86 -> 0.011494253 | AL116: =AL85-AL86 -> #DIV/0! | AM116: =AM85-AM86 -> 0.022727273 | AN116: =AN85-AN86 -> #DIV/0! | AO116: =AO85-AO86 -> #DIV/0! | AP116: =AP85-AP86 -> #DIV/0! | ... AT116: =AT85-AT86 -> #DIV/0!
AH117: 4.0-4.1 | AI117: =AI86-AI87 -> #DIV/0! | AJ117: =AJ86-AJ87 -> #DIV/0! | AK117: =AK86-AK87 -> 0 | AL117: =AL86-AL87 -> #DIV/0! | AM117: =AM86-AM87 -> 0.18181818 | AN117: =AN86-AN87 -> #DIV/0! | AO117: =AO86-AO87 -> #DIV/0! | AP117: =AP86-AP87 -> #DIV/0! | ... AT117: =AT86-AT87 -> #DIV/0!
AH118: 3.9-4.0 | AI118: =AI87-AI88 -> #DIV/0! | AJ118: =AJ87-AJ88 -> #DIV/0! | AK118: =AK87-AK88 -> 0.011494253 | AL118: =AL87-AL88 -> #DIV/0! | AM118: =AM87-AM88 -> 0.21590909 | AN118: =AN87-AN88 -> #DIV/0! | AO118: =AO87-AO88 -> #DIV/0! | AP118: =AP87-AP88 -> #DIV/0! | ... AT118: =AT87-AT88 -> #DIV/0!
AH119: 3.9-3.8 | AI119: =AI88-AI89 -> #DIV/0! | AJ119: =AJ88-AJ89 -> #DIV/0! | AK119: =AK88-AK89 -> 0 | AL119: =AL88-AL89 -> #DIV/0! | AM119: =AM88-AM89 -> 0.34090909 | AN119: =AN88-AN89 -> #DIV/0! | AO119: =AO88-AO89 -> #DIV/0! | AP119: =AP88-AP89 -> #DIV/0! | ... AT119: =AT88-AT89 -> #DIV/0!
AH120: 3.8-3.7 | AI120: =AI89-AI90 -> #DIV/0! | AJ120: =AJ89-AJ90 -> #DIV/0! | AK120: =AK89-AK90 -> 0.011494253 | AL120: =AL89-AL90 -> #DIV/0! | AM120: =AM89-AM90 -> 0.14772727 | AN120: =AN89-AN90 -> #DIV/0! | AO120: =AO89-AO90 -> #DIV/0! | AP120: =AP89-AP90 -> #DIV/0! | ... AT120: =AT89-AT90 -> #DIV/0!
AH121: 3.7-3.6 | AI121: =AI90-AI91 -> #DIV/0! | AJ121: =AJ90-AJ91 -> #DIV/0! | AK121: =AK90-AK91 -> 0.011494253 | AL121: =AL90-AL91 -> #DIV/0! | AM121: =AM90-AM91 -> 0.022727273 | AN121: =AN90-AN91 -> #DIV/0! | AO121: =AO90-AO91 -> #DIV/0! | AP121: =AP90-AP91 -> #DIV/0! | ... AT121: =AT90-AT91 -> #DIV/0!
... AH137: 2.1-2.0 | AI137: =AI106-AI107 -> #DIV/0! | AJ137: =AJ106-AJ107 -> #DIV/0! | AK137: =AK106-AK107 -> 0 | AL137: =AL106-AL107 -> #DIV/0! | AM137: =AM106-AM107 -> 0 | AN137: =AN106-AN107 -> #DIV/0! | AO137: =AO106-AO107 -> #DIV/0! | AP137: =AP106-AP107 -> #DIV/0! | ... AT137: =AT106-AT107 -> #DIV/0!
AH138: <2.0 | AI138: =AI107 -> #DIV/0! | AJ138: =AJ107 -> #DIV/0! | AK138: =AK107 -> 0 | AL138: =AL107 -> #DIV/0! | AM138: =AM107 -> 0.011363636 | AN138: =AN107 -> #DIV/0! | AO138: =AO107 -> #DIV/0! | AP138: =AP107 -> #DIV/0! | ... AT138: =AT107 -> #DIV/0!
AI140: =SUM(AI109:AI138) -> #DIV/0! | AJ140: =SUM(AJ109:AJ138) -> #DIV/0! | AK140: =SUM(AK109:AK138) -> 1 | AL140: =SUM(AL109:AL138) -> #DIV/0! | AM140: =SUM(AM109:AM138) -> 1 | AN140: =SUM(AN109:AN138) -> #DIV/0! | AO140: =SUM(AO109:AO138) -> #DIV/0! | AP140: =SUM(AP109:AP138) -> #DIV/0! | ... AT140: =SUM(AT109:AT138) -> #DIV/0!

Sheet Delay Performance Summary
A1: Delay Performance Summary
C8: =CONCATENATE("Channel ",'Delay Measurements'!G1," to Channel ",'Delay Measurements'!H1) -> Channel 3 to Channel 4 | D8: =CONCATENATE("Channel ",'Delay Measurements'!H1," to Channel ",'Delay Measurements'!G1) -> Channel 4 to Channel 3
B9: Average Delay Start to End (s) | C9: =IFERROR(AVERAGEIF('Delay Measurements'!G2:G10000,">0"),0) -> 0 | D9: =IFERROR(AVERAGEIF('Delay Measurements'!H2:H10000,">0"),0) -> 0
B10: Delay Standard Deviation | C10: =IFERROR(STDEV('Delay Measurements'!G2:G10000),0) -> 0 | D10: =IFERROR(STDEV('Delay Measurements'!H2:H10000),0) -> 0
B11: Total # of Measurements | C11: =COUNT('Delay Measurements'!G2:G10000) -> 0 | D11: =COUNT('Delay Measurements'!H2:H10000) -> 0
B12: Minimum Delay (s) | C12: =MIN('Delay Measurements'!G2:G10000) -> 0 | D12: =MIN('Delay Measurements'!H2:H10000) -> 0
B13: Median Delay (s) | C13: =IFERROR(MEDIAN('Delay Measurements'!G2:G10000),0) -> 0 | D13: =IFERROR(MEDIAN('Delay Measurements'!H2:H10000),0) -> 0
B14: Maximum Delay (s) | C14: =MAX('Delay Measurements'!G2:G10000) -> 0 | D14: =MAX('Delay Measurements'!H2:H10000) -> 0
G43: S1 | H43: 1
G44: S2 | H44: 2
F46: =1 -> 1 | G46: <1 | H46: =COUNTIF('Delay Measurements'!G:G,"<"&F46)/'Delay Performance Summary'!$C$11 -> #DIV/0! | I46: =COUNTIF('Delay Measurements'!H:H,"<"&F46)/'Delay Performance Summary'!$D$11 -> #DIV/0!
F47: =F46-0.05 -> 0.95 | G47: <0.950 | H47: =COUNTIF('Delay Measurements'!G:G,"<"&F47)/'Delay Performance Summary'!$C$11 -> #DIV/0! | I47: =COUNTIF('Delay Measurements'!H:H,"<"&F47)/'Delay Performance Summary'!$D$11 -> #DIV/0!
F48: =F47-0.05 -> 0.9 | G48: <0.900 | H48: =COUNTIF('Delay Measurements'!G:G,"<"&F48)/'Delay Performance Summary'!$C$11 -> #DIV/0! | I48: =COUNTIF('Delay Measurements'!H:H,"<"&F48)/'Delay Performance Summary'!$D$11 -> #DIV/0!
F49: =F48-0.05 -> 0.85 | G49: <0.850 | H49: =COUNTIF('Delay Measurements'!G:G,"<"&F49)/'Delay Performance Summary'!$C$11 -> #DIV/0! | I49: =COUNTIF('Delay Measurements'!H:H,"<"&F49)/'Delay Performance Summary'!$D$11 -> #DIV/0!
F50: =F49-0.05 -> 0.8 | G50: <0.800 | H50: =COUNTIF('Delay Measurements'!G:G,"<"&F50)/'Delay Performance Summary'!$C$11 -> #DIV/0! | I50: =COUNTIF('Delay Measurements'!H:H,"<"&F50)/'Delay Performance Summary'!$D$11 -> #DIV/0!
F51: =F50-0.05 -> 0.75 | G51: <0.750 | H51: =COUNTIF('Delay Measurements'!G:G,"<"&F51)/'Delay Performance Summary'!$C$11 -> #DIV/0! | I51: =COUNTIF('Delay Measurements'!H:H,"<"&F51)/'Delay Performance Summary'!$D$11 -> #DIV/0!
F52: =F51-0.05 -> 0.7 | G52: <0.700 | H52: =COUNTIF('Delay Measurements'!G:G,"<"&F52)/'Delay Performance Summary'!$C$11 -> #DIV/0! | I52: =COUNTIF('Delay Measurements'!H:H,"<"&F52)/'Delay Performance Summary'!$D$11 -> #DIV/0!
F53: =F52-0.05 -> 0.65 | G53: <0.650 | H53: =COUNTIF('Delay Measurements'!G:G,"<"&F53)/'Delay Performance Summary'!$C$11 -> #DIV/0! | I53: =COUNTIF('Delay Measurements'!H:H,"<"&F53)/'Delay Performance Summary'!$D$11 -> #DIV/0!
F54: =F53-0.05 -> 0.6 | G54: <0.600 | H54: =COUNTIF('Delay Measurements'!G:G,"<"&F54)/'Delay Performance Summary'!$C$11 -> #DIV/0! | I54: =COUNTIF('Delay Measurements'!H:H,"<"&F54)/'Delay Performance Summary'!$D$11 -> #DIV/0!
F55: =F54-0.05 -> 0.55 | G55: <0.550 | H55: =COUNTIF('Delay Measurements'!G:G,"<"&F55)/'Delay Performance Summary'!$C$11 -> #DIV/0! | I55: =COUNTIF('Delay Measurements'!H:H,"<"&F55)/'Delay Performance Summary'!$D$11 -> #DIV/0!
F56: =F55-0.05 -> 0.5 | G56: <0.500 | H56: =COUNTIF('Delay Measurements'!G:G,"<"&F56)/'Delay Performance Summary'!$C$11 -> #DIV/0! | I56: =COUNTIF('Delay Measurements'!H:H,"<"&F56)/'Delay Performance Summary'!$D$11 -> #DIV/0!
F57: =F56-0.05 -> 0.45 | G57: <0.450 | H57: =COUNTIF('Delay Measurements'!G:G,"<"&F57)/'Delay Performance Summary'!$C$11 -> #DIV/0! | I57: =COUNTIF('Delay Measurements'!H:H,"<"&F57)/'Delay Performance Summary'!$D$11 -> #DIV/0!
F58: =F57-0.05 -> 0.4 | G58: <0.400 | H58: =COUNTIF('Delay Measurements'!G:G,"<"&F58)/'Delay Performance Summary'!$C$11 -> #DIV/0! | I58: =COUNTIF('Delay Measurements'!H:H,"<"&F58)/'Delay Performance Summary'!$D$11 -> #DIV/0!
... F65: =F64-0.05 -> 0.05 | G65: <0.05 | H65: =COUNTIF('Delay Measurements'!G:G,"<"&F65)/'Delay Performance Summary'!$C$11 -> #DIV/0! | I65: =COUNTIF('Delay Measurements'!H:H,"<"&F65)/'Delay Performance Summary'!$D$11 -> #DIV/0!
G67: 0.950-1 | H67: =(H46-H47) -> #DIV/0! | I67: =(I46-I47) -> #DIV/0!
G68: 0.900-0.950 | H68: =(H47-H48) -> #DIV/0! | I68: =(I47-I48) -> #DIV/0!
G69: 0.850-0.900 | H69: =(H48-H49) -> #DIV/0! | I69: =(I48-I49) -> #DIV/0!
G70: 0.800-0.850 | H70: =(H49-H50) -> #DIV/0! | I70: =(I49-I50) -> #DIV/0!
G71: 0.750-0.800 | H71: =(H50-H51) -> #DIV/0! | I71: =(I50-I51) -> #DIV/0!
G72: 0.700-0.750 | H72: =(H51-H52) -> #DIV/0! | I72: =(I51-I52) -> #DIV/0!
G73: 0.650-0.700 | H73: =(H52-H53) -> #DIV/0! | I73: =(I52-I53) -> #DIV/0!
G74: 0.600-0.650 | H74: =(H53-H54) -> #DIV/0! | I74: =(I53-I54) -> #DIV/0!
G75: 0.550-0.600 | H75: =(H54-H55) -> #DIV/0! | I75: =(I54-I55) -> #DIV/0!
G76: 0.500-0.550 | H76: =(H55-H56) -> #DIV/0! | I76: =(I55-I56) -> #DIV/0!
G77: 0.450-0.500 | H77: =(H56-H57) -> #DIV/0! | I77: =(I56-I57) -> #DIV/0!
G78: 0.400-0.450 | H78: =(H57-H58) -> #DIV/0! | I78: =(I57-I58) -> #DIV/0!
... G86: 0-0.05 | H86: =(H65-H66) -> #DIV/0! | I86: =(I65-I66) -> #DIV/0!

Sheet Call Performance Summary
A1: Call Performance Summary | N1: Call Performance Summary(Remote)
G10: Call Initiation Performance | I10: Call Retention Performance | T10: Call Initiation Performance | V10: Call Retention Performance
B11: Device Tested | C11: Hardware Identifier | D11: Connection Attempts | E11: Mean Setup Time (s) | F11: Total Call Duration (s) | G11: Successful Initiations | H11: Failed Initiations | I11: Successful Calls | J11: Dropped Calls | O11: Device Tested | P11: Hardware Identifier | Q11: Connection Attempts | R11: Mean Setup Time (s) | S11: Total Call Duration (s) | T11: Successful Initiations | U11: Failed Initiations | V11: Successful Calls | W11: Dropped Calls
D12: 0 | E12: 0 | F12: 0 | G12: 0 | H12: 0 | I12: 0 | J12: 0 | Q12: 0 | R12: 0 | S12: 0 | T12: 0 | U12: 0 | V12: 0 | W12: 0
D13: 0 | E13: 0 | F13: 0 | G13: 0 | H13: 0 | I13: 0 | J13: 0 | Q13: 0 | R13: 0 | S13: 0 | T13: 0 | U13: 0 | V13: 0 | W13: 0
D14: 0 | E14: 0 | F14: 0 | G14: 0 | H14: 0 | I14: 0 | J14: 0 | Q14: 0 | R14: 0 | S14: 0 | T14: 0 | U14: 0 | V14: 0 | W14: 0
D15: 0 | E15: 0 | F15: 0 | G15: 0 | H15: 0 | I15: 0 | J15: 0 | Q15: 0 | R15: 0 | S15: 0 | T15: 0 | U15: 0 | V15: 0 | W15: 0
D16: 0 | E16: 0 | F16: 0 | G16: 0 | H16: 0 | I16: 0 | J16: 0 | Q16: 0 | R16: 0 | S16: 0 | T16: 0 | U16: 0 | V16: 0 | W16: 0
D17: 0 | E17: 0 | F17: 0 | G17: 0 | H17: 0 | I17: 0 | J17: 0 | Q17: 0 | R17: 0 | S17: 0 | T17: 0 | U17: 0 | V17: 0 | W17: 0
A55: Terminology | N55: Terminology
A56: Successful Initiation - A successfully established call. | N56: Successful Initiation - A successfully established call.
A57: Failed Initiation - Any call not successfully established. The Call Initiation report presents Failed Initiations by outcome. | N57: Failed Initiation - Any call not successfully established. The Call Initiation report presents Failed Initiations by outcome.
A58: Successful Call - A call that is successfully established and which lasts for the expected duration | N58: Successful Call - A call that is successfully established and which lasts for the expected duration
A59: Dropped Call - A call that is successfully established but which ends before the duration has elapsed. | N59: Dropped Call - A call that is successfully established but which ends before the duration has elapsed.
A60: The red line on each chart bar indicates the 90% Confidence Interval. This allows us to report, with 90% confidence that the event rate for a | N60: The red line on each chart bar indicates the 90% Confidence Interval. This allows us to report, with 90% confidence that the event rate for a
A61: given device will fall within the calculated range above and below the measured value. | N61: given device will fall within the calculated range above and below the measured value.

Sheet Call Initiation
A1: Call Initiation Performance | P1: Call Initiation Performance(Remote)
G7: Initiation Failures | V7: Initiation Failures
B8: Test Device | C8: Hardware Identifier | D8: Mean Setup Time (s) | E8: Connection Attempts | F8: Successful Initiations | G8: Failed Attempts | H8: No Service | I8: Access Timeout | J8: Voicemail | K8: Busy | L8: Fast Busy | Q8: Test Device | R8: Hardware Identifier | S8: Mean Setup Time (s) | T8: Connection Attempts | U8: Successful Initiations | V8: Failed Attempts | W8: No Service | X8: Access Timeout | Y8: Voicemail | Z8: Busy | AA8: Fast Busy
B9: ='Call Performance Summary'!B12 -> 0 | C9: ='Call Performance Summary'!C12 -> 0 | D9: ='Call Performance Summary'!E12 -> 0 | E9: ='Call Performance Summary'!D12 -> 0 | F9: ='Call Performance Summary'!G12 -> 0 | G9: 0 | H9: 0 | I9: 0 | J9: 0 | K9: 0 | L9: 0 | Q9: ='Call Performance Summary'!O12 -> 0 | R9: ='Call Performance Summary'!P12 -> 0 | S9: ='Call Performance Summary'!R12 -> 0 | T9: ='Call Performance Summary'!Q12 -> 0 | U9: ='Call Performance Summary'!T12 -> 0 | V9: 0 | W9: 0 | X9: 0 | Y9: 0 | Z9: 0 | AA9: 0
B10: ='Call Performance Summary'!B13 -> 0 | C10: ='Call Performance Summary'!C13 -> 0 | D10: ='Call Performance Summary'!E13 -> 0 | E10: ='Call Performance Summary'!D13 -> 0 | F10: ='Call Performance Summary'!G13 -> 0 | G10: 0 | H10: 0 | I10: 0 | J10: 0 | K10: 0 | L10: 0 | Q10: ='Call Performance Summary'!O13 -> 0 | R10: ='Call Performance Summary'!P13 -> 0 | S10: ='Call Performance Summary'!R13 -> 0 | T10: ='Call Performance Summary'!Q13 -> 0 | U10: ='Call Performance Summary'!T13 -> 0 | V10: 0 | W10: 0 | X10: 0 | Y10: 0 | Z10: 0 | AA10: 0
B11: ='Call Performance Summary'!B14 -> 0 | C11: ='Call Performance Summary'!C14 -> 0 | D11: ='Call Performance Summary'!E14 -> 0 | E11: ='Call Performance Summary'!D14 -> 0 | F11: ='Call Performance Summary'!G14 -> 0 | G11: 0 | H11: 0 | I11: 0 | J11: 0 | K11: 0 | L11: 0 | Q11: ='Call Performance Summary'!O14 -> 0 | R11: ='Call Performance Summary'!P14 -> 0 | S11: ='Call Performance Summary'!R14 -> 0 | T11: ='Call Performance Summary'!Q14 -> 0 | U11: ='Call Performance Summary'!T14 -> 0 | V11: 0 | W11: 0 | X11: 0 | Y11: 0 | Z11: 0 | AA11: 0
B12: ='Call Performance Summary'!B15 -> 0 | C12: ='Call Performance Summary'!C15 -> 0 | D12: ='Call Performance Summary'!E15 -> 0 | E12: ='Call Performance Summary'!D15 -> 0 | F12: ='Call Performance Summary'!G15 -> 0 | G12: 0 | H12: 0 | I12: 0 | J12: 0 | K12: 0 | L12: 0 | Q12: ='Call Performance Summary'!O15 -> 0 | R12: ='Call Performance Summary'!P15 -> 0 | S12: ='Call Performance Summary'!R15 -> 0 | T12: ='Call Performance Summary'!Q15 -> 0 | U12: ='Call Performance Summary'!T15 -> 0 | V12: 0 | W12: 0 | X12: 0 | Y12: 0 | Z12: 0 | AA12: 0
B13: ='Call Performance Summary'!B16 -> 0 | C13: ='Call Performance Summary'!C16 -> 0 | D13: ='Call Performance Summary'!E16 -> 0 | E13: ='Call Performance Summary'!D16 -> 0 | F13: ='Call Performance Summary'!G16 -> 0 | G13: 0 | H13: 0 | I13: 0 | J13: 0 | K13: 0 | L13: 0 | Q13: ='Call Performance Summary'!O16 -> 0 | R13: ='Call Performance Summary'!P16 -> 0 | S13: ='Call Performance Summary'!R16 -> 0 | T13: ='Call Performance Summary'!Q16 -> 0 | U13: ='Call Performance Summary'!T16 -> 0 | V13: 0 | W13: 0 | X13: 0 | Y13: 0 | Z13: 0 | AA13: 0
B14: ='Call Performance Summary'!B17 -> 0 | C14: ='Call Performance Summary'!C17 -> 0 | D14: ='Call Performance Summary'!E17 -> 0 | E14: ='Call Performance Summary'!D17 -> 0 | F14: ='Call Performance Summary'!G17 -> 0 | G14: 0 | H14: 0 | I14: 0 | J14: 0 | K14: 0 | L14: 0 | Q14: ='Call Performance Summary'!O17 -> 0 | R14: ='Call Performance Summary'!P17 -> 0 | S14: ='Call Performance Summary'!R17 -> 0 | T14: ='Call Performance Summary'!Q17 -> 0 | U14: ='Call Performance Summary'!T17 -> 0 | V14: 0 | W14: 0 | X14: 0 | Y14: 0 | Z14: 0 | AA14: 0
A53: Terminology | P53: Terminology
A54: Failed Attempt - A MO call was placed and an outgoing call was established followed by the phone's return to the call placement state. | P54: Failed Attempt - A MO call was placed and an outgoing call was established followed by the phone's return to the call placement state.
A55: No Service - There was no service available when the call was attempted. | P55: No Service - There was no service available when the call was attempted.
A56: Access Timeout - A MO call was placed but no state change before Access Timeout *or* MT connection did not take place before Access Timeout. | P56: Access Timeout - A MO call was placed but no state change before Access Timeout *or* MT connection did not take place before Access Timeout.
A57: Voicemail - A MT call was placed and the nonstandard voicemail response was received from the mobile. | P57: Voicemail - A MT call was placed and the nonstandard voicemail response was received from the mobile.
A58: Busy - A MT call was placed and the nonstandard busy response was received from the mobile. | P58: Busy - A MT call was placed and the nonstandard busy response was received from the mobile.
A59: Fast Busy - A MT call was placed and the nonstandard fast busy response was received from the mobile. | P59: Fast Busy - A MT call was placed and the nonstandard fast busy response was received from the mobile.

Sheet Call Retention
A1: Call Retention Performance | L1: Call Retention Performance(Remote)
B7: Test Device | C7: Hardware Identifier | D7: Connection Attempts | E7: Successful Initiations | F7: Dropped Calls | G7: Dropped Call Rate (%) | H7: Confidence Interval | M7: Test Device | N7: Hardware Identifier | O7: Connection Attempts | P7: Successful Initiations | Q7: Dropped Calls | R7: Dropped Call Rate (%) | S7: Confidence Interval
B8: ='Call Performance Summary'!B12 -> 0 | C8: ='Call Performance Summary'!C12 -> 0 | D8: ='Call Performance Summary'!D12 -> 0 | E8: ='Call Performance Summary'!D12*'Call Performance Summary'!G12 -> 0 | F8: =E8*'Call Performance Summary'!J12 -> 0 | G8: =IF(E8>0,F8/E8,0) -> 0 | H8: =CP_Calculations!H26 -> 0 | M8: ='Call Performance Summary'!O12 -> 0 | N8: ='Call Performance Summary'!P12 -> 0 | O8: ='Call Performance Summary'!Q12 -> 0 | P8: ='Call Performance Summary'!Q12*'Call Performance Summary'!T12 -> 0 | Q8: =P8*'Call Performance Summary'!W12 -> 0 | R8: =IF(P8>0,Q8/P8,0) -> 0 | S8: =CP_Calculations!P26 -> 0
B9: ='Call Performance Summary'!B13 -> 0 | C9: ='Call Performance Summary'!C13 -> 0 | D9: ='Call Performance Summary'!D13 -> 0 | E9: ='Call Performance Summary'!D13*'Call Performance Summary'!G13 -> 0 | F9: =E9*'Call Performance Summary'!J13 -> 0 | G9: =IF(E9>0,F9/E9,0) -> 0 | H9: =CP_Calculations!H27 -> 0 | M9: ='Call Performance Summary'!O13 -> 0 | N9: ='Call Performance Summary'!P13 -> 0 | O9: ='Call Performance Summary'!Q13 -> 0 | P9: ='Call Performance Summary'!Q13*'Call Performance Summary'!T13 -> 0 | Q9: =P9*'Call Performance Summary'!W13 -> 0 | R9: =IF(P9>0,Q9/P9,0) -> 0 | S9: =CP_Calculations!P27 -> 0
B10: ='Call Performance Summary'!B14 -> 0 | C10: ='Call Performance Summary'!C14 -> 0 | D10: ='Call Performance Summary'!D14 -> 0 | E10: ='Call Performance Summary'!D14*'Call Performance Summary'!G14 -> 0 | F10: =E10*'Call Performance Summary'!J14 -> 0 | G10: =IF(E10>0,F10/E10,0) -> 0 | H10: =CP_Calculations!H28 -> 0 | M10: ='Call Performance Summary'!O14 -> 0 | N10: ='Call Performance Summary'!P14 -> 0 | O10: ='Call Performance Summary'!Q14 -> 0 | P10: ='Call Performance Summary'!Q14*'Call Performance Summary'!T14 -> 0 | Q10: =P10*'Call Performance Summary'!W14 -> 0 | R10: =IF(P10>0,Q10/P10,0) -> 0 | S10: =CP_Calculations!P28 -> 0
B11: ='Call Performance Summary'!B15 -> 0 | C11: ='Call Performance Summary'!C15 -> 0 | D11: ='Call Performance Summary'!D15 -> 0 | E11: ='Call Performance Summary'!D15*'Call Performance Summary'!G15 -> 0 | F11: =E11*'Call Performance Summary'!J15 -> 0 | G11: =IF(E11>0,F11/E11,0) -> 0 | H11: =CP_Calculations!H29 -> 0 | M11: ='Call Performance Summary'!O15 -> 0 | N11: ='Call Performance Summary'!P15 -> 0 | O11: ='Call Performance Summary'!Q15 -> 0 | P11: ='Call Performance Summary'!Q15*'Call Performance Summary'!T15 -> 0 | Q11: =P11*'Call Performance Summary'!W15 -> 0 | R11: =IF(P11>0,Q11/P11,0) -> 0 | S11: =CP_Calculations!P29 -> 0
B12: ='Call Performance Summary'!B16 -> 0 | C12: ='Call Performance Summary'!C16 -> 0 | D12: ='Call Performance Summary'!D16 -> 0 | E12: ='Call Performance Summary'!D16*'Call Performance Summary'!G16 -> 0 | F12: =E12*'Call Performance Summary'!J16 -> 0 | G12: =IF(E12>0,F12/E12,0) -> 0 | H12: =CP_Calculations!H30 -> 0 | M12: ='Call Performance Summary'!O16 -> 0 | N12: ='Call Performance Summary'!P16 -> 0 | O12: ='Call Performance Summary'!Q16 -> 0 | P12: ='Call Performance Summary'!Q16*'Call Performance Summary'!T16 -> 0 | Q12: =P12*'Call Performance Summary'!W16 -> 0 | R12: =IF(P12>0,Q12/P12,0) -> 0 | S12: =CP_Calculations!P30 -> 0
B13: ='Call Performance Summary'!B17 -> 0 | C13: ='Call Performance Summary'!C17 -> 0 | D13: ='Call Performance Summary'!D17 -> 0 | E13: ='Call Performance Summary'!D17*'Call Performance Summary'!G17 -> 0 | F13: =E13*'Call Performance Summary'!J17 -> 0 | G13: =IF(E13>0,F13/E13,0) -> 0 | H13: =CP_Calculations!H31 -> 0 | M13: ='Call Performance Summary'!O17 -> 0 | N13: ='Call Performance Summary'!P17 -> 0 | O13: ='Call Performance Summary'!Q17 -> 0 | P13: ='Call Performance Summary'!Q17*'Call Performance Summary'!T17 -> 0 | Q13: =P13*'Call Performance Summary'!W17 -> 0 | R13: =IF(P13>0,Q13/P13,0) -> 0 | S13: =CP_Calculations!P31 -> 0
A36: Terminology | L36: Terminology
A37: Dropped Call - A call that is successfully established but which ends before the duration has elapsed. | L37: Dropped Call - A call that is successfully established but which ends before the duration has elapsed.
A38: Dropped Call Rate - The percent of all successful initiations which result in a dropped call. | L38: Dropped Call Rate - The percent of all successful initiations which result in a dropped call.
A39: Confidence Interval = +/- z(a) * s(p) = 1.645 * s(p) where | L39: Confidence Interval = +/- z(a) * s(p) = 1.645 * s(p) where
B42: n = connection attempts | E42: s(p) = SQRT[ (p(1 - p) / (n - 1) ] | M42: n = connection attempts | P42: s(p) = SQRT[ (p(1 - p) / (n - 1) ]
B43: p = percentage of drops | E43: z(a) = z(90th percentile) = 1.645 | M43: p = percentage of drops | P43: z(a) = z(90th percentile) = 1.645

Sheet Audio Verification
A1: Audio Verification Performance
B7: Test Device | C7: Hardware Identifier | D7: Verification Attempts | E7: Passed Audio Verification Count | F7: Failed Audio Verification Count | G7: Failed Audio Verification (%) | H7: Confidence Interval
B8: ='Call Performance Summary'!B12 -> 0 | C8: ='Call Performance Summary'!C12 -> 0 | D8: 0 | E8: 0 | F8: 0 | G8: 0 | H8: 0
B9: ='Call Performance Summary'!B13 -> 0 | C9: ='Call Performance Summary'!C13 -> 0 | D9: 0 | E9: 0 | F9: 0 | G9: 0 | H9: 0
B10: ='Call Performance Summary'!B14 -> 0 | C10: ='Call Performance Summary'!C14 -> 0 | D10: 0 | E10: 0 | F10: 0 | G10: 0 | H10: 0
B11: ='Call Performance Summary'!B15 -> 0 | C11: ='Call Performance Summary'!C15 -> 0 | D11: 0 | E11: 0 | F11: 0 | G11: 0 | H11: 0
B12: ='Call Performance Summary'!B16 -> 0 | C12: ='Call Performance Summary'!C16 -> 0 | D12: 0 | E12: 0 | F12: 0 | G12: 0 | H12: 0
B13: ='Call Performance Summary'!B17 -> 0 | C13: ='Call Performance Summary'!C17 -> 0 | D13: 0 | E13: 0 | F13: 0 | G13: 0 | H13: 0
A35: Terminology
A36: Passed Audio Verification Count - A count of calls where the presence of audio was detected successfully
A37: Failed Audio Verification Count - A count of calls where the presence of audio was not detected successfully
A38: Confidence Interval = +/- z(a) * s(p) = 1.282 * s(p) where
B41: n = connection attempts | E41: s(p) = SQRT[ (p(1 - p) / (n - 1) ]
B42: p = percentage of failed audio verification calls | E42: z(a) = z(90th percentile) = 1.645

Sheet Device Performance
A1: Device Performance | N1: Device Performance(Remote)
G7: Signal Strength Performance* | I7: Battery Performance** | T7: Signal Strength Performance* | V7: Battery Performance**
B8: Test Device | C8: Hardware Identifier | D8: # Physical Link Errors | E8: # Logical Device Errors | F8: # BC Errors | G8: # Signal Strength Reports | H8: Mean Signal Strength | I8: # Battery Reports | J8: Mean Battery Level | O8: Test Device | P8: Hardware Identifier | Q8: # Physical Link Errors | R8: # Logical Device Errors | S8: # BC Errors | T8: # Signal Strength Reports | U8: Mean Signal Strength | V8: # Battery Reports | W8: Mean Battery Level
B9: ='Call Performance Summary'!B12 -> 0 | C9: ='Call Performance Summary'!C12 -> 0 | D9: 0 | E9: 0 | F9: 0 | G9: 0 | H9: 0 | I9: 0 | J9: 0 | O9: ='Call Performance Summary'!O12 -> 0 | P9: ='Call Performance Summary'!P12 -> 0 | Q9: 0 | R9: 0 | S9: 0 | T9: 0 | U9: 0 | V9: 0 | W9: 0
B10: ='Call Performance Summary'!B13 -> 0 | C10: ='Call Performance Summary'!C13 -> 0 | D10: 0 | E10: 0 | F10: 0 | G10: 0 | H10: 0 | I10: 0 | J10: 0 | O10: ='Call Performance Summary'!O13 -> 0 | P10: ='Call Performance Summary'!P13 -> 0 | Q10: 0 | R10: 0 | S10: 0 | T10: 0 | U10: 0 | V10: 0 | W10: 0
B11: ='Call Performance Summary'!B14 -> 0 | C11: ='Call Performance Summary'!C14 -> 0 | D11: 0 | E11: 0 | F11: 0 | G11: 0 | H11: 0 | I11: 0 | J11: 0 | O11: ='Call Performance Summary'!O14 -> 0 | P11: ='Call Performance Summary'!P14 -> 0 | Q11: 0 | R11: 0 | S11: 0 | T11: 0 | U11: 0 | V11: 0 | W11: 0
B12: ='Call Performance Summary'!B15 -> 0 | C12: ='Call Performance Summary'!C15 -> 0 | D12: 0 | E12: 0 | F12: 0 | G12: 0 | H12: 0 | I12: 0 | J12: 0 | O12: ='Call Performance Summary'!O15 -> 0 | P12: ='Call Performance Summary'!P15 -> 0 | Q12: 0 | R12: 0 | S12: 0 | T12: 0 | U12: 0 | V12: 0 | W12: 0
B13: ='Call Performance Summary'!B16 -> 0 | C13: ='Call Performance Summary'!C16 -> 0 | D13: 0 | E13: 0 | F13: 0 | G13: 0 | H13: 0 | I13: 0 | J13: 0 | O13: ='Call Performance Summary'!O16 -> 0 | P13: ='Call Performance Summary'!P16 -> 0 | Q13: 0 | R13: 0 | S13: 0 | T13: 0 | U13: 0 | V13: 0 | W13: 0
B14: ='Call Performance Summary'!B17 -> 0 | C14: ='Call Performance Summary'!C17 -> 0 | D14: 0 | E14: 0 | F14: 0 | G14: 0 | H14: 0 | I14: 0 | J14: 0 | O14: ='Call Performance Summary'!O17 -> 0 | P14: ='Call Performance Summary'!P17 -> 0 | Q14: 0 | R14: 0 | S14: 0 | T14: 0 | U14: 0 | V14: 0 | W14: 0
A69: *Note that Signal Strength reporting varies widely by device, and is not supported by all device types. | N69: *Note that Signal Strength reporting varies widely by device, and is not supported by all device types.
A70: **Note that Battery Performance reporting varies widely by device, and is not supported by all device types. Charging the battery during | N70: **Note that Battery Performance reporting varies widely by device, and is not supported by all device types. Charging the battery during
A71: testing may cause misleading Battery Performance results for some phones. | N71: testing may cause misleading Battery Performance results for some phones.

Sheet Channel Metadata
A3: Channel 1
B4: Make
B5: Model
B6: Role
B7: Adapter
B8: HardwareID
B9: Nomad Serial Number | C9: 10020090
B10: BTDeviceName
B11: BTDeviceAddr
B12: AudioInterface | C12: HighDefinition
B13: InternetTimeSyncServer
B14: BluetoothWaitBeforeAnswer | C14: 0
B15: MobileToMobileCallTimeTolerance | C15: 0
B16: NumberToDial
B17: NumberDialingFrom
B18: TaskType | C18: AQ_MOBILE
B19: ReferenceFilePath | C19: C:\Program Files (x86)\Spirent Communications\NomadUX\Audio Files\Chinese_48K_SWB.wav
B20: SourceFilePath | C20: C:\Program Files (x86)\Spirent Communications\NomadUX\Audio Files\Chinese_48K_SWB.wav
B21: CycleCount | C21: 0
B22: ExternalDevice | C22: LocalBase
B23: ExternalDeviceChannelIndex | C23: 1
B24: CycleTimeSeconds | C24: 10
B25: UseDefaultValues | C25: TRUE
B26: IsAFSEnabled | C26: TRUE
B27: AFSCount | C27: 5
B28: ScoringModel | C28: P863
B29: SampleRate | C29: Rate48kHz
B30: PolqaVersion | C30: V2.4
B31: CollectUplinkFiles | C31: FALSE
B32: CollectUplinkScores | C32: TRUE
B33: Connection.Host | C33: 192.168.1.1
B34: Connection.Port | C34: 5060
B35: Connection.PublicIdentity | C35: sip:johndoe@open-ims.test
B36: Connection.PrivateIdentity | C36: johndoe@open-ims.test
B37: Connection.Password
B38: Connection.Realm | C38: open-ims.test
B39: Connection.IpVersion | C39: Ipv4
B40: Connection.Transport | C40: Udp
B41: Connection.Codec.nb_be | C41: FALSE
B42: Connection.Codec.nb_oa | C42: FALSE
B43: Connection.Codec.wb_be | C43: FALSE
B44: Connection.Codec.wb_oa | C44: FALSE
A45: Channel 2
B46: Make
B47: Model
B48: Role
B49: Adapter
B50: HardwareID
B51: Nomad Serial Number | C51: 10020090
B52: BTDeviceName
B53: BTDeviceAddr
B54: AudioInterface | C54: HighDefinition
B55: InternetTimeSyncServer
B56: BluetoothWaitBeforeAnswer | C56: 0
B57: MobileToMobileCallTimeTolerance | C57: 0
B58: NumberToDial
B59: NumberDialingFrom
B60: TaskType | C60: AQ_BASE
B61: ReferenceFilePath | C61: C:\Program Files (x86)\Spirent Communications\NomadUX\Audio Files\Chinese_48K_SWB.wav
B62: SourceFilePath | C62: C:\Program Files (x86)\Spirent Communications\NomadUX\Audio Files\Chinese_48K_SWB.wav
B63: CycleCount | C63: 0
B64: ExternalDevice | C64: LocalMobile
B65: ExternalDeviceChannelIndex | C65: 0
B66: CycleTimeSeconds | C66: 10
B67: UseDefaultValues | C67: TRUE
B68: IsAFSEnabled | C68: TRUE
B69: AFSCount | C69: 5
B70: ScoringModel | C70: P863
B71: SampleRate | C71: Rate48kHz
B72: PolqaVersion | C72: V2.4
A73: Channel 3
B74: Make
B75: Model
B76: Role
B77: Adapter
B78: HardwareID
B79: Nomad Serial Number | C79: 10020090
B80: BTDeviceName
B81: BTDeviceAddr
B82: AudioInterface | C82: HighDefinition
B83: InternetTimeSyncServer
B84: BluetoothWaitBeforeAnswer | C84: 0
B85: MobileToMobileCallTimeTolerance | C85: 0
B86: NumberToDial
B87: NumberDialingFrom
B88: TaskType | C88: AQ_MOBILE
B89: ReferenceFilePath | C89: C:\Program Files (x86)\Spirent Communications\NomadUX\Audio Files\Chinese_48K_SWB.wav
B90: SourceFilePath | C90: C:\Program Files (x86)\Spirent Communications\NomadUX\Audio Files\Chinese_48K_SWB.wav
B91: CycleCount | C91: 0
B92: ExternalDevice | C92: LocalBase
B93: ExternalDeviceChannelIndex | C93: 3
B94: CycleTimeSeconds | C94: 10
B95: UseDefaultValues | C95: TRUE
B96: IsAFSEnabled | C96: TRUE
B97: AFSCount | C97: 5
B98: ScoringModel | C98: P863
B99: SampleRate | C99: Rate48kHz
B100: PolqaVersion | C100: V2.4
B101: CollectUplinkFiles | C101: FALSE
B102: CollectUplinkScores | C102: TRUE
...

Sheet CP_Channel1
A1: DATE_TIME | B1: YCOORD | C1: XCOORD | D1: EVENT | E1: CHANNEL_INDEX
A2: 45482.238 | B2: 0 | C2: 0 | D2: P863_DETAIL_RESULT | E2: 1 | F2: 45482.238 | G2: Downlink | H2: 0 | I2: 0 | J2: 0 | K2: 0 | L2: 0 | M2: 0 | N2: 0 | O2: 0 | P2: 0 | Q2: 0 | R2: 0 | S2: 0 | T2: 0 | U2: 0 | V2: 0 | W2: 0 | X2: 0 | Y2: 0 | Z2: 0 | AA2: 0 | AB2: 0 | AC2: 0 | AD2: 0 | AE2: 0 | AF2: 0 | AG2: 185 | AH2: Normal | AI2: D:\字节\MOS\测试vivo\2024-07-09_05.41.51.509_S_6\Channel 2\Channel_1_cycle_1.wav | AJ2: 867.82157 | AK2: TRUE
A3: 45482.238 | B3: 0 | C3: 0 | D3: P863_DETAIL_RESULT | E3: 1 | F3: 45482.238 | G3: Downlink | H3: 0 | I3: 0 | J3: 0 | K3: 0 | L3: 0 | M3: 0 | N3: 0 | O3: 0 | P3: 0 | Q3: 0 | R3: 0 | S3: 0 | T3: 0 | U3: 0 | V3: 0 | W3: 0 | X3: 0 | Y3: 0 | Z3: 0 | AA3: 0 | AB3: 0 | AC3: 0 | AD3: 0 | AE3: 0 | AF3: 0 | AG3: 185 | AH3: Normal | AI3: D:\字节\MOS\测试vivo\2024-07-09_05.41.51.509_S_6\Channel 1\Channel_0_cycle_1.wav | AJ3: 801.81232 | AK3: TRUE
A4: 45482.238 | B4: 0 | C4: 0 | D4: P863_DETAIL_RESULT | E4: 2 | F4: 45482.238 | G4: Downlink | H4: 0 | I4: 0 | J4: 0 | K4: 0 | L4: 0 | M4: 0 | N4: 0 | O4: 0 | P4: 0 | Q4: 0 | R4: 0 | S4: 0 | T4: 0 | U4: 0 | V4: 0 | W4: 0 | X4: 0 | Y4: 0 | Z4: 0 | AA4: 0 | AB4: 0 | AC4: 0 | AD4: 0 | AE4: 0 | AF4: 0 | AG4: 185 | AH4: Normal | AI4: D:\字节\MOS\测试vivo\2024-07-09_05.41.51.509_S_6\Channel 2\Channel_1_cycle_2.wav | AJ4: 868.50409 | AK4: TRUE
A5: 45482.238 | B5: 0 | C5: 0 | D5: P863_DETAIL_RESULT | E5: 2 | F5: 45482.238 | G5: Downlink | H5: 0 | I5: 0 | J5: 0 | K5: 0 | L5: 0 | M5: 0 | N5: 0 | O5: 0 | P5: 0 | Q5: 0 | R5: 0 | S5: 0 | T5: 0 | U5: 0 | V5: 0 | W5: 0 | X5: 0 | Y5: 0 | Z5: 0 | AA5: 0 | AB5: 0 | AC5: 0 | AD5: 0 | AE5: 0 | AF5: 0 | AG5: 185 | AH5: Normal | AI5: D:\字节\MOS\测试vivo\2024-07-09_05.41.51.509_S_6\Channel 1\Channel_0_cycle_2.wav | AJ5: 810.39725 | AK5: TRUE
A6: 45482.238 | B6: 0 | C6: 0 | D6: P863_DETAIL_RESULT | E6: 3 | F6: 45482.238 | G6: Downlink | H6: 0 | I6: 0 | J6: 0 | K6: 0 | L6: 0 | M6: 0 | N6: 0 | O6: 0 | P6: 0 | Q6: 0 | R6: 0 | S6: 0 | T6: 0 | U6: 0 | V6: 0 | W6: 0 | X6: 0 | Y6: 0 | Z6: 0 | AA6: 0 | AB6: 0 | AC6: 0 | AD6: 0 | AE6: 0 | AF6: 0 | AG6: 185 | AH6: Normal | AI6: D:\字节\MOS\测试vivo\2024-07-09_05.41.51.509_S_6\Channel 2\Channel_1_cycle_3.wav | AJ6: 870.2634 | AK6: TRUE
A7: 45482.238 | B7: 0 | C7: 0 | D7: P863_DETAIL_RESULT | E7: 3 | F7: 45482.238 | G7: Downlink | H7: 0 | I7: 0 | J7: 0 | K7: 0 | L7: 0 | M7: 0 | N7: 0 | O7: 0 | P7: 0 | Q7: 0 | R7: 0 | S7: 0 | T7: 0 | U7: 0 | V7: 0 | W7: 0 | X7: 0 | Y7: 0 | Z7: 0 | AA7: 0 | AB7: 0 | AC7: 0 | AD7: 0 | AE7: 0 | AF7: 0 | AG7: 185 | AH7: Normal | AI7: D:\字节\MOS\测试vivo\2024-07-09_05.41.51.509_S_6\Channel 1\Channel_0_cycle_3.wav | AJ7: 807.97298 | AK7: TRUE
A8: 45482.239 | B8: 0 | C8: 0 | D8: P863_DETAIL_RESULT | E8: 4 | F8: 45482.238 | G8: Downlink | H8: 0 | I8: 0 | J8: 0 | K8: 0 | L8: 0 | M8: 0 | N8: 0 | O8: 0 | P8: 0 | Q8: 0 | R8: 0 | S8: 0 | T8: 0 | U8: 0 | V8: 0 | W8: 0 | X8: 0 | Y8: 0 | Z8: 0 | AA8: 0 | AB8: 0 | AC8: 0 | AD8: 0 | AE8: 0 | AF8: 0 | AG8: 185 | AH8: Normal | AI8: D:\字节\MOS\测试vivo\2024-07-09_05.41.51.509_S_6\Channel 2\Channel_1_cycle_4.wav | AJ8: 869.96074 | AK8: TRUE
A9: 45482.239 | B9: 0 | C9: 0 | D9: P863_DETAIL_RESULT | E9: 4 | F9: 45482.239 | G9: Downlink | H9: 0 | I9: 0 | J9: 0 | K9: 0 | L9: 0 | M9: 0 | N9: 0 | O9: 0 | P9: 0 | Q9: 0 | R9: 0 | S9: 0 | T9: 0 | U9: 0 | V9: 0 | W9: 0 | X9: 0 | Y9: 0 | Z9: 0 | AA9: 0 | AB9: 0 | AC9: 0 | AD9: 0 | AE9: 0 | AF9: 0 | AG9: 185 | AH9: Normal | AI9: D:\字节\MOS\测试vivo\2024-07-09_05.41.51.509_S_6\Channel 1\Channel_0_cycle_4.wav | AJ9: 804.9636 | AK9: TRUE
A10: 45482.239 | B10: 0 | C10: 0 | D10: P863_DETAIL_RESULT | E10: 5 | F10: 45482.239 | G10: Downlink | H10: 0 | I10: 0 | J10: 0 | K10: 0 | L10: 0 | M10: 0 | N10: 0 | O10: 0 | P10: 0 | Q10: 0 | R10: 0 | S10: 0 | T10: 0 | U10: 0 | V10: 0 | W10: 0 | X10: 0 | Y10: 0 | Z10: 0 | AA10: 0 | AB10: 0 | AC10: 0 | AD10: 0 | AE10: 0 | AF10: 0 | AG10: 185 | AH10: Normal | AI10: D:\字节\MOS\测试vivo\2024-07-09_05.41.51.509_S_6\Channel 2\Channel_1_cycle_5.wav | AJ10: 874.54722 | AK10: TRUE
A11: 45482.239 | B11: 0 | C11: 0 | D11: P863_DETAIL_RESULT | E11: 5 | F11: 45482.239 | G11: Downlink | H11: 0 | I11: 0 | J11: 0 | K11: 0 | L11: 0 | M11: 0 | N11: 0 | O11: 0 | P11: 0 | Q11: 0 | R11: 0 | S11: 0 | T11: 0 | U11: 0 | V11: 0 | W11: 0 | X11: 0 | Y11: 0 | Z11: 0 | AA11: 0 | AB11: 0 | AC11: 0 | AD11: 0 | AE11: 0 | AF11: 0 | AG11: 185 | AH11: Normal | AI11: D:\字节\MOS\测试vivo\2024-07-09_05.41.51.509_S_6\Channel 1\Channel_0_cycle_5.wav | AJ11: 812.05056 | AK11: TRUE
A12: 45482.239 | B12: 0 | C12: 0 | D12: P863_DETAIL_RESULT | E12: 6 | F12: 45482.239 | G12: Downlink | H12: 0 | I12: 0 | J12: 0 | K12: 0 | L12: 0 | M12: 0 | N12: 0 | O12: 0 | P12: 0 | Q12: 0 | R12: 0 | S12: 0 | T12: 0 | U12: 0 | V12: 0 | W12: 0 | X12: 0 | Y12: 0 | Z12: 0 | AA12: 0 | AB12: 0 | AC12: 0 | AD12: 0 | AE12: 0 | AF12: 0 | AG12: 185 | AH12: Normal | AI12: D:\字节\MOS\测试vivo\2024-07-09_05.41.51.509_S_6\Channel 2\Channel_1_cycle_6.wav | AJ12: 868.74142 | AK12: TRUE
A13: 45482.239 | B13: 0 | C13: 0 | D13: P863_DETAIL_RESULT | E13: 6 | F13: 45482.239 | G13: Downlink | H13: 0 | I13: 0 | J13: 0 | K13: 0 | L13: 0 | M13: 0 | N13: 0 | O13: 0 | P13: 0 | Q13: 0 | R13: 0 | S13: 0 | T13: 0 | U13: 0 | V13: 0 | W13: 0 | X13: 0 | Y13: 0 | Z13: 0 | AA13: 0 | AB13: 0 | AC13: 0 | AD13: 0 | AE13: 0 | AF13: 0 | AG13: 185 | AH13: Normal | AI13: D:\字节\MOS\测试vivo\2024-07-09_05.41.51.509_S_6\Channel 1\Channel_0_cycle_6.wav | AJ13: 799.17669 | AK13: TRUE
... A180: 45482.258 | B180: 0 | C180: 0 | D180: P863_DETAIL_RESULT | E180: 90 | F180: 45482.258 | G180: Downlink | H180: 0 | I180: 0 | J180: 0 | K180: 0 | L180: 0 | M180: 0 | N180: 0 | O180: 0 | P180: 0 | Q180: 0 | R180: 0 | S180: 0 | T180: 0 | U180: 0 | V180: 0 | W180: 0 | X180: 0 | Y180: 0 | Z180: 0 | AA180: 0 | AB180: 0 | AC180: 0 | AD180: 0 | AE180: 0 | AF180: 0 | AG180: 185 | AH180: Normal | AI180: D:\字节\MOS\测试vivo\2024-07-09_05.41.51.509_S_6\Channel 2\Channel_1_cycle_90.wav | AJ180: 870.54635 | AK180: TRUE

Sheet CP_Channel2
A1: DATE_TIME | B1: YCOORD | C1: XCOORD | D1: EVENT | E1: CHANNEL_INDEX

Sheet CP_Channel3
A1: DATE_TIME | B1: YCOORD | C1: XCOORD | D1: EVENT | E1: CHANNEL_INDEX
A2: 45482.238 | B2: 0 | C2: 0 | D2: P863_SUMMARY_RESULT | E2: 1 | F2: 45482.238 | G2: Uplink | H2: 4.481273 | I2: -0.273325 | J2: 220 | K2: Normal | L2: D:\字节\MOS\测试vivo\2024-07-09_05.41.51.509_S_6\Channel 4\Channel_3_cycle_1.wav | M2: 9.199622
A3: 45482.238 | B3: 0 | C3: 0 | D3: P863_DETAIL_RESULT | E3: 1 | F3: 45482.238 | G3: Downlink | H3: 4.481273 | I3: 4.481273 | J3: -0.273325 | K3: 252.3542 | L3: 257.9134 | M3: 260.2292 | N3: 48000 | O3: -1 | P3: 136963 | Q3: 48000 | R3: 0 | S3: 0.3736501 | T3: -30.41267 | U3: -88.07849 | V3: -27.90329 | W3: 291.8601 | X3: 41.36505 | Y3: 0.3928571 | Z3: -30.38323 | AA3: -86.88013 | AB3: -28.17661 | AC3: 292.1571 | AD3: 39.3023 | AE3: 38 | AF3: 24 | AG3: 220 | AH3: Normal | AI3: D:\字节\MOS\测试vivo\2024-07-09_05.41.51.509_S_6\Channel 4\Channel_3_cycle_1.wav | AJ3: 9.199622 | AK3: TRUE
A4: 45482.238 | B4: 0 | C4: 0 | D4: P863_SUMMARY_RESULT | E4: 1 | F4: 45482.238 | G4: Downlink | H4: 4.545485 | I4: -0.4043465 | J4: 220 | K4: Normal | L4: D:\字节\MOS\测试vivo\2024-07-09_05.41.51.509_S_6\Channel 3\Channel_2_cycle_1.wav | M4: 8.2332547
A5: 45482.238 | B5: 0 | C5: 0 | D5: P863_DETAIL_RESULT | E5: 1 | F5: 45482.238 | G5: Downlink | H5: 4.545485 | I5: 4.545485 | J5: -0.4043465 | K5: 615.25 | L5: 618.5508 | M5: 623.0833 | N5: 48000 | O5: -1 | P5: 136963 | Q5: 48000 | R5: 0 | S5: 0.3887641 | T5: -30.10227 | U5: -87.43195 | V5: -27.77227 | W5: 292.7966 | X5: 41.31039 | Y5: 0.3928571 | Z5: -30.38323 | AA5: -86.88013 | AB5: -28.17661 | AC5: 292.33 | AD5: 39.3023 | AE5: 38 | AF5: 24 | AG5: 220 | AH5: Normal | AI5: D:\字节\MOS\测试vivo\2024-07-09_05.41.51.509_S_6\Channel 3\Channel_2_cycle_1.wav | AJ5: 8.2332547 | AK5: TRUE
A6: 45482.238 | B6: 0 | C6: 0 | D6: P863_SUMMARY_RESULT | E6: 2 | F6: 45482.238 | G6: Uplink | H6: 4.399035 | I6: -0.1319942 | J6: 220 | K6: Normal | L6: D:\字节\MOS\测试vivo\2024-07-09_05.41.51.509_S_6\Channel 4\Channel_3_cycle_2.wav | M6: 8.1940116
A7: 45482.238 | B7: 0 | C7: 0 | D7: P863_DETAIL_RESULT | E7: 2 | F7: 45482.238 | G7: Downlink | H7: 4.399035 | I7: 4.399035 | J7: -0.1319942 | K7: 304.6667 | L7: 307.8667 | M7: 311.9167 | N7: 48000 | O7: -1 | P7: 136963 | Q7: 48000 | R7: 0 | S7: 0.3856502 | T7: -30.41365 | U7: -87.18547 | V7: -28.04462 | W7: 291.0453 | X7: 40.60472 | Y7: 0.3928571 | Z7: -30.38323 | AA7: -86.88013 | AB7: -28.17661 | AC7: 176.8801 | AD7: 39.3023 | AE7: 38 | AF7: 24 | AG7: 220 | AH7: Normal | AI7: D:\字节\MOS\测试vivo\2024-07-09_05.41.51.509_S_6\Channel 4\Channel_3_cycle_2.wav | AJ7: 8.1940116 | AK7: TRUE
A8: 45482.238 | B8: 0 | C8: 0 | D8: P863_SUMMARY_RESULT | E8: 2 | F8: 45482.238 | G8: Downlink | H8: 4.460878 | I8: -0.3783398 | J8: 220 | K8: Normal | L8: D:\字节\MOS\测试vivo\2024-07-09_05.41.51.509_S_6\Channel 3\Channel_2_cycle_2.wav | M8: 8.7431435
A9: 45482.238 | B9: 0 | C9: 0 | D9: P863_DETAIL_RESULT | E9: 2 | F9: 45482.238 | G9: Downlink | H9: 4.460878 | I9: 4.460878 | J9: -0.3783398 | K9: 299.9792 | L9: 306.7502 | M9: 319.9583 | N9: 48000 | O9: -1 | P9: 136963 | Q9: 48000 | R9: 0 | S9: 0.3878924 | T9: -30.15077 | U9: -86.49274 | V9: -27.79827 | W9: 179.1184 | X9: 41.12237 | Y9: 0.3928571 | Z9: -30.38323 | AA9: -86.88013 | AB9: -28.17661 | AC9: 178.421 | AD9: 39.3023 | AE9: 38 | AF9: 24 | AG9: 220 | AH9: Normal | AI9: D:\字节\MOS\测试vivo\2024-07-09_05.41.51.509_S_6\Channel 3\Channel_2_cycle_2.wav | AJ9: 8.7431435 | AK9: TRUE
A10: 45482.238 | B10: 0 | C10: 0 | D10: P863_SUMMARY_RESULT | E10: 3 | F10: 45482.238 | G10: Uplink | H10: 4.53564 | I10: -0.2177525 | J10: 220 | K10: Normal | L10: D:\字节\MOS\测试vivo\2024-07-09_05.41.51.509_S_6\Channel 4\Channel_3_cycle_3.wav | M10: 7.6245921
A11: 45482.238 | B11: 0 | C11: 0 | D11: P863_DETAIL_RESULT | E11: 3 | F11: 45482.238 | G11: Downlink | H11: 4.53564 | I11: 4.53564 | J11: -0.2177525 | K11: 290.4583 | L11: 294.9833 | M11: 302.375 | N11: 48000 | O11: -1 | P11: 136963 | Q11: 48000 | R11: 0 | S11: 0.3865168 | T11: -30.30877 | U11: -83.24467 | V11: -27.95886 | W11: 292.5934 | X11: 40.98873 | Y11: 0.3928571 | Z11: -30.38323 | AA11: -86.88013 | AB11: -28.17661 | AC11: 178.5514 | AD11: 39.3023 | AE11: 38 | AF11: 24 | AG11: 220 | AH11: Normal | AI11: D:\字节\MOS\测试vivo\2024-07-09_05.41.51.509_S_6\Channel 4\Channel_3_cycle_3.wav | AJ11: 7.6245921 | AK11: TRUE
A12: 45482.238 | B12: 0 | C12: 0 | D12: P863_SUMMARY_RESULT | E12: 3 | F12: 45482.238 | G12: Downlink | H12: 4.477426 | I12: -0.5877514 | J12: 220 | K12: Normal | L12: D:\字节\MOS\测试vivo\2024-07-09_05.41.51.509_S_6\Channel 3\Channel_2_cycle_3.wav | M12: 9.3541734
A13: 45482.238 | B13: 0 | C13: 0 | D13: P863_DETAIL_RESULT | E13: 3 | F13: 45482.238 | G13: Downlink | H13: 4.477426 | I13: 4.477426 | J13: -0.5877514 | K13: 301.1667 | L13: 311.3915 | M13: 322.3542 | N13: 47830.61 | O13: -1 | P13: 136963 | Q13: 48000 | R13: 0 | S13: 0.3766816 | T13: -30.07076 | U13: -89.49216 | V13: -27.58886 | W13: 290.0887 | X13: 41.17175 | Y13: 0.3928571 | Z13: -30.38323 | AA13: -86.88013 | AB13: -28.17661 | AC13: 177.5856 | AD13: 39.3023 | AE13: 38 | AF13: 24 | AG13: 220 | AH13: Normal | AI13: D:\字节\MOS\测试vivo\2024-07-09_05.41.51.509_S_6\Channel 3\Channel_2_cycle_3.wav | AJ13: 9.3541734 | AK13: TRUE
A14: 45482.239 | B14: 0 | C14: 0 | D14: P863_SUMMARY_RESULT | E14: 4 | F14: 45482.238 | G14: Uplink | H14: 4.495955 | I14: -0.172802 | J14: 220 | K14: Normal | L14: D:\字节\MOS\测试vivo\2024-07-09_05.41.51.509_S_6\Channel 4\Channel_3_cycle_4.wav | M14: 8.0669934
A15: 45482.239 | B15: 0 | C15: 0 | D15: P863_DETAIL_RESULT | E15: 4 | F15: 45482.238 | G15: Downlink | H15: 4.495955 | I15: 4.495955 | J15: -0.172802 | K15: 291.4375 | L15: 295.7423 | M15: 299.4583 | N15: 48000 | O15: -1 | P15: 136963 | Q15: 48000 | R15: 0 | S15: 0.3887641 | T15: -30.33352 | U15: -88.12524 | V15: -28.00381 | W15: 179.4518 | X15: 41.55516 | Y15: 0.3928571 | Z15: -30.38323 | AA15: -86.88013 | AB15: -28.17661 | AC15: 178.5768 | AD15: 39.3023 | AE15: 38 | AF15: 24 | AG15: 220 | AH15: Normal | AI15: D:\字节\MOS\测试vivo\2024-07-09_05.41.51.509_S_6\Channel 4\Channel_3_cycle_4.wav | AJ15: 8.0669934 | AK15: TRUE
A16: 45482.239 | B16: 0 | C16: 0 | D16: P863_SUMMARY_RESULT | E16: 4 | F16: 45482.239 | G16: Downlink | H16: 4.48132 | I16: -0.4005413 | J16: 220 | K16: Normal | L16: D:\字节\MOS\测试vivo\2024-07-09_05.41.51.509_S_6\Channel 3\Channel_2_cycle_4.wav | M16: 8.4355548
A17: 45482.239 | B17: 0 | C17: 0 | D17: P863_DETAIL_RESULT | E17: 4 | F17: 45482.239 | G17: Downlink | H17: 4.48132 | I17: 4.48132 | J17: -0.4005413 | K17: 257.2917 | L17: 262.6639 | M17: 265.6458 | N17: 48000 | O17: -1 | P17: 136963 | Q17: 48000 | R17: 0 | S17: 0.3887641 | T17: -30.11183 | U17: -86.27617 | V17: -27.77607 | W17: 291.3987 | X17: 40.93584 | Y17: 0.3928571 | Z17: -30.38323 | AA17: -86.88013 | AB17: -28.17661 | AC17: 179.8419 | AD17: 39.3023 | AE17: 38 | AF17: 24 | AG17: 220 | AH17: Normal | AI17: D:\字节\MOS\测试vivo\2024-07-09_05.41.51.509_S_6\Channel 3\Channel_2_cycle_4.wav | AJ17: 8.4355548 | AK17: TRUE
A18: 45482.239 | B18: 0 | C18: 0 | D18: P863_SUMMARY_RESULT | E18: 5 | F18: 45482.239 | G18: Uplink | H18: 4.172523 | I18: -0.1771202 | J18: 220 | K18: Normal | L18: D:\字节\MOS\测试vivo\2024-07-09_05.41.51.509_S_6\Channel 4\Channel_3_cycle_5.wav | M18: 7.9606036
A19: 45482.239 | B19: 0 | C19: 0 | D19: P863_DETAIL_RESULT | E19: 5 | F19: 45482.239 | G19: Downlink | H19: 4.172523 | I19: 4.172523 | J19: -0.1771202 | K19: 308.5417 | L19: 315.3195 | M19: 330 | N19: 48119.29 | O19: -1 | P19: 136963 | Q19: 48000 | R19: 0 | S19: 0.3887641 | T19: -30.33083 | U19: -92.5574 | V19: -27.99949 | W19: 291.0268 | X19: 41.28172 | Y19: 0.3928571 | Z19: -30.38323 | AA19: -86.88013 | AB19: -28.17661 | AC19: 177.123 | AD19: 39.3023 | AE19: 38 | AF19: 24 | AG19: 220 | AH19: Normal | AI19: D:\字节\MOS\测试vivo\2024-07-09_05.41.51.509_S_6\Channel 4\Channel_3_cycle_5.wav | AJ19: 7.9606036 | AK19: TRUE
A20: 45482.239 | B20: 0 | C20: 0 | D20: P863_SUMMARY_RESULT | E20: 5 | F20: 45482.239 | G20: Downlink | H20: 4.48514 | I20: -0.3715191 | J20: 220 | K20: Normal | L20: D:\字节\MOS\测试vivo\2024-07-09_05.41.51.509_S_6\Channel 3\Channel_2_cycle_5.wav | M20: 8.4521577
A21: 45482.239 | B21: 0 | C21: 0 | D21: P863_DETAIL_RESULT | E21: 5 | F21: 45482.239 | G21: Downlink | H21: 4.48514 | I21: 4.48514 | J21: -0.3715191 | K21: 288.4792 | L21: 298.0244 | M21: 309.8958 | N21: 48064.89 | O21: -1 | P21: 136963 | Q21: 48000 | R21: 0 | S21: 0.3887641 | T21: -30.13967 | U21: -87.77802 | V21: -27.8051 | W21: 290.4637 | X21: 41.1559 | Y21: 0.3928571 | Z21: -30.38323 | AA21: -86.88013 | AB21: -28.17661 | AC21: 176.4156 | AD21: 39.3023 | AE21: 38 | AF21: 24 | AG21: 220 | AH21: Normal | AI21: D:\字节\MOS\测试vivo\2024-07-09_05.41.51.509_S_6\Channel 3\Channel_2_cycle_5.wav | AJ21: 8.4521577 | AK21: TRUE
A22: 45482.239 | B22: 0 | C22: 0 | D22: P863_SUMMARY_RESULT | E22: 6 | F22: 45482.239 | G22: Uplink | H22: 4.401822 | I22: -0.202879 | J22: 220 | K22: Normal | L22: D:\字节\MOS\测试vivo\2024-07-09_05.41.51.509_S_6\Channel 4\Channel_3_cycle_6.wav | M22: 7.8407309
A23: 45482.239 | B23: 0 | C23: 0 | D23: P863_DETAIL_RESULT | E23: 6 | F23: 45482.239 | G23: Downlink | H23: 4.401822 | I23: 4.401822 | J23: -0.202879 | K23: 301.75 | L23: 306.2008 | M23: 312.4167 | N23: 48000 | O23: -1 | P23: 136963 | Q23: 48000 | R23: 0 | S23: 0.3878924 | T23: -30.3278 | U23: -87.75698 | V23: -27.97374 | W23: 291.9849 | X23: 41.11477 | Y23: 0.3928571 | Z23: -30.38323 | AA23: -86.88013 | AB23: -28.17661 | AC23: 179.7315 | AD23: 39.3023 | AE23: 38 | AF23: 24 | AG23: 220 | AH23: Normal | AI23: D:\字节\MOS\测试vivo\2024-07-09_05.41.51.509_S_6\Channel 4\Channel_3_cycle_6.wav | AJ23: 7.8407309 | AK23: TRUE
A24: 45482.239 | B24: 0 | C24: 0 | D24: P863_SUMMARY_RESULT | E24: 6 | F24: 45482.239 | G24: Downlink | H24: 4.349865 | I24: -0.3987598 | J24: 220 | K24: Normal | L24: D:\字节\MOS\测试vivo\2024-07-09_05.41.51.509_S_6\Channel 3\Channel_2_cycle_6.wav | M24: 8.2377432
A25: 45482.239 | B25: 0 | C25: 0 | D25: P863_DETAIL_RESULT | E25: 6 | F25: 45482.239 | G25: Downlink | H25: 4.349865 | I25: 4.349865 | J25: -0.3987598 | K25: 326.2292 | L25: 331.5222 | M25: 335.6667 | N25: 48000 | O25: -1 | P25: 136963 | Q25: 48000 | R25: 0 | S25: 0.3878924 | T25: -30.13435 | U25: -84.94415 | V25: -27.77785 | W25: 291.3557 | X25: 41.08358 | Y25: 0.3928571 | Z25: -30.38323 | AA25: -86.88013 | AB25: -28.17661 | AC25: 176.123 | AD25: 39.3023 | AE25: 38 | AF25: 24 | AG25: 220 | AH25: Normal | AI25: D:\字节\MOS\测试vivo\2024-07-09_05.41.51.509_S_6\Channel 3\Channel_2_cycle_6.wav | AJ25: 8.2377432 | AK25: TRUE
A26: 45482.239 | B26: 0 | C26: 0 | D26: P863_SUMMARY_RESULT | E26: 7 | F26: 45482.239 | G26: Uplink | H26: 4.417994 | I26: -0.1616039 | J26: 220 | K26: Normal | L26: D:\字节\MOS\测试vivo\2024-07-09_05.41.51.509_S_6\Channel 4\Channel_3_cycle_7.wav | M26: 9.0359585
A27: 45482.239 | B27: 0 | C27: 0 | D27: P863_DETAIL_RESULT | E27: 7 | F27: 45482.239 | G27: Downlink | H27: 4.417994 | I27: 4.417994 | J27: -0.1616039 | K27: 267.1875 | L27: 305.4856 | M27: 333.9167 | N27: 47310.86 | O27: -1 | P27: 136963 | Q27: 48000 | R27: 1 | S27: 0.3865168 | T27: -30.36395 | U27: -88.88806 | V27: -28.01501 | W27: 291.0268 | X27: 41.08303 | Y27: 0.3928571 | Z27: -30.38323 | AA27: -86.88013 | AB27: -28.17661 | AC27: 291.2601 | AD27: 39.3023 | AE27: 38 | AF27: 24 | AG27: 220 | AH27: Normal | AI27: D:\字节\MOS\测试vivo\2024-07-09_05.41.51.509_S_6\Channel 4\Channel_3_cycle_7.wav | AJ27: 9.0359585 | AK27: TRUE
A28: 45482.239 | B28: 0 | C28: 0 | D28: P863_SUMMARY_RESULT | E28: 7 | F28: 45482.239 | G28: Downlink | H28: 4.190028 | I28: -0.4810371 | J28: 220 | K28: Normal | L28: D:\字节\MOS\测试vivo\2024-07-09_05.41.51.509_S_6\Channel 3\Channel_2_cycle_7.wav | M28: 9.1352465
A29: 45482.239 | B29: 0 | C29: 0 | D29: P863_DETAIL_RESULT | E29: 7 | F29: 45482.239 | G29: Downlink | H29: 4.190028 | I29: 4.190028 | J29: -0.4810371 | K29: 289.3333 | L29: 308.4706 | M29: 315.2083 | N29: 47930.67 | O29: -1 | P29: 136963 | Q29: 48000 | R29: 0 | S29: 0.3820225 | T29: -30.11569 | U29: -90.423 | V29: -27.69558 | W29: 290.4934 | X29: 41.20781 | Y29: 0.3928571 | Z29: -30.38323 | AA29: -86.88013 | AB29: -28.17661 | AC29: 107.9887 | AD29: 39.3023 | AE29: 38 | AF29: 24 | AG29: 220 | AH29: Normal | AI29: D:\字节\MOS\测试vivo\2024-07-09_05.41.51.509_S_6\Channel 3\Channel_2_cycle_7.wav | AJ29: 9.1352465 | AK29: TRUE
A30: 45482.239 | B30: 0 | C30: 0 | D30: P863_SUMMARY_RESULT | E30: 8 | F30: 45482.239 | G30: Uplink | H30: 4.434707 | I30: -0.1261024 | J30: 220 | K30: Normal | L30: D:\字节\MOS\测试vivo\2024-07-09_05.41.51.509_S_6\Channel 4\Channel_3_cycle_8.wav | M30: 8.3318422
A31: 45482.239 | B31: 0 | C31: 0 | D31: P863_DETAIL_RESULT | E31: 8 | F31: 45482.239 | G31: Downlink | H31: 4.434707 | I31: 4.434707 | J31: -0.1261024 | K31: 296.6667 | L31: 329.1366 | M31: 364.7292 | N31: 48723.82 | O31: -1 | P31: 136963 | Q31: 48000 | R31: 1 | S31: 0.3887641 | T31: -30.38329 | U31: -90.50545 | V31: -28.05051 | W31: 291.5049 | X31: 41.2756 | Y31: 0.3928571 | Z31: -30.38323 | AA31: -86.88013 | AB31: -28.17661 | AC31: 179.8419 | AD31: 39.3023 | AE31: 38 | AF31: 24 | AG31: 220 | AH31: Normal | AI31: D:\字节\MOS\测试vivo\2024-07-09_05.41.51.509_S_6\Channel 4\Channel_3_cycle_8.wav | AJ31: 8.3318422 | AK31: TRUE
A32: 45482.24 | B32: 0 | C32: 0 | D32: P863_SUMMARY_RESULT | E32: 8 | F32: 45482.239 | G32: Downlink | H32: 4.506235 | I32: -0.3581524 | J32: 220 | K32: Normal | L32: D:\字节\MOS\测试vivo\2024-07-09_05.41.51.509_S_6\Channel 3\Channel_2_cycle_8.wav | M32: 8.72236
A33: 45482.24 | B33: 0 | C33: 0 | D33: P863_DETAIL_RESULT | E33: 8 | F33: 45482.239 | G33: Downlink | H33: 4.506235 | I33: 4.506235 | J33: -0.3581524 | K33: 281.5625 | L33: 326.0667 | M33: 353.4792 | N33: 48369.66 | O33: -1 | P33: 136963 | Q33: 48000 | R33: 1 | S33: 0.3932584 | T33: -30.10679 | U33: -85.11155 | V33: -27.81846 | W33: 292.2934 | X33: 40.89296 | Y33: 0.3928571 | Z33: -30.38323 | AA33: -86.88013 | AB33: -28.17661 | AC33: 178.8268 | AD33: 39.3023 | AE33: 38 | AF33: 24 | AG33: 220 | AH33: Normal | AI33: D:\字节\MOS\测试vivo\2024-07-09_05.41.51.509_S_6\Channel 3\Channel_2_cycle_8.wav | AJ33: 8.72236 | AK33: TRUE
A34: 45482.24 | B34: 0 | C34: 0 | D34: P863_SUMMARY_RESULT | E34: 9 | F34: 45482.24 | G34: Uplink | H34: 4.471596 | I34: -0.1702957 | J34: 220 | K34: Normal | L34: D:\字节\MOS\测试vivo\2024-07-09_05.41.51.509_S_6\Channel 4\Channel_3_cycle_9.wav | M34: 8.6895587
A35: 45482.24 | B35: 0 | C35: 0 | D35: P863_DETAIL_RESULT | E35: 9 | F35: 45482.24 | G35: Downlink | H35: 4.471596 | I35: 4.471596 | J35: -0.1702957 | K35: 329.3333 | L35: 353.4901 | M35: 374.25 | N35: 47532.19 | O35: -1 | P35: 136963 | Q35: 48000 | R35: 1 | S35: 0.3878924 | T35: -30.34643 | U35: -85.23928 | V35: -28.00632 | W35: 291.7601 | X35: 41.5459 | Y35: 0.3928571 | Z35: -30.38323 | AA35: -86.88013 | AB35: -28.17661 | AC35: 177.9192 | AD35: 39.3023 | AE35: 38 | AF35: 24 | AG35: 220 | AH35: Normal | AI35: D:\字节\MOS\测试vivo\2024-07-09_05.41.51.509_S_6\Channel 4\Channel_3_cycle_9.wav | AJ35: 8.6895587 | AK35: TRUE
A36: 45482.24 | B36: 0 | C36: 0 | D36: P863_SUMMARY_RESULT | E36: 9 | F36: 45482.24 | G36: Downlink | H36: 4.478938 | I36: -0.4167614 | J36: 220 | K36: Normal | L36: D:\字节\MOS\测试vivo\2024-07-09_05.41.51.509_S_6\Channel 3\Channel_2_cycle_9.wav | M36: 7.9394486
A37: 45482.24 | B37: 0 | C37: 0 | D37: P863_DETAIL_RESULT | E37: 9 | F37: 45482.24 | G37: Downlink | H37: 4.478938 | I37: 4.478938 | J37: -0.4167614 | K37: 266.2708 | L37: 295.5934 | M37: 320.5625 | N37: 47438.5 | O37: -1 | P37: 136963 | Q37: 48000 | R37: 1 | S37: 0.3887641 | T37: -30.10377 | U37: -85.02762 | V37: -27.75985 | W37: 290.7315 | X37: 41.1922 | Y37: 0.3928571 | Z37: -30.38323 | AA37: -86.88013 | AB37: -28.17661 | AC37: 179.1276 | AD37: 39.3023 | AE37: 38 | AF37: 24 | AG37: 220 | AH37: Normal | AI37: D:\字节\MOS\测试vivo\2024-07-09_05.41.51.509_S_6\Channel 3\Channel_2_cycle_9.wav | AJ37: 7.9394486 | AK37: TRUE
A38: 45482.24 | B38: 0 | C38: 0 | D38: P863_SUMMARY_RESULT | E38: 10 | F38: 45482.24 | G38: Uplink | H38: 4.392259 | I38: -0.1822319 | J38: 220 | K38: Normal | L38: D:\字节\MOS\测试vivo\2024-07-09_05.41.51.509_S_6\Channel 4\Channel_3_cycle_10.wav | M38: 8.8010117
A39: 45482.24 | B39: 0 | C39: 0 | D39: P863_DETAIL_RESULT | E39: 10 | F39: 45482.24 | G39: Downlink | H39: 4.392259 | I39: 4.392259 | J39: -0.1822319 | K39: 306.5625 | L39: 312.8243 | M39: 319.125 | N39: 48000 | O39: -1 | P39: 136963 | Q39: 48000 | R39: 0 | S39: 0.3834081 | T39: -30.36184 | U39: -84.68412 | V39: -27.99438 | W39: 180.8401 | X39: 41.10155 | Y39: 0.3928571 | Z39: -30.38323 | AA39: -86.88013 | AB39: -28.17661 | AC39: 178.2755 | AD39: 39.3023 | AE39: 38 | AF39: 24 | AG39: 220 | AH39: Normal | AI39: D:\字节\MOS\测试vivo\2024-07-09_05.41.51.509_S_6\Channel 4\Channel_3_cycle_10.wav | AJ39: 8.8010117 | AK39: TRUE
A40: 45482.24 | B40: 0 | C40: 0 | D40: P863_SUMMARY_RESULT | E40: 10 | F40: 45482.24 | G40: Downlink | H40: 4.41459 | I40: -0.3871956 | J40: 220 | K40: Normal | L40: D:\字节\MOS\测试vivo\2024-07-09_05.41.51.509_S_6\Channel 3\Channel_2_cycle_10.wav | M40: 7.9097647
A41: 45482.24 | B41: 0 | C41: 0 | D41: P863_DETAIL_RESULT | E41: 10 | F41: 45482.24 | G41: Downlink | H41: 4.41459 | I41: 4.41459 | J41: -0.3871956 | K41: 309.2083 | L41: 330.8501 | M41: 351.4375 | N41: 47605.09 | O41: -1 | P41: 136963 | Q41: 48000 | R41: 1 | S41: 0.3865168 | T41: -30.13714 | U41: -83.66669 | V41: -27.78942 | W41: 292.2539 | X41: 40.85411 | Y41: 0.3928571 | Z41: -30.38323 | AA41: -86.88013 | AB41: -28.17661 | AC41: 179.7315 | AD41: 39.3023 | AE41: 38 | AF41: 24 | AG41: 220 | AH41: Normal | AI41: D:\字节\MOS\测试vivo\2024-07-09_05.41.51.509_S_6\Channel 3\Channel_2_cycle_10.wav | AJ41: 7.9097647 | AK41: TRUE
A42: 45482.24 | B42: 0 | C42: 0 | D42: P863_SUMMARY_RESULT | E42: 11 | F42: 45482.24 | G42: Uplink | H42: 4.51288 | I42: -0.1436672 | J42: 220 | K42: Normal | L42: D:\字节\MOS\测试vivo\2024-07-09_05.41.51.509_S_6\Channel 4\Channel_3_cycle_11.wav | M42: 8.0522368
A43: 45482.24 | B43: 0 | C43: 0 | D43: P863_DETAIL_RESULT | E43: 11 | F43: 45482.24 | G43: Downlink | H43: 4.51288 | I43: 4.51288 | J43: -0.1436672 | K43: 306.8333 | L43: 326.7999 | M43: 346.3542 | N43: 47640.24 | O43: -1 | P43: 136963 | Q43: 48000 | R43: 1 | S43: 0.3878924 | T43: -30.39046 | U43: -84.20181 | V43: -28.03295 | W43: 292.6762 | X43: 40.89173 | Y43: 0.3928571 | Z43: -30.38323 | AA43: -86.88013 | AB43: -28.17661 | AC43: 179.1633 | AD43: 39.3023 | AE43: 38 | AF43: 24 | AG43: 220 | AH43: Normal | AI43: D:\字节\MOS\测试vivo\2024-07-09_05.41.51.509_S_6\Channel 4\Channel_3_cycle_11.wav | AJ43: 8.0522368 | AK43: TRUE
A44: 45482.24 | B44: 0 | C44: 0 | D44: P863_SUMMARY_RESULT | E44: 11 | F44: 45482.24 | G44: Downlink | H44: 4.474839 | I44: -0.4147549 | J44: 220 | K44: Normal | L44: D:\字节\MOS\测试vivo\2024-07-09_05.41.51.509_S_6\Channel 3\Channel_2_cycle_11.wav | M44: 8.2332767
A45: 45482.24 | B45: 0 | C45: 0 | D45: P863_DETAIL_RESULT | E45: 11 | F45: 45482.24 | G45: Downlink | H45: 4.474839 | I45: 4.474839 | J45: -0.4147549 | K45: 309.375 | L45: 325.6136 | M45: 339.5833 | N45: 48198.17 | O45: -1 | P45: 136963 | Q45: 48000 | R45: 0 | S45: 0.3878924 | T45: -30.12103 | U45: -84.79646 | V45: -27.76186 | W45: 180.6601 | X45: 41.07436 | Y45: 0.3928571 | Z45: -30.38323 | AA45: -86.88013 | AB45: -28.17661 | AC45: 218.0225 | AD45: 39.3023 | AE45: 38 | AF45: 24 | AG45: 220 | AH45: Normal | AI45: D:\字节\MOS\测试vivo\2024-07-09_05.41.51.509_S_6\Channel 3\Channel_2_cycle_11.wav | AJ45: 8.2332767 | AK45: TRUE
A46: 45482.24 | B46: 0 | C46: 0 | D46: P863_SUMMARY_RESULT | E46: 12 | F46: 45482.24 | G46: Uplink | H46: 4.45567 | I46: -0.1593266 | J46: 220 | K46: Normal | L46: D:\字节\MOS\测试vivo\2024-07-09_05.41.51.509_S_6\Channel 4\Channel_3_cycle_12.wav | M46: 8.2694331
A47: 45482.24 | B47: 0 | C47: 0 | D47: P863_DETAIL_RESULT | E47: 12 | F47: 45482.24 | G47: Downlink | H47: 4.45567 | I47: 4.45567 | J47: -0.1593266 | K47: 328.1458 | L47: 353.3127 | M47: 378.5 | N47: 48490.93 | O47: -1 | P47: 136963 | Q47: 48000 | R47: 1 | S47: 0.3887641 | T47: -30.35611 | U47: -86.2033 | V47: -28.01729 | W47: 179.1216 | X47: 41.24254 | Y47: 0.3928571 | Z47: -30.38323 | AA47: -86.88013 | AB47: -28.17661 | AC47: 108.4776 | AD47: 39.3023 | AE47: 38 | AF47: 24 | AG47: 220 | AH47: Normal | AI47: D:\字节\MOS\测试vivo\2024-07-09_05.41.51.509_S_6\Channel 4\Channel_3_cycle_12.wav | AJ47: 8.2694331 | AK47: TRUE
A48: 45482.241 | B48: 0 | C48: 0 | D48: P863_SUMMARY_RESULT | E48: 12 | F48: 45482.24 | G48: Downlink | H48: 4.462876 | I48: -0.4385281 | J48: 220 | K48: Normal | L48: D:\字节\MOS\测试vivo\2024-07-09_05.41.51.509_S_6\Channel 3\Channel_2_cycle_12.wav | M48: 7.7486886
A49: 45482.241 | B49: 0 | C49: 0 | D49: P863_DETAIL_RESULT | E49: 12 | F49: 45482.24 | G49: Downlink | H49: 4.462876 | I49: 4.462876 | J49: -0.4385281 | K49: 316.7083 | L49: 347.4571 | M49: 378.0417 | N49: 47395.28 | O49: -1 | P49: 136963 | Q49: 48000 | R49: 1 | S49: 0.3856502 | T49: -30.11438 | U49: -87.08727 | V49: -27.73809 | W49: 291.6269 | X49: 40.88571 | Y49: 0.3928571 | Z49: -30.38323 | AA49: -86.88013 | AB49: -28.17661 | AC49: 177.7457 | AD49: 39.3023 | AE49: 38 | AF49: 24 | AG49: 220 | AH49: Normal | AI49: D:\字节\MOS\测试vivo\2024-07-09_05.41.51.509_S_6\Channel 3\Channel_2_cycle_12.wav | AJ49: 7.7486886 | AK49: TRUE
A50: 45482.241 | B50: 0 | C50: 0 | D50: P863_SUMMARY_RESULT | E50: 13 | F50: 45482.241 | G50: Uplink | H50: 4.490024 | I50: -0.1792049 | J50: 220 | K50: Normal | L50: D:\字节\MOS\测试vivo\2024-07-09_05.41.51.509_S_6\Channel 4\Channel_3_cycle_13.wav | M50: 7.9814249
A51: 45482.241 | B51: 0 | C51: 0 | D51: P863_DETAIL_RESULT | E51: 13 | F51: 45482.241 | G51: Downlink | H51: 4.490024 | I51: 4.490024 | J51: -0.1792049 | K51: 336.4583 | L51: 350.5009 | M51: 364.2917 | N51: 48246.45 | O51: -1 | P51: 136963 | Q51: 48000 | R51: 1 | S51: 0.3865168 | T51: -30.35647 | U51: -83.20445 | V51: -27.99741 | W51: 179.0101 | X51: 41.06061 | Y51: 0.3928571 | Z51: -30.38323 | AA51: -86.88013 | AB51: -28.17661 | AC51: 179.5887 | AD51: 39.3023 | AE51: 38 | AF51: 24 | AG51: 220 | AH51: Normal | AI51: D:\字节\MOS\测试vivo\2024-07-09_05.41.51.509_S_6\Channel 4\Channel_3_cycle_13.wav | AJ51: 7.9814249 | AK51: TRUE
A52: 45482.241 | B52: 0 | C52: 0 | D52: P863_SUMMARY_RESULT | E52: 13 | F52: 45482.241 | G52: Downlink | H52: 3.656008 | I52: -0.2950325 | J52: 220 | K52: Normal | L52: D:\字节\MOS\测试vivo\2024-07-09_05.41.51.509_S_6\Channel 3\Channel_2_cycle_13.wav | M52: 7.998353
A53: 45482.241 | B53: 0 | C53: 0 | D53: P863_DETAIL_RESULT | E53: 13 | F53: 45482.241 | G53: Downlink | H53: 3.656008 | I53: 3.656008 | J53: -0.2950325 | K53: 324.3125 | L53: 352.6397 | M53: 428.3542 | N53: 48143.91 | O53: -1 | P53: 136963 | Q53: 48000 | R53: 0 | S53: 0.3991031 | T53: -30.09703 | U53: -86.3363 | V53: -27.88158 | W53: 291.5844 | X53: 41.12583 | Y53: 0.3928571 | Z53: -30.38323 | AA53: -86.88013 | AB53: -28.17661 | AC53: 178.251 | AD53: 39.3023 | AE53: 38 | AF53: 24 | AG53: 220 | AH53: Normal | AI53: D:\字节\MOS\测试vivo\2024-07-09_05.41.51.509_S_6\Channel 3\Channel_2_cycle_13.wav | AJ53: 7.998353 | AK53: TRUE
A54: 45482.241 | B54: 0 | C54: 0 | D54: P863_SUMMARY_RESULT | E54: 14 | F54: 45482.241 | G54: Uplink | H54: 4.501543 | I54: -0.2044659 | J54: 220 | K54: Normal | L54: D:\字节\MOS\测试vivo\2024-07-09_05.41.51.509_S_6\Channel 4\Channel_3_cycle_14.wav | M54: 8.8168287
A55: 45482.241 | B55: 0 | C55: 0 | D55: P863_DETAIL_RESULT | E55: 14 | F55: 45482.241 | G55: Downlink | H55: 4.501543 | I55: 4.501543 | J55: -0.2044659 | K55: 328 | L55: 336.1333 | M55: 345.5 | N55: 48000 | O55: -1 | P55: 136963 | Q55: 48000 | R55: 0 | S55: 0.3887641 | T55: -30.3137 | U55: -92.49839 | V55: -27.97215 | W55: 180.4801 | X55: 41.23251 | Y55: 0.3928571 | Z55: -30.38323 | AA55: -86.88013 | AB55: -28.17661 | AC55: 179.0832 | AD55: 39.3023 | AE55: 38 | AF55: 24 | AG55: 220 | AH55: Normal | AI55: D:\字节\MOS\测试vivo\2024-07-09_05.41.51.509_S_6\Channel 4\Channel_3_cycle_14.wav | AJ55: 8.8168287 | AK55: TRUE
A56: 45482.241 | B56: 0 | C56: 0 | D56: P863_SUMMARY_RESULT | E56: 14 | F56: 45482.241 | G56: Downlink | H56: 4.432759 | I56: -0.3694134 | J56: 220 | K56: Normal | L56: D:\字节\MOS\测试vivo\2024-07-09_05.41.51.509_S_6\Channel 3\Channel_2_cycle_14.wav | M56: 7.7751908
A57: 45482.241 | B57: 0 | C57: 0 | D57: P863_DETAIL_RESULT | E57: 14 | F57: 45482.241 | G57: Downlink | H57: 4.432759 | I57: 4.432759 | J57: -0.3694134 | K57: 372.4167 | L57: 397.6084 | M57: 422.2292 | N57: 48442.91 | O57: -1 | P57: 136963 | Q57: 48000 | R57: 1 | S57: 0.3932584 | T57: -30.10351 | U57: -85.44215 | V57: -27.8072 | W57: 182.4911 | X57: 41.24853 | Y57: 0.3928571 | Z57: -30.38323 | AA57: -86.88013 | AB57: -28.17661 | AC57: 176.4564 | AD57: 39.3023 | AE57: 38 | AF57: 24 | AG57: 220 | AH57: Normal | AI57: D:\字节\MOS\测试vivo\2024-07-09_05.41.51.509_S_6\Channel 3\Channel_2_cycle_14.wav | AJ57: 7.7751908 | AK57: TRUE
A58: 45482.241 | B58: 0 | C58: 0 | D58: P863_SUMMARY_RESULT | E58: 15 | F58: 45482.241 | G58: Uplink | H58: 4.03178 | I58: -0.1399345 | J58: 220 | K58: Normal | L58: D:\字节\MOS\测试vivo\2024-07-09_05.41.51.509_S_6\Channel 4\Channel_3_cycle_15.wav | M58: 8.1350522
A59: 45482.241 | B59: 0 | C59: 0 | D59: P863_DETAIL_RESULT | E59: 15 | F59: 45482.241 | G59: Downlink | H59: 4.03178 | I59: 4.03178 | J59: -0.1399345 | K59: 366.75 | L59: 395.5797 | M59: 424.625 | N59: 48582.75 | O59: -1 | P59: 136963 | Q59: 48000 | R59: 1 | S59: 0.3856502 | T59: -30.39615 | U59: -84.12299 | V59: -28.03668 | W59: 292.1946 | X59: 41.00788 | Y59: 0.3928571 | Z59: -30.38323 | AA59: -86.88013 | AB59: -28.17661 | AC59: 178.3419 | AD59: 39.3023 | AE59: 38 | AF59: 24 | AG59: 220 | AH59: Normal | AI59: D:\字节\MOS\测试vivo\2024-07-09_05.41.51.509_S_6\Channel 4\Channel_3_cycle_15.wav | AJ59: 8.1350522 | AK59: TRUE
A60: 45482.241 | B60: 0 | C60: 0 | D60: P863_SUMMARY_RESULT | E60: 15 | F60: 45482.241 | G60: Downlink | H60: 4.374362 | I60: -0.3919315 | J60: 220 | K60: Normal | L60: D:\字节\MOS\测试vivo\2024-07-09_05.41.51.509_S_6\Channel 3\Channel_2_cycle_15.wav | M60: 7.893632
A61: 45482.241 | B61: 0 | C61: 0 | D61: P863_DETAIL_RESULT | E61: 15 | F61: 45482.241 | G61: Downlink | H61: 4.374362 | I61: 4.374362 | J61: -0.3919315 | K61: 341.4375 | L61: 362.0582 | M61: 378.1875 | N61: 48182.18 | O61: -1 | P61: 136963 | Q61: 48000 | R61: 0 | S61: 0.3910112 | T61: -30.09698 | U61: -87.76266 | V61: -27.78468 | W61: 291.7694 | X61: 41.09616 | Y61: 0.3928571 | Z61: -30.38323 | AA61: -86.88013 | AB61: -28.17661 | AC61: 291.8698 | AD61: 39.3023 | AE61: 38 | AF61: 24 | AG61: 220 | AH61: Normal | AI61: D:\字节\MOS\测试vivo\2024-07-09_05.41.51.509_S_6\Channel 3\Channel_2_cycle_15.wav | AJ61: 7.893632 | AK61: TRUE
A62: 45482.241 | B62: 0 | C62: 0 | D62: P863_SUMMARY_RESULT | E62: 16 | F62: 45482.241 | G62: Uplink | H62: 4.458415 | I62: -0.184782 | J62: 220 | K62: Normal | L62: D:\字节\MOS\测试vivo\2024-07-09_05.41.51.509_S_6\Channel 4\Channel_3_cycle_16.wav | M62: 7.945611
A63: 45482.241 | B63: 0 | C63: 0 | D63: P863_DETAIL_RESULT | E63: 16 | F63: 45482.241 | G63: Downlink | H63: 4.458415 | I63: 4.458415 | J63: -0.184782 | K63: 307.1667 | L63: 325.4917 | M63: 345.4792 | N63: 48352.03 | O63: -1 | P63: 136963 | Q63: 48000 | R63: 1 | S63: 0.3878924 | T63: -30.32259 | U63: -86.97808 | V63: -27.99183 | W63: 178.0939 | X63: 41.43414 | Y63: 0.3928571 | Z63: -30.38323 | AA63: -86.88013 | AB63: -28.17661 | AC63: 178.1563 | AD63: 39.3023 | AE63: 38 | AF63: 24 | AG63: 220 | AH63: Normal | AI63: D:\字节\MOS\测试vivo\2024-07-09_05.41.51.509_S_6\Channel 4\Channel_3_cycle_16.wav | AJ63: 7.945611 | AK63: TRUE
A64: 45482.241 | B64: 0 | C64: 0 | D64: P863_SUMMARY_RESULT | E64: 16 | F64: 45482.241 | G64: Downlink | H64: 3.784403 | I64: -0.2742519 | J64: 220 | K64: Normal | L64: D:\字节\MOS\测试vivo\2024-07-09_05.41.51.509_S_6\Channel 3\Channel_2_cycle_16.wav | M64: 8.3851398
A65: 45482.241 | B65: 0 | C65: 0 | D65: P863_DETAIL_RESULT | E65: 16 | F65: 45482.241 | G65: Downlink | H65: 3.784403 | I65: 3.784403 | J65: -0.2742519 | K65: 280.2917 | L65: 320.9447 | M65: 430.9792 | N65: 48000 | O65: -1 | P65: 136963 | Q65: 48000 | R65: 0 | S65: 0.4022472 | T65: -30.10644 | U65: -86.84655 | V65: -27.90236 | W65: 291.8206 | X65: 40.40605 | Y65: 0.3928571 | Z65: -30.38323 | AA65: -86.88013 | AB65: -28.17661 | AC65: 292.0633 | AD65: 39.3023 | AE65: 38 | AF65: 24 | AG65: 220 | AH65: Normal | AI65: D:\字节\MOS\测试vivo\2024-07-09_05.41.51.509_S_6\Channel 3\Channel_2_cycle_16.wav | AJ65: 8.3851398 | AK65: TRUE
A66: 45482.242 | B66: 0 | C66: 0 | D66: P863_SUMMARY_RESULT | E66: 17 | F66: 45482.241 | G66: Uplink | H66: 4.397459 | I66: -0.3120461 | J66: 220 | K66: Normal | L66: D:\字节\MOS\测试vivo\2024-07-09_05.41.51.509_S_6\Channel 4\Channel_3_cycle_17.wav | M66: 8.6170538
A67: 45482.242 | B67: 0 | C67: 0 | D67: P863_DETAIL_RESULT | E67: 17 | F67: 45482.241 | G67: Downlink | H67: 4.397459 | I67: 4.397459 | J67: -0.3120461 | K67: 309.5 | L67: 334.5665 | M67: 357.25 | N67: 47531.07 | O67: -1 | P67: 136963 | Q67: 48000 | R67: 1 | S67: 0.3744394 | T67: -30.35832 | U67: -80.82916 | V67: -27.86457 | W67: 179.6601 | X67: 40.85221 | Y67: 0.3928571 | Z67: -30.38323 | AA67: -86.88013 | AB67: -28.17661 | AC67: 178.4678 | AD67: 39.3023 | AE67: 38 | AF67: 24 | AG67: 220 | AH67: Normal | AI67: D:\字节\MOS\测试vivo\2024-07-09_05.41.51.509_S_6\Channel 4\Channel_3_cycle_17.wav | AJ67: 8.6170538 | AK67: TRUE
A68: 45482.242 | B68: 0 | C68: 0 | D68: P863_SUMMARY_RESULT | E68: 17 | F68: 45482.242 | G68: Downlink | H68: 4.400004 | I68: -0.3632584 | J68: 220 | K68: Normal | L68: D:\字节\MOS\测试vivo\2024-07-09_05.41.51.509_S_6\Channel 3\Channel_2_cycle_17.wav | M68: 8.2338464
A69: 45482.242 | B69: 0 | C69: 0 | D69: P863_DETAIL_RESULT | E69: 17 | F69: 45482.242 | G69: Downlink | H69: 4.400004 | I69: 4.400004 | J69: -0.3632584 | K69: 282.6042 | L69: 296.1768 | M69: 309.875 | N69: 48246.16 | O69: -1 | P69: 136963 | Q69: 48000 | R69: 1 | S69: 0.3932584 | T69: -30.1021 | U69: -81.97305 | V69: -27.81336 | W69: 290.9209 | X69: 41.01475 | Y69: 0.3928571 | Z69: -30.38323 | AA69: -86.88013 | AB69: -28.17661 | AC69: 179.7315 | AD69: 39.3023 | AE69: 38 | AF69: 24 | AG69: 220 | AH69: Normal | AI69: D:\字节\MOS\测试vivo\2024-07-09_05.41.51.509_S_6\Channel 3\Channel_2_cycle_17.wav | AJ69: 8.2338464 | AK69: TRUE
A70: 45482.242 | B70: 0 | C70: 0 | D70: P863_SUMMARY_RESULT | E70: 18 | F70: 45482.242 | G70: Uplink | H70: 4.512555 | I70: -0.1750603 | J70: 220 | K70: Normal | L70: D:\字节\MOS\测试vivo\2024-07-09_05.41.51.509_S_6\Channel 4\Channel_3_cycle_18.wav | M70: 7.9368923
A71: 45482.242 | B71: 0 | C71: 0 | D71: P863_DETAIL_RESULT | E71: 18 | F71: 45482.242 | G71: Downlink | H71: 4.512555 | I71: 4.512555 | J71: -0.1750603 | K71: 292.6042 | L71: 297.6355 | M71: 299.8125 | N71: 48000 | O71: -1 | P71: 136963 | Q71: 48000 | R71: 0 | S71: 0.3887641 | T71: -30.34487 | U71: -88.23448 | V71: -28.00155 | W71: 179.3398 | X71: 40.93755 | Y71: 0.3928571 | Z71: -30.38323 | AA71: -86.88013 | AB71: -28.17661 | AC71: 178.7688 | AD71: 39.3023 | AE71: 38 | AF71: 24 | AG71: 220 | AH71: Normal | AI71: D:\字节\MOS\测试vivo\2024-07-09_05.41.51.509_S_6\Channel 4\Channel_3_cycle_18.wav | AJ71: 7.9368923 | AK71: TRUE
A72: 45482.242 | B72: 0 | C72: 0 | D72: P863_SUMMARY_RESULT | E72: 18 | F72: 45482.242 | G72: Downlink | H72: 4.512372 | I72: -0.3985786 | J72: 220 | K72: Normal | L72: D:\字节\MOS\测试vivo\2024-07-09_05.41.51.509_S_6\Channel 3\Channel_2_cycle_18.wav | M72: 8.8881702
A73: 45482.242 | B73: 0 | C73: 0 | D73: P863_DETAIL_RESULT | E73: 18 | F73: 45482.242 | G73: Downlink | H73: 4.512372 | I73: 4.512372 | J73: -0.3985786 | K73: 314.6667 | L73: 331.3111 | M73: 343.25 | N73: 47775.85 | O73: -1 | P73: 136963 | Q73: 48000 | R73: 0 | S73: 0.3878924 | T73: -30.11576 | U73: -86.14685 | V73: -27.77804 | W73: 178.5912 | X73: 41.08432 | Y73: 0.3928571 | Z73: -30.38323 | AA73: -86.88013 | AB73: -28.17661 | AC73: 178.6174 | AD73: 39.3023 | AE73: 38 | AF73: 24 | AG73: 220 | AH73: Normal | AI73: D:\字节\MOS\测试vivo\2024-07-09_05.41.51.509_S_6\Channel 3\Channel_2_cycle_18.wav | AJ73: 8.8881702 | AK73: TRUE
A74: 45482.242 | B74: 0 | C74: 0 | D74: P863_SUMMARY_RESULT | E74: 19 | F74: 45482.242 | G74: Uplink | H74: 4.502361 | I74: -0.1738358 | J74: 220 | K74: Normal | L74: D:\字节\MOS\测试vivo\2024-07-09_05.41.51.509_S_6\Channel 4\Channel_3_cycle_19.wav | M74: 8.477136
A75: 45482.242 | B75: 0 | C75: 0 | D75: P863_DETAIL_RESULT | E75: 19 | F75: 45482.242 | G75: Downlink | H75: 4.502361 | I75: 4.502361 | J75: -0.1738358 | K75: 293.8542 | L75: 297.662 | M75: 301.9583 | N75: 48000 | O75: -1 | P75: 136963 | Q75: 48000 | R75: 0 | S75: 0.3856502 | T75: -30.36728 | U75: -82.99025 | V75: -28.00278 | W75: 177.911 | X75: 41.03255 | Y75: 0.3928571 | Z75: -30.38323 | AA75: -86.88013 | AB75: -28.17661 | AC75: 178.8674 | AD75: 39.3023 | AE75: 38 | AF75: 24 | AG75: 220 | AH75: Normal | AI75: D:\字节\MOS\测试vivo\2024-07-09_05.41.51.509_S_6\Channel 4\Channel_3_cycle_19.wav | AJ75: 8.477136 | AK75: TRUE
A76: 45482.242 | B76: 0 | C76: 0 | D76: P863_SUMMARY_RESULT | E76: 19 | F76: 45482.242 | G76: Downlink | H76: 4.433371 | I76: -0.4294968 | J76: 220 | K76: Normal | L76: D:\字节\MOS\测试vivo\2024-07-09_05.41.51.509_S_6\Channel 3\Channel_2_cycle_19.wav | M76: 7.8460901
A77: 45482.242 | B77: 0 | C77: 0 | D77: P863_DETAIL_RESULT | E77: 19 | F77: 45482.242 | G77: Downlink | H77: 4.433371 | I77: 4.433371 | J77: -0.4294968 | K77: 326.7292 | L77: 331.3443 | M77: 338.0833 | N77: 48000 | O77: -1 | P77: 136963 | Q77: 48000 | R77: 0 | S77: 0.3865168 | T77: -30.08607 | U77: -83.49152 | V77: -27.74712 | W77: 182.1971 | X77: 41.10939 | Y77: 0.3928571 | Z77: -30.38323 | AA77: -86.88013 | AB77: -28.17661 | AC77: 178.0859 | AD77: 39.3023 | AE77: 38 | AF77: 24 | AG77: 220 | AH77: Normal | AI77: D:\字节\MOS\测试vivo\2024-07-09_05.41.51.509_S_6\Channel 3\Channel_2_cycle_19.wav | AJ77: 7.8460901 | AK77: TRUE
A78: 45482.242 | B78: 0 | C78: 0 | D78: P863_SUMMARY_RESULT | E78: 20 | F78: 45482.242 | G78: Uplink | H78: 4.450014 | I78: -0.3283195 | J78: 220 | K78: Normal | L78: D:\字节\MOS\测试vivo\2024-07-09_05.41.51.509_S_6\Channel 4\Channel_3_cycle_20.wav | M78: 8.5012496
A79: 45482.242 | B79: 0 | C79: 0 | D79: P863_DETAIL_RESULT | E79: 20 | F79: 45482.242 | G79: Downlink | H79: 4.450014 | I79: 4.450014 | J79: -0.3283195 | K79: 285.3333 | L79: 291.0953 | M79: 295.0208 | N79: 48000 | O79: -1 | P79: 136963 | Q79: 48000 | R79: 0 | S79: 0.3775281 | T79: -30.31279 | U79: -94.32324 | V79: -27.8483 | W79: 179.3524 | X79: 41.62926 | Y79: 0.3928571 | Z79: -30.38323 | AA79: -86.88013 | AB79: -28.17661 | AC79: 177.2755 | AD79: 39.3023 | AE79: 38 | AF79: 24 | AG79: 220 | AH79: Normal | AI79: D:\字节\MOS\测试vivo\2024-07-09_05.41.51.509_S_6\Channel 4\Channel_3_cycle_20.wav | AJ79: 8.5012496 | AK79: TRUE
A80: 45482.242 | B80: 0 | C80: 0 | D80: P863_SUMMARY_RESULT | E80: 20 | F80: 45482.242 | G80: Downlink | H80: 4.450578 | I80: -0.4180927 | J80: 220 | K80: Normal | L80: D:\字节\MOS\测试vivo\2024-07-09_05.41.51.509_S_6\Channel 3\Channel_2_cycle_20.wav | M80: 7.6282314
A81: 45482.242 | B81: 0 | C81: 0 | D81: P863_DETAIL_RESULT | E81: 20 | F81: 45482.242 | G81: Downlink | H81: 4.450578 | I81: 4.450578 | J81: -0.4180927 | K81: 288.2917 | L81: 291.7979 | M81: 296.7708 | N81: 48000 | O81: -1 | P81: 136963 | Q81: 48000 | R81: 0 | S81: 0.3865168 | T81: -30.10536 | U81: -83.48149 | V81: -27.75852 | W81: 178.5832 | X81: 40.98217 | Y81: 0.3928571 | Z81: -30.38323 | AA81: -86.88013 | AB81: -28.17661 | AC81: 178.5675 | AD81: 39.3023 | AE81: 38 | AF81: 24 | AG81: 220 | AH81: Normal | AI81: D:\字节\MOS\测试vivo\2024-07-09_05.41.51.509_S_6\Channel 3\Channel_2_cycle_20.wav | AJ81: 7.6282314 | AK81: TRUE
A82: 45482.242 | B82: 0 | C82: 0 | D82: P863_SUMMARY_RESULT | E82: 21 | F82: 45482.242 | G82: Uplink | H82: 4.492372 | I82: -0.1728859 | J82: 220 | K82: Normal | L82: D:\字节\MOS\测试vivo\2024-07-09_05.41.51.509_S_6\Channel 4\Channel_3_cycle_21.wav | M82: 8.0895835
A83: 45482.242 | B83: 0 | C83: 0 | D83: P863_DETAIL_RESULT | E83: 21 | F83: 45482.242 | G83: Downlink | H83: 4.492372 | I83: 4.492372 | J83: -0.1728859 | K83: 292.5 | L83: 297.804 | M83: 304.2917 | N83: 48058.64 | O83: -1 | P83: 136963 | Q83: 48000 | R83: 0 | S83: 0.3878924 | T83: -30.35163 | U83: -86.93631 | V83: -28.00373 | W83: 177.0198 | X83: 41.41507 | Y83: 0.3928571 | Z83: -30.38323 | AA83: -86.88013 | AB83: -28.17661 | AC83: 178.5856 | AD83: 39.3023 | AE83: 38 | AF83: 24 | AG83: 220 | AH83: Normal | AI83: D:\字节\MOS\测试vivo\2024-07-09_05.41.51.509_S_6\Channel 4\Channel_3_cycle_21.wav | AJ83: 8.0895835 | AK83: TRUE
A84: 45482.243 | B84: 0 | C84: 0 | D84: P863_SUMMARY_RESULT | E84: 21 | F84: 45482.242 | G84: Downlink | H84: 4.521239 | I84: -0.4101315 | J84: 220 | K84: Normal | L84: D:\字节\MOS\测试vivo\2024-07-09_05.41.51.509_S_6\Channel 3\Channel_2_cycle_21.wav | M84: 8.1964522
A85: 45482.243 | B85: 0 | C85: 0 | D85: P863_DETAIL_RESULT | E85: 21 | F85: 45482.242 | G85: Downlink | H85: 4.521239 | I85: 4.521239 | J85: -0.4101315 | K85: 284 | L85: 311.3096 | M85: 337.3333 | N85: 48486.96 | O85: -1 | P85: 136963 | Q85: 48000 | R85: 1 | S85: 0.3887641 | T85: -30.10523 | U85: -87.34949 | V85: -27.76648 | W85: 180.6801 | X85: 40.7988 | Y85: 0.3928571 | Z85: -30.38323 | AA85: -86.88013 | AB85: -28.17661 | AC85: 178.8135 | AD85: 39.3023 | AE85: 38 | AF85: 24 | AG85: 220 | AH85: Normal | AI85: D:\字节\MOS\测试vivo\2024-07-09_05.41.51.509_S_6\Channel 3\Channel_2_cycle_21.wav | AJ85: 8.1964522 | AK85: TRUE
A86: 45482.243 | B86: 0 | C86: 0 | D86: P863_SUMMARY_RESULT | E86: 22 | F86: 45482.243 | G86: Uplink | H86: 4.483009 | I86: -0.1482468 | J86: 220 | K86: Normal | L86: D:\字节\MOS\测试vivo\2024-07-09_05.41.51.509_S_6\Channel 4\Channel_3_cycle_22.wav | M86: 8.6074724
A87: 45482.243 | B87: 0 | C87: 0 | D87: P863_DETAIL_RESULT | E87: 22 | F87: 45482.243 | G87: Downlink | H87: 4.483009 | I87: 4.483009 | J87: -0.1482468 | K87: 293.3542 | L87: 298.4233 | M87: 302.8958 | N87: 48000 | O87: -1 | P87: 136963 | Q87: 48000 | R87: 0 | S87: 0.3878924 | T87: -30.3592 | U87: -88.25954 | V87: -28.02837 | W87: 291.7198 | X87: 41.41849 | Y87: 0.3928571 | Z87: -30.38323 | AA87: -86.88013 | AB87: -28.17661 | AC87: 292.1384 | AD87: 39.3023 | AE87: 38 | AF87: 24 | AG87: 220 | AH87: Normal | AI87: D:\字节\MOS\测试vivo\2024-07-09_05.41.51.509_S_6\Channel 4\Channel_3_cycle_22.wav | AJ87: 8.6074724 | AK87: TRUE
A88: 45482.243 | B88: 0 | C88: 0 | D88: P863_SUMMARY_RESULT | E88: 22 | F88: 45482.243 | G88: Downlink | H88: 4.48296 | I88: -0.3979416 | J88: 220 | K88: Normal | L88: D:\字节\MOS\测试vivo\2024-07-09_05.41.51.509_S_6\Channel 3\Channel_2_cycle_22.wav | M88: 8.2378204
A89: 45482.243 | B89: 0 | C89: 0 | D89: P863_DETAIL_RESULT | E89: 22 | F89: 45482.243 | G89: Downlink | H89: 4.48296 | I89: 4.48296 | J89: -0.3979416 | K89: 325.9792 | L89: 332.1707 | M89: 338.6667 | N89: 48000 | O89: -1 | P89: 136963 | Q89: 48000 | R89: 0 | S89: 0.3887641 | T89: -30.12941 | U89: -85.76157 | V89: -27.77867 | W89: 291.7315 | X89: 40.78059 | Y89: 0.3928571 | Z89: -30.38323 | AA89: -86.88013 | AB89: -28.17661 | AC89: 107.285 | AD89: 39.3023 | AE89: 38 | AF89: 24 | AG89: 220 | AH89: Normal | AI89: D:\字节\MOS\测试vivo\2024-07-09_05.41.51.509_S_6\Channel 3\Channel_2_cycle_22.wav | AJ89: 8.2378204 | AK89: TRUE
A90: 45482.243 | B90: 0 | C90: 0 | D90: P863_SUMMARY_RESULT | E90: 23 | F90: 45482.243 | G90: Uplink | H90: 4.540959 | I90: -0.2893009 | J90: 220 | K90: Normal | L90: D:\字节\MOS\测试vivo\2024-07-09_05.41.51.509_S_6\Channel 4\Channel_3_cycle_23.wav | M90: 8.8896072
A91: 45482.243 | B91: 0 | C91: 0 | D91: P863_DETAIL_RESULT | E91: 23 | F91: 45482.243 | G91: Downlink | H91: 4.540959 | I91: 4.540959 | J91: -0.2893009 | K91: 293.5625 | L91: 298.7927 | M91: 304 | N91: 48000 | O91: -1 | P91: 136963 | Q91: 48000 | R91: 0 | S91: 0.3775281 | T91: -30.33517 | U91: -94.51197 | V91: -27.88731 | W91: 179.3241 | X91: 41.17571 | Y91: 0.3928571 | Z91: -30.38323 | AA91: -86.88013 | AB91: -28.17661 | AC91: 179.0175 | AD91: 39.3023 | AE91: 38 | AF91: 24 | AG91: 220 | AH91: Normal | AI91: D:\字节\MOS\测试vivo\2024-07-09_05.41.51.509_S_6\Channel 4\Channel_3_cycle_23.wav | AJ91: 8.8896072 | AK91: TRUE
A92: 45482.243 | B92: 0 | C92: 0 | D92: P863_SUMMARY_RESULT | E92: 23 | F92: 45482.243 | G92: Downlink | H92: 4.398012 | I92: -0.4744473 | J92: 220 | K92: Normal | L92: D:\字节\MOS\测试vivo\2024-07-09_05.41.51.509_S_6\Channel 3\Channel_2_cycle_23.wav | M92: 7.661755
A93: 45482.243 | B93: 0 | C93: 0 | D93: P863_DETAIL_RESULT | E93: 23 | F93: 45482.243 | G93: Downlink | H93: 4.398012 | I93: 4.398012 | J93: -0.4744473 | K93: 288.2292 | L93: 316.0446 | M93: 336.2083 | N93: 47541.96 | O93: -1 | P93: 136963 | Q93: 48000 | R93: 1 | S93: 0.3842697 | T93: -30.08299 | U93: -84.16337 | V93: -27.70217 | W93: 182.4934 | X93: 40.93484 | Y93: 0.3928571 | Z93: -30.38323 | AA93: -86.88013 | AB93: -28.17661 | AC93: 179.8874 | AD93: 39.3023 | AE93: 38 | AF93: 24 | AG93: 220 | AH93: Normal | AI93: D:\字节\MOS\测试vivo\2024-07-09_05.41.51.509_S_6\Channel 3\Channel_2_cycle_23.wav | AJ93: 7.661755 | AK93: TRUE
A94: 45482.243 | B94: 0 | C94: 0 | D94: P863_SUMMARY_RESULT | E94: 24 | F94: 45482.243 | G94: Uplink | H94: 4.370025 | I94: -0.14394 | J94: 220 | K94: Normal | L94: D:\字节\MOS\测试vivo\2024-07-09_05.41.51.509_S_6\Channel 4\Channel_3_cycle_24.wav | M94: 8.3591151
A95: 45482.243 | B95: 0 | C95: 0 | D95: P863_DETAIL_RESULT | E95: 24 | F95: 45482.243 | G95: Downlink | H95: 4.370025 | I95: 4.370025 | J95: -0.14394 | K95: 294.6875 | L95: 304.5842 | M95: 322.125 | N95: 48068.39 | O95: -1 | P95: 136963 | Q95: 48000 | R95: 0 | S95: 0.3910112 | T95: -30.34677 | U95: -86.02547 | V95: -28.03267 | W95: 291.367 | X95: 40.96209 | Y95: 0.3928571 | Z95: -30.38323 | AA95: -86.88013 | AB95: -28.17661 | AC95: 176.1601 | AD95: 39.3023 | AE95: 38 | AF95: 24 | AG95: 220 | AH95: Normal | AI95: D:\字节\MOS\测试vivo\2024-07-09_05.41.51.509_S_6\Channel 4\Channel_3_cycle_24.wav | AJ95: 8.3591151 | AK95: TRUE
A96: 45482.243 | B96: 0 | C96: 0 | D96: P863_SUMMARY_RESULT | E96: 24 | F96: 45482.243 | G96: Downlink | H96: 4.463111 | I96: -0.3885784 | J96: 220 | K96: Normal | L96: D:\字节\MOS\测试vivo\2024-07-09_05.41.51.509_S_6\Channel 3\Channel_2_cycle_24.wav | M96: 8.276773
A97: 45482.243 | B97: 0 | C97: 0 | D97: P863_DETAIL_RESULT | E97: 24 | F97: 45482.243 | G97: Downlink | H97: 4.463111 | I97: 4.463111 | J97: -0.3885784 | K97: 314.2708 | L97: 336.567 | M97: 361.375 | N97: 48476.32 | O97: -1 | P97: 136963 | Q97: 48000 | R97: 1 | S97: 0.3856502 | T97: -30.14689 | U97: -84.8521 | V97: -27.78804 | W97: 292.3954 | X97: 41.09929 | Y97: 0.3928571 | Z97: -30.38323 | AA97: -86.88013 | AB97: -28.17661 | AC97: 292.6601 | AD97: 39.3023 | AE97: 38 | AF97: 24 | AG97: 220 | AH97: Normal | AI97: D:\字节\MOS\测试vivo\2024-07-09_05.41.51.509_S_6\Channel 3\Channel_2_cycle_24.wav | AJ97: 8.276773 | AK97: TRUE
A98: 45482.243 | B98: 0 | C98: 0 | D98: P863_SUMMARY_RESULT | E98: 25 | F98: 45482.243 | G98: Uplink | H98: 4.523005 | I98: -0.1494961 | J98: 220 | K98: Normal | L98: D:\字节\MOS\测试vivo\2024-07-09_05.41.51.509_S_6\Channel 4\Channel_3_cycle_25.wav | M98: 7.9062022
A99: 45482.243 | B99: 0 | C99: 0 | D99: P863_DETAIL_RESULT | E99: 25 | F99: 45482.243 | G99: Downlink | H99: 4.523005 | I99: 4.523005 | J99: -0.1494961 | K99: 293.6875 | L99: 298.9259 | M99: 303.7917 | N99: 48000 | O99: -1 | P99: 136963 | Q99: 48000 | R99: 0 | S99: 0.3878924 | T99: -30.36404 | U99: -87.07687 | V99: -28.02712 | W99: 291.1913 | X99: 40.97854 | Y99: 0.3928571 | Z99: -30.38323 | AA99: -86.88013 | AB99: -28.17661 | AC99: 291.902 | AD99: 39.3023 | AE99: 38 | AF99: 24 | AG99: 220 | AH99: Normal | AI99: D:\字节\MOS\测试vivo\2024-07-09_05.41.51.509_S_6\Channel 4\Channel_3_cycle_25.wav | AJ99: 7.9062022 | AK99: TRUE
A100: 45482.244 | B100: 0 | C100: 0 | D100: P863_SUMMARY_RESULT | E100: 25 | F100: 45482.243 | G100: Downlink | H100: 4.542821 | I100: -0.411478 | J100: 220 | K100: Normal | L100: D:\字节\MOS\测试vivo\2024-07-09_05.41.51.509_S_6\Channel 3\Channel_2_cycle_25.wav | M100: 8.2340612
...

Sheet CP_Channel4
A1: DATE_TIME | B1: YCOORD | C1: XCOORD | D1: EVENT | E1: CHANNEL_INDEX

Sheet CP_Channel5
A1: DATE_TIME | B1: YCOORD | C1: XCOORD | D1: EVENT | E1: CHANNEL_INDEX
A2: 45482.238 | B2: 0 | C2: 0 | D2: P863_SUMMARY_RESULT | E2: 1 | F2: 45482.238 | G2: Uplink | H2: 4.086205 | I2: -0.3101654 | J2: 180 | K2: Normal | L2: D:\字节\MOS\测试vivo\2024-07-09_05.41.51.509_S_6\Channel 6\Channel_5_cycle_1.wav | M2: 6.2215589
A3: 45482.238 | B3: 0 | C3: 0 | D3: P863_DETAIL_RESULT | E3: 1 | F3: 45482.238 | G3: Downlink | H3: 4.086205 | I3: 4.086205 | J3: -0.3101654 | K3: 218.4583 | L3: 225.1078 | M3: 234.2917 | N3: 48000 | O3: -1 | P3: 136963 | Q3: 48000 | R3: 0 | S3: 0.3599138 | T3: -30.78565 | U3: -79.88041 | V3: -27.86645 | W3: 291.6429 | X3: 39.24185 | Y3: 0.3928571 | Z3: -30.38323 | AA3: -86.88013 | AB3: -28.17661 | AC3: 179.7851 | AD3: 39.3023 | AE3: 38 | AF3: 24 | AG3: 180 | AH3: Normal | AI3: D:\字节\MOS\测试vivo\2024-07-09_05.41.51.509_S_6\Channel 6\Channel_5_cycle_1.wav | AJ3: 6.2215589 | AK3: TRUE
A4: 45482.238 | B4: 0 | C4: 0 | D4: P863_SUMMARY_RESULT | E4: 1 | F4: 45482.238 | G4: Downlink | H4: 4.011953 | I4: -0.2752991 | J4: 180 | K4: Normal | L4: D:\字节\MOS\测试vivo\2024-07-09_05.41.51.509_S_6\Channel 5\Channel_4_cycle_1.wav | M4: 6.5543829
A5: 45482.238 | B5: 0 | C5: 0 | D5: P863_DETAIL_RESULT | E5: 1 | F5: 45482.238 | G5: Downlink | H5: 4.011953 | I5: 4.011953 | J5: -0.2752991 | K5: 587.0833 | L5: 591.8705 | M5: 596.8958 | N5: 48000 | O5: -1 | P5: 136963 | Q5: 48000 | R5: 0 | S5: 0.3736018 | T5: -30.62568 | U5: -80.28915 | V5: -27.90132 | W5: 291.2862 | X5: 38.8393 | Y5: 0.3928571 | Z5: -30.38323 | AA5: -86.88013 | AB5: -28.17661 | AC5: 177.4401 | AD5: 39.3023 | AE5: 38 | AF5: 24 | AG5: 180 | AH5: Normal | AI5: D:\字节\MOS\测试vivo\2024-07-09_05.41.51.509_S_6\Channel 5\Channel_4_cycle_1.wav | AJ5: 6.5543829 | AK5: TRUE
A6: 45482.238 | B6: 0 | C6: 0 | D6: P863_SUMMARY_RESULT | E6: 2 | F6: 45482.238 | G6: Uplink | H6: 4.028512 | I6: -0.1989918 | J6: 180 | K6: Normal | L6: D:\字节\MOS\测试vivo\2024-07-09_05.41.51.509_S_6\Channel 6\Channel_5_cycle_2.wav | M6: 6.4314814
A7: 45482.238 | B7: 0 | C7: 0 | D7: P863_DETAIL_RESULT | E7: 2 | F7: 45482.238 | G7: Downlink | H7: 4.028512 | I7: 4.028512 | J7: -0.1989918 | K7: 250.9583 | L7: 256.5321 | M7: 260.5625 | N7: 48000 | O7: -1 | P7: 136963 | Q7: 48000 | R7: 0 | S7: 0.3758389 | T7: -30.71857 | U7: -80.23729 | V7: -27.97762 | W7: 291.0625 | X7: 39.17049 | Y7: 0.3928571 | Z7: -30.38323 | AA7: -86.88013 | AB7: -28.17661 | AC7: 292.33 | AD7: 39.3023 | AE7: 38 | AF7: 24 | AG7: 180 | AH7: Normal | AI7: D:\字节\MOS\测试vivo\2024-07-09_05.41.51.509_S_6\Channel 6\Channel_5_cycle_2.wav | AJ7: 6.4314814 | AK7: TRUE
A8: 45482.238 | B8: 0 | C8: 0 | D8: P863_SUMMARY_RESULT | E8: 2 | F8: 45482.238 | G8: Downlink | H8: 4.091891 | I8: -0.3117218 | J8: 180 | K8: Normal | L8: D:\字节\MOS\测试vivo\2024-07-09_05.41.51.509_S_6\Channel 5\Channel_4_cycle_2.wav | M8: 5.927825
A9: 45482.238 | B9: 0 | C9: 0 | D9: P863_DETAIL_RESULT | E9: 2 | F9: 45482.238 | G9: Downlink | H9: 4.091891 | I9: 4.091891 | J9: -0.3117218 | K9: 259.7708 | L9: 263.9062 | M9: 271.0417 | N9: 48000 | O9: -1 | P9: 136963 | Q9: 48000 | R9: 0 | S9: 0.3736018 | T9: -30.62046 | U9: -79.79975 | V9: -27.86489 | W9: 180.1937 | X9: 39.0983 | Y9: 0.3928571 | Z9: -30.38323 | AA9: -86.88013 | AB9: -28.17661 | AC9: 178.251 | AD9: 39.3023 | AE9: 38 | AF9: 24 | AG9: 180 | AH9: Normal | AI9: D:\字节\MOS\测试vivo\2024-07-09_05.41.51.509_S_6\Channel 5\Channel_4_cycle_2.wav | AJ9: 5.927825 | AK9: TRUE
A10: 45482.238 | B10: 0 | C10: 0 | D10: P863_SUMMARY_RESULT | E10: 3 | F10: 45482.238 | G10: Uplink | H10: 3.881374 | I10: -0.3052597 | J10: 180 | K10: Normal | L10: D:\字节\MOS\测试vivo\2024-07-09_05.41.51.509_S_6\Channel 6\Channel_5_cycle_3.wav | M10: 6.1866403
A11: 45482.238 | B11: 0 | C11: 0 | D11: P863_DETAIL_RESULT | E11: 3 | F11: 45482.238 | G11: Downlink | H11: 3.881374 | I11: 3.881374 | J11: -0.3052597 | K11: 254.625 | L11: 269.2505 | M11: 283 | N11: 48244.72 | O11: -1 | P11: 136963 | Q11: 48000 | R11: 1 | S11: 0.3691275 | T11: -30.67132 | U11: -80.18562 | V11: -27.87136 | W11: 290.9516 | X11: 39.15195 | Y11: 0.3928571 | Z11: -30.38323 | AA11: -86.88013 | AB11: -28.17661 | AC11: 177.251 | AD11: 39.3023 | AE11: 38 | AF11: 24 | AG11: 180 | AH11: Normal | AI11: D:\字节\MOS\测试vivo\2024-07-09_05.41.51.509_S_6\Channel 6\Channel_5_cycle_3.wav | AJ11: 6.1866403 | AK11: TRUE
A12: 45482.238 | B12: 0 | C12: 0 | D12: P863_SUMMARY_RESULT | E12: 3 | F12: 45482.238 | G12: Downlink | H12: 4.007795 | I12: -0.2398319 | J12: 180 | K12: Normal | L12: D:\字节\MOS\测试vivo\2024-07-09_05.41.51.509_S_6\Channel 5\Channel_4_cycle_3.wav | M12: 6.1708484
A13: 45482.238 | B13: 0 | C13: 0 | D13: P863_DETAIL_RESULT | E13: 3 | F13: 45482.238 | G13: Downlink | H13: 4.007795 | I13: 4.007795 | J13: -0.2398319 | K13: 273.4583 | L13: 278.5681 | M13: 281.8333 | N13: 48000 | O13: -1 | P13: 136963 | Q13: 48000 | R13: 0 | S13: 0.3727679 | T13: -30.67255 | U13: -80.47929 | V13: -27.93678 | W13: 291.644 | X13: 39.24664 | Y13: 0.3928571 | Z13: -30.38323 | AA13: -86.88013 | AB13: -28.17661 | AC13: 178.9101 | AD13: 39.3023 | AE13: 38 | AF13: 24 | AG13: 180 | AH13: Normal | AI13: D:\字节\MOS\测试vivo\2024-07-09_05.41.51.509_S_6\Channel 5\Channel_4_cycle_3.wav | AJ13: 6.1708484 | AK13: TRUE
A14: 45482.239 | B14: 0 | C14: 0 | D14: P863_SUMMARY_RESULT | E14: 4 | F14: 45482.238 | G14: Uplink | H14: 3.99494 | I14: -0.2416821 | J14: 180 | K14: Normal | L14: D:\字节\MOS\测试vivo\2024-07-09_05.41.51.509_S_6\Channel 6\Channel_5_cycle_4.wav | M14: 5.2932902
A15: 45482.239 | B15: 0 | C15: 0 | D15: P863_DETAIL_RESULT | E15: 4 | F15: 45482.238 | G15: Downlink | H15: 3.99494 | I15: 3.99494 | J15: -0.2416821 | K15: 252.9792 | L15: 257.9328 | M15: 261.0208 | N15: 48000 | O15: -1 | P15: 136963 | Q15: 48000 | R15: 0 | S15: 0.3736018 | T15: -30.68716 | U15: -80.3587 | V15: -27.93493 | W15: 177.0731 | X15: 39.10342 | Y15: 0.3928571 | Z15: -30.38323 | AA15: -86.88013 | AB15: -28.17661 | AC15: 110.2851 | AD15: 39.3023 | AE15: 38 | AF15: 24 | AG15: 180 | AH15: Normal | AI15: D:\字节\MOS\测试vivo\2024-07-09_05.41.51.509_S_6\Channel 6\Channel_5_cycle_4.wav | AJ15: 5.2932902 | AK15: TRUE
A16: 45482.239 | B16: 0 | C16: 0 | D16: P863_SUMMARY_RESULT | E16: 4 | F16: 45482.239 | G16: Downlink | H16: 3.804753 | I16: -0.315073 | J16: 180 | K16: Normal | L16: D:\字节\MOS\测试vivo\2024-07-09_05.41.51.509_S_6\Channel 5\Channel_4_cycle_4.wav | M16: 5.8953081
A17: 45482.239 | B17: 0 | C17: 0 | D17: P863_DETAIL_RESULT | E17: 4 | F17: 45482.239 | G17: Downlink | H17: 3.804753 | I17: 3.804753 | J17: -0.315073 | K17: 255 | L17: 260.6801 | M17: 265.3333 | N17: 48000 | O17: -1 | P17: 136963 | Q17: 48000 | R17: 0 | S17: 0.3691275 | T17: -30.65714 | U17: -80.17912 | V17: -27.86154 | W17: 291.049 | X17: 39.09702 | Y17: 0.3928571 | Z17: -30.38323 | AA17: -86.88013 | AB17: -28.17661 | AC17: 177.1184 | AD17: 39.3023 | AE17: 38 | AF17: 24 | AG17: 180 | AH17: Normal | AI17: D:\字节\MOS\测试vivo\2024-07-09_05.41.51.509_S_6\Channel 5\Channel_4_cycle_4.wav | AJ17: 5.8953081 | AK17: TRUE
A18: 45482.239 | B18: 0 | C18: 0 | D18: P863_SUMMARY_RESULT | E18: 5 | F18: 45482.239 | G18: Uplink | H18: 3.934694 | I18: -0.2889233 | J18: 180 | K18: Normal | L18: D:\字节\MOS\测试vivo\2024-07-09_05.41.51.509_S_6\Channel 6\Channel_5_cycle_5.wav | M18: 5.9523279
A19: 45482.239 | B19: 0 | C19: 0 | D19: P863_DETAIL_RESULT | E19: 5 | F19: 45482.239 | G19: Downlink | H19: 3.934694 | I19: 3.934694 | J19: -0.2889233 | K19: 230.7292 | L19: 235.5664 | M19: 241 | N19: 48000 | O19: -1 | P19: 136963 | Q19: 48000 | R19: 0 | S19: 0.3691275 | T19: -30.69166 | U19: -80.28418 | V19: -27.88769 | W19: 291.0051 | X19: 38.95726 | Y19: 0.3928571 | Z19: -30.38323 | AA19: -86.88013 | AB19: -28.17661 | AC19: 108.2675 | AD19: 39.3023 | AE19: 38 | AF19: 24 | AG19: 180 | AH19: Normal | AI19: D:\字节\MOS\测试vivo\2024-07-09_05.41.51.509_S_6\Channel 6\Channel_5_cycle_5.wav | AJ19: 5.9523279 | AK19: TRUE
A20: 45482.239 | B20: 0 | C20: 0 | D20: P863_SUMMARY_RESULT | E20: 5 | F20: 45482.239 | G20: Downlink | H20: 4.010436 | I20: -0.3195858 | J20: 180 | K20: Normal | L20: D:\字节\MOS\测试vivo\2024-07-09_05.41.51.509_S_6\Channel 5\Channel_4_cycle_5.wav | M20: 5.924924
A21: 45482.239 | B21: 0 | C21: 0 | D21: P863_DETAIL_RESULT | E21: 5 | F21: 45482.239 | G21: Downlink | H21: 4.010436 | I21: 4.010436 | J21: -0.3195858 | K21: 255.375 | L21: 262.165 | M21: 266.1667 | N21: 48000 | O21: -1 | P21: 136963 | Q21: 48000 | R21: 0 | S21: 0.3713647 | T21: -30.63407 | U21: -79.55035 | V21: -27.85703 | W21: 291.9853 | X21: 39.02082 | Y21: 0.3928571 | Z21: -30.38323 | AA21: -86.88013 | AB21: -28.17661 | AC21: 178.251 | AD21: 39.3023 | AE21: 38 | AF21: 24 | AG21: 180 | AH21: Normal | AI21: D:\字节\MOS\测试vivo\2024-07-09_05.41.51.509_S_6\Channel 5\Channel_4_cycle_5.wav | AJ21: 5.924924 | AK21: TRUE
A22: 45482.239 | B22: 0 | C22: 0 | D22: P863_SUMMARY_RESULT | E22: 6 | F22: 45482.239 | G22: Uplink | H22: 3.768279 | I22: -0.2791748 | J22: 180 | K22: Normal | L22: D:\字节\MOS\测试vivo\2024-07-09_05.41.51.509_S_6\Channel 6\Channel_5_cycle_6.wav | M22: 6.324751
A23: 45482.239 | B23: 0 | C23: 0 | D23: P863_DETAIL_RESULT | E23: 6 | F23: 45482.239 | G23: Downlink | H23: 3.768279 | I23: 3.768279 | J23: -0.2791748 | K23: 250.8125 | L23: 253.4532 | M23: 263.625 | N23: 48000 | O23: -1 | P23: 136963 | Q23: 48000 | R23: 0 | S23: 0.3691275 | T23: -30.68355 | U23: -80.7043 | V23: -27.89744 | W23: 291.4753 | X23: 39.07549 | Y23: 0.3928571 | Z23: -30.38323 | AA23: -86.88013 | AB23: -28.17661 | AC23: 177.4014 | AD23: 39.3023 | AE23: 38 | AF23: 24 | AG23: 180 | AH23: Normal | AI23: D:\字节\MOS\测试vivo\2024-07-09_05.41.51.509_S_6\Channel 6\Channel_5_cycle_6.wav | AJ23: 6.324751 | AK23: TRUE
A24: 45482.239 | B24: 0 | C24: 0 | D24: P863_SUMMARY_RESULT | E24: 6 | F24: 45482.239 | G24: Downlink | H24: 3.805307 | I24: -0.3410873 | J24: 180 | K24: Normal | L24: D:\字节\MOS\测试vivo\2024-07-09_05.41.51.509_S_6\Channel 5\Channel_4_cycle_6.wav | M24: 5.5835331
A25: 45482.239 | B25: 0 | C25: 0 | D25: P863_DETAIL_RESULT | E25: 6 | F25: 45482.239 | G25: Downlink | H25: 3.805307 | I25: 3.805307 | J25: -0.3410873 | K25: 253.75 | L25: 260.7525 | M25: 263.5 | N25: 48000 | O25: -1 | P25: 136963 | Q25: 48000 | R25: 0 | S25: 0.3683036 | T25: -30.64443 | U25: -79.93135 | V25: -27.83553 | W25: 290.7228 | X25: 38.90761 | Y25: 0.3928571 | Z25: -30.38323 | AA25: -86.88013 | AB25: -28.17661 | AC25: 179.0859 | AD25: 39.3023 | AE25: 38 | AF25: 24 | AG25: 180 | AH25: Normal | AI25: D:\字节\MOS\测试vivo\2024-07-09_05.41.51.509_S_6\Channel 5\Channel_4_cycle_6.wav | AJ25: 5.5835331 | AK25: TRUE
A26: 45482.239 | B26: 0 | C26: 0 | D26: P863_SUMMARY_RESULT | E26: 7 | F26: 45482.239 | G26: Uplink | H26: 3.444054 | I26: -0.18857 | J26: 180 | K26: Normal | L26: D:\字节\MOS\测试vivo\2024-07-09_05.41.51.509_S_6\Channel 6\Channel_5_cycle_7.wav | M26: 6.4327757
A27: 45482.239 | B27: 0 | C27: 0 | D27: P863_DETAIL_RESULT | E27: 7 | F27: 45482.239 | G27: Downlink | H27: 3.444054 | I27: 3.444054 | J27: -0.18857 | K27: 253.3333 | L27: 263.485 | M27: 286.6667 | N27: 48000 | O27: -1 | P27: 136963 | Q27: 48000 | R27: 0 | S27: 0.3713647 | T27: -30.75076 | U27: -80.02449 | V27: -27.98804 | W27: 290.4371 | X27: 38.80492 | Y27: 0.3928571 | Z27: -30.38323 | AA27: -86.88013 | AB27: -28.17661 | AC27: 177.6985 | AD27: 39.3023 | AE27: 38 | AF27: 24 | AG27: 180 | AH27: Normal | AI27: D:\字节\MOS\测试vivo\2024-07-09_05.41.51.509_S_6\Channel 6\Channel_5_cycle_7.wav | AJ27: 6.4327757 | AK27: TRUE
A28: 45482.239 | B28: 0 | C28: 0 | D28: P863_SUMMARY_RESULT | E28: 7 | F28: 45482.239 | G28: Downlink | H28: 3.08464 | I28: -0.2829876 | J28: 180 | K28: Normal | L28: D:\字节\MOS\测试vivo\2024-07-09_05.41.51.509_S_6\Channel 5\Channel_4_cycle_7.wav | M28: 5.3079369
A29: 45482.239 | B29: 0 | C29: 0 | D29: P863_DETAIL_RESULT | E29: 7 | F29: 45482.239 | G29: Downlink | H29: 3.08464 | I29: 3.08464 | J29: -0.2829876 | K29: 253.5833 | L29: 285.6213 | M29: 303.8542 | N29: 48406.81 | O29: -1 | P29: 136963 | Q29: 48000 | R29: 1 | S29: 0.3736018 | T29: -30.62164 | U29: -80.31318 | V29: -27.89363 | W29: 292.3718 | X29: 39.15737 | Y29: 0.3928571 | Z29: -30.38323 | AA29: -86.88013 | AB29: -28.17661 | AC29: 179.2442 | AD29: 39.3023 | AE29: 38 | AF29: 24 | AG29: 180 | AH29: Normal | AI29: D:\字节\MOS\测试vivo\2024-07-09_05.41.51.509_S_6\Channel 5\Channel_4_cycle_7.wav | AJ29: 5.3079369 | AK29: TRUE
A30: 45482.24 | B30: 0 | C30: 0 | D30: P863_SUMMARY_RESULT | E30: 8 | F30: 45482.239 | G30: Uplink | H30: 3.84143 | I30: -0.287941 | J30: 180 | K30: Normal | L30: D:\字节\MOS\测试vivo\2024-07-09_05.41.51.509_S_6\Channel 6\Channel_5_cycle_8.wav | M30: 5.9268051
A31: 45482.24 | B31: 0 | C31: 0 | D31: P863_DETAIL_RESULT | E31: 8 | F31: 45482.239 | G31: Downlink | H31: 3.84143 | I31: 3.84143 | J31: -0.287941 | K31: 294.2917 | L31: 319.4515 | M31: 342.4375 | N31: 48479.95 | O31: -1 | P31: 136963 | Q31: 48000 | R31: 1 | S31: 0.3691275 | T31: -30.67721 | U31: -80.36954 | V31: -27.88867 | W31: 180.5237 | X31: 39.20802 | Y31: 0.3928571 | Z31: -30.38323 | AA31: -86.88013 | AB31: -28.17661 | AC31: 178.9101 | AD31: 39.3023 | AE31: 38 | AF31: 24 | AG31: 180 | AH31: Normal | AI31: D:\字节\MOS\测试vivo\2024-07-09_05.41.51.509_S_6\Channel 6\Channel_5_cycle_8.wav | AJ31: 5.9268051 | AK31: TRUE
A32: 45482.24 | B32: 0 | C32: 0 | D32: P863_SUMMARY_RESULT | E32: 8 | F32: 45482.239 | G32: Downlink | H32: 3.872409 | I32: -0.3629189 | J32: 180 | K32: Normal | L32: D:\字节\MOS\测试vivo\2024-07-09_05.41.51.509_S_6\Channel 5\Channel_4_cycle_8.wav | M32: 5.8748069
A33: 45482.24 | B33: 0 | C33: 0 | D33: P863_DETAIL_RESULT | E33: 8 | F33: 45482.239 | G33: Downlink | H33: 3.872409 | I33: 3.872409 | J33: -0.3629189 | K33: 292.1042 | L33: 348.5084 | M33: 399.0208 | N33: 46820.36 | O33: -1 | P33: 136963 | Q33: 48000 | R33: 1 | S33: 0.3668904 | T33: -30.62864 | U33: -80.11556 | V33: -27.8137 | W33: 179.4101 | X33: 39.11526 | Y33: 0.3928571 | Z33: -30.38323 | AA33: -86.88013 | AB33: -28.17661 | AC33: 179.3904 | AD33: 39.3023 | AE33: 38 | AF33: 24 | AG33: 180 | AH33: Normal | AI33: D:\字节\MOS\测试vivo\2024-07-09_05.41.51.509_S_6\Channel 5\Channel_4_cycle_8.wav | AJ33: 5.8748069 | AK33: TRUE
A34: 45482.24 | B34: 0 | C34: 0 | D34: P863_SUMMARY_RESULT | E34: 9 | F34: 45482.24 | G34: Uplink | H34: 3.795203 | I34: -0.2553215 | J34: 180 | K34: Normal | L34: D:\字节\MOS\测试vivo\2024-07-09_05.41.51.509_S_6\Channel 6\Channel_5_cycle_9.wav | M34: 6.2206778
A35: 45482.24 | B35: 0 | C35: 0 | D35: P863_DETAIL_RESULT | E35: 9 | F35: 45482.24 | G35: Downlink | H35: 3.795203 | I35: 3.795203 | J35: -0.2553215 | K35: 298.6667 | L35: 310.4476 | M35: 323.0833 | N35: 47785.73 | O35: -1 | P35: 136963 | Q35: 48000 | R35: 0 | S35: 0.3713647 | T35: -30.70319 | U35: -80.05507 | V35: -27.92129 | W35: 291.4458 | X35: 38.94602 | Y35: 0.3928571 | Z35: -30.38323 | AA35: -86.88013 | AB35: -28.17661 | AC35: 291.6429 | AD35: 39.3023 | AE35: 38 | AF35: 24 | AG35: 180 | AH35: Normal | AI35: D:\字节\MOS\测试vivo\2024-07-09_05.41.51.509_S_6\Channel 6\Channel_5_cycle_9.wav | AJ35: 6.2206778 | AK35: TRUE
A36: 45482.24 | B36: 0 | C36: 0 | D36: P863_SUMMARY_RESULT | E36: 9 | F36: 45482.24 | G36: Downlink | H36: 3.819953 | I36: -0.3581829 | J36: 180 | K36: Normal | L36: D:\字节\MOS\测试vivo\2024-07-09_05.41.51.509_S_6\Channel 5\Channel_4_cycle_9.wav | M36: 6.1525782
A37: 45482.24 | B37: 0 | C37: 0 | D37: P863_DETAIL_RESULT | E37: 9 | F37: 45482.24 | G37: Downlink | H37: 3.819953 | I37: 3.819953 | J37: -0.3581829 | K37: 271.1875 | L37: 294.6353 | M37: 318.6667 | N37: 47533.57 | O37: -1 | P37: 136963 | Q37: 48000 | R37: 1 | S37: 0.367713 | T37: -30.60954 | U37: -80.61015 | V37: -27.81843 | W37: 179.2056 | X37: 39.03849 | Y37: 0.3928571 | Z37: -30.38323 | AA37: -86.88013 | AB37: -28.17661 | AC37: 179.751 | AD37: 39.3023 | AE37: 38 | AF37: 24 | AG37: 180 | AH37: Normal | AI37: D:\字节\MOS\测试vivo\2024-07-09_05.41.51.509_S_6\Channel 5\Channel_4_cycle_9.wav | AJ37: 6.1525782 | AK37: TRUE
A38: 45482.24 | B38: 0 | C38: 0 | D38: P863_SUMMARY_RESULT | E38: 10 | F38: 45482.24 | G38: Uplink | H38: 4.016148 | I38: -0.2788162 | J38: 180 | K38: Normal | L38: D:\字节\MOS\测试vivo\2024-07-09_05.41.51.509_S_6\Channel 6\Channel_5_cycle_10.wav | M38: 5.7602227
A39: 45482.24 | B39: 0 | C39: 0 | D39: P863_DETAIL_RESULT | E39: 10 | F39: 45482.24 | G39: Downlink | H39: 4.016148 | I39: 4.016148 | J39: -0.2788162 | K39: 294.3958 | L39: 307.5387 | M39: 321.8958 | N39: 47768.22 | O39: -1 | P39: 136963 | Q39: 48000 | R39: 0 | S39: 0.3713647 | T39: -30.65521 | U39: -80.43596 | V39: -27.8978 | W39: 292.4928 | X39: 39.26382 | Y39: 0.3928571 | Z39: -30.38323 | AA39: -86.88013 | AB39: -28.17661 | AC39: 178.421 | AD39: 39.3023 | AE39: 38 | AF39: 24 | AG39: 180 | AH39: Normal | AI39: D:\字节\MOS\测试vivo\2024-07-09_05.41.51.509_S_6\Channel 6\Channel_5_cycle_10.wav | AJ39: 5.7602227 | AK39: TRUE
A40: 45482.24 | B40: 0 | C40: 0 | D40: P863_SUMMARY_RESULT | E40: 10 | F40: 45482.24 | G40: Downlink | H40: 3.775184 | I40: -0.3388596 | J40: 180 | K40: Normal | L40: D:\字节\MOS\测试vivo\2024-07-09_05.41.51.509_S_6\Channel 5\Channel_4_cycle_10.wav | M40: 5.6428479
A41: 45482.24 | B41: 0 | C41: 0 | D41: P863_DETAIL_RESULT | E41: 10 | F41: 45482.24 | G41: Downlink | H41: 3.775184 | I41: 3.775184 | J41: -0.3388596 | K41: 278.4375 | L41: 286.1989 | M41: 306.8958 | N41: 48000 | O41: -1 | P41: 136963 | Q41: 48000 | R41: 0 | S41: 0.3721973 | T41: -30.60858 | U41: -79.6637 | V41: -27.83776 | W41: 291.4728 | X41: 38.99999 | Y41: 0.3928571 | Z41: -30.38323 | AA41: -86.88013 | AB41: -28.17661 | AC41: 178.4644 | AD41: 39.3023 | AE41: 38 | AF41: 24 | AG41: 180 | AH41: Normal | AI41: D:\字节\MOS\测试vivo\2024-07-09_05.41.51.509_S_6\Channel 5\Channel_4_cycle_10.wav | AJ41: 5.6428479 | AK41: TRUE
A42: 45482.24 | B42: 0 | C42: 0 | D42: P863_SUMMARY_RESULT | E42: 11 | F42: 45482.24 | G42: Uplink | H42: 4.080953 | I42: -0.2235699 | J42: 180 | K42: Normal | L42: D:\字节\MOS\测试vivo\2024-07-09_05.41.51.509_S_6\Channel 6\Channel_5_cycle_11.wav | M42: 6.3330911
A43: 45482.24 | B43: 0 | C43: 0 | D43: P863_DETAIL_RESULT | E43: 11 | F43: 45482.24 | G43: Downlink | H43: 4.080953 | I43: 4.080953 | J43: -0.2235699 | K43: 296.9792 | L43: 309.176 | M43: 321.9167 | N43: 47781.92 | O43: -1 | P43: 136963 | Q43: 48000 | R43: 0 | S43: 0.3736018 | T43: -30.69467 | U43: -80.17623 | V43: -27.95304 | W43: 178.0198 | X43: 38.97218 | Y43: 0.3928571 | Z43: -30.38323 | AA43: -86.88013 | AB43: -28.17661 | AC43: 178.6174 | AD43: 39.3023 | AE43: 38 | AF43: 24 | AG43: 180 | AH43: Normal | AI43: D:\字节\MOS\测试vivo\2024-07-09_05.41.51.509_S_6\Channel 6\Channel_5_cycle_11.wav | AJ43: 6.3330911 | AK43: TRUE
A44: 45482.24 | B44: 0 | C44: 0 | D44: P863_SUMMARY_RESULT | E44: 11 | F44: 45482.24 | G44: Downlink | H44: 3.869986 | I44: -0.2099648 | J44: 180 | K44: Normal | L44: D:\字节\MOS\测试vivo\2024-07-09_05.41.51.509_S_6\Channel 5\Channel_4_cycle_11.wav | M44: 6.1448536
A45: 45482.24 | B45: 0 | C45: 0 | D45: P863_DETAIL_RESULT | E45: 11 | F45: 45482.24 | G45: Downlink | H45: 3.869986 | I45: 3.869986 | J45: -0.2099648 | K45: 275.7292 | L45: 301.5482 | M45: 361.4792 | N45: 48196 | O45: -1 | P45: 136963 | Q45: 48000 | R45: 0 | S45: 0.3780761 | T45: -30.64367 | U45: -80.33375 | V45: -27.96665 | W45: 178.0296 | X45: 38.939 | Y45: 0.3928571 | Z45: -30.38323 | AA45: -86.88013 | AB45: -28.17661 | AC45: 177.3874 | AD45: 39.3023 | AE45: 38 | AF45: 24 | AG45: 180 | AH45: Normal | AI45: D:\字节\MOS\测试vivo\2024-07-09_05.41.51.509_S_6\Channel 5\Channel_4_cycle_11.wav | AJ45: 6.1448536 | AK45: TRUE
A46: 45482.24 | B46: 0 | C46: 0 | D46: P863_SUMMARY_RESULT | E46: 12 | F46: 45482.24 | G46: Uplink | H46: 3.57812 | I46: -0.1265888 | J46: 180 | K46: Normal | L46: D:\字节\MOS\测试vivo\2024-07-09_05.41.51.509_S_6\Channel 6\Channel_5_cycle_12.wav | M46: 6.0403036
A47: 45482.24 | B47: 0 | C47: 0 | D47: P863_DETAIL_RESULT | E47: 12 | F47: 45482.24 | G47: Downlink | H47: 3.57812 | I47: 3.57812 | J47: -0.1265888 | K47: 311.375 | L47: 399.2618 | M47: 477.3333 | N47: 49751.82 | O47: -1 | P47: 136963 | Q47: 48000 | R47: 1 | S47: 0.3834081 | T47: -30.68256 | U47: -73.71113 | V47: -28.05003 | W47: 179.4152 | X47: 39.01324 | Y47: 0.3928571 | Z47: -30.38323 | AA47: -86.88013 | AB47: -28.17661 | AC47: 178.8135 | AD47: 39.3023 | AE47: 38 | AF47: 24 | AG47: 180 | AH47: Normal | AI47: D:\字节\MOS\测试vivo\2024-07-09_05.41.51.509_S_6\Channel 6\Channel_5_cycle_12.wav | AJ47: 6.0403036 | AK47: TRUE
A48: 45482.241 | B48: 0 | C48: 0 | D48: P863_SUMMARY_RESULT | E48: 12 | F48: 45482.24 | G48: Downlink | H48: 1.992854 | I48: -0.7784233 | J48: 180 | K48: Normal | L48: D:\字节\MOS\测试vivo\2024-07-09_05.41.51.509_S_6\Channel 5\Channel_4_cycle_12.wav | M48: 5.7568231
A49: 45482.241 | B49: 0 | C49: 0 | D49: P863_DETAIL_RESULT | E49: 12 | F49: 45482.24 | G49: Downlink | H49: 1.992854 | I49: 1.992854 | J49: -0.7784233 | K49: 334.3125 | L49: 340.0575 | M49: 345 | N49: 48000 | O49: -1 | P49: 136963 | Q49: 48000 | R49: 0 | S49: 0.3400447 | T49: -30.64034 | U49: -75.66842 | V49: -27.39819 | W49: 176.5024 | X49: 39.63956 | Y49: 0.3928571 | Z49: -30.38323 | AA49: -86.88013 | AB49: -28.17661 | AC49: 175.2851 | AD49: 39.3023 | AE49: 38 | AF49: 24 | AG49: 180 | AH49: Normal | AI49: D:\字节\MOS\测试vivo\2024-07-09_05.41.51.509_S_6\Channel 5\Channel_4_cycle_12.wav | AJ49: 5.7568231 | AK49: TRUE
A50: 45482.241 | B50: 0 | C50: 0 | D50: P863_SUMMARY_RESULT | E50: 13 | F50: 45482.241 | G50: Uplink | H50: 3.663929 | I50: -0.1364231 | J50: 180 | K50: Normal | L50: D:\字节\MOS\测试vivo\2024-07-09_05.41.51.509_S_6\Channel 6\Channel_5_cycle_13.wav | M50: 3.2436844
A51: 45482.241 | B51: 0 | C51: 0 | D51: P863_DETAIL_RESULT | E51: 13 | F51: 45482.241 | G51: Downlink | H51: 3.663929 | I51: 3.663929 | J51: -0.1364231 | K51: 335.5417 | L51: 367.4476 | M51: 420.7917 | N51: 48459.91 | O51: -1 | P51: 136963 | Q51: 48000 | R51: 1 | S51: 0.3758389 | T51: -30.78094 | U51: -80.90103 | V51: -28.04019 | W51: 179.9442 | X51: 39.08793 | Y51: 0.3928571 | Z51: -30.38323 | AA51: -86.88013 | AB51: -28.17661 | AC51: 179.8801 | AD51: 39.3023 | AE51: 38 | AF51: 24 | AG51: 180 | AH51: Normal | AI51: D:\字节\MOS\测试vivo\2024-07-09_05.41.51.509_S_6\Channel 6\Channel_5_cycle_13.wav | AJ51: 3.2436844 | AK51: TRUE
A52: 45482.241 | B52: 0 | C52: 0 | D52: P863_SUMMARY_RESULT | E52: 13 | F52: 45482.241 | G52: Downlink | H52: 3.22491 | I52: -0.1518974 | J52: 180 | K52: Normal | L52: D:\字节\MOS\测试vivo\2024-07-09_05.41.51.509_S_6\Channel 5\Channel_4_cycle_13.wav | M52: 2.652639
A53: 45482.241 | B53: 0 | C53: 0 | D53: P863_DETAIL_RESULT | E53: 13 | F53: 45482.241 | G53: Downlink | H53: 3.22491 | I53: 3.22491 | J53: -0.1518974 | K53: 310 | L53: 356.2577 | M53: 376.1875 | N53: 48000 | O53: -1 | P53: 136963 | Q53: 48000 | R53: 0 | S53: 0.3780761 | T53: -30.72659 | U53: -80.2118 | V53: -28.02472 | W53: 290.6601 | X53: 39.24749 | Y53: 0.3928571 | Z53: -30.38323 | AA53: -86.88013 | AB53: -28.17661 | AC53: 108.9505 | AD53: 39.3023 | AE53: 38 | AF53: 24 | AG53: 180 | AH53: Normal | AI53: D:\字节\MOS\测试vivo\2024-07-09_05.41.51.509_S_6\Channel 5\Channel_4_cycle_13.wav | AJ53: 2.652639 | AK53: TRUE
A54: 45482.241 | B54: 0 | C54: 0 | D54: P863_SUMMARY_RESULT | E54: 14 | F54: 45482.241 | G54: Uplink | H54: 3.880156 | I54: -0.2493401 | J54: 180 | K54: Normal | L54: D:\字节\MOS\测试vivo\2024-07-09_05.41.51.509_S_6\Channel 6\Channel_5_cycle_14.wav | M54: 5.6385549
A55: 45482.241 | B55: 0 | C55: 0 | D55: P863_DETAIL_RESULT | E55: 14 | F55: 45482.241 | G55: Downlink | H55: 3.880156 | I55: 3.880156 | J55: -0.2493401 | K55: 411.7708 | L55: 415.2939 | M55: 419.0208 | N55: 48000 | O55: -1 | P55: 136963 | Q55: 48000 | R55: 0 | S55: 0.3713647 | T55: -30.71198 | U55: -80.46689 | V55: -27.92727 | W55: 291.9682 | X55: 39.42533 | Y55: 0.3928571 | Z55: -30.38323 | AA55: -86.88013 | AB55: -28.17661 | AC55: 108.8776 | AD55: 39.3023 | AE55: 38 | AF55: 24 | AG55: 180 | AH55: Normal | AI55: D:\字节\MOS\测试vivo\2024-07-09_05.41.51.509_S_6\Channel 6\Channel_5_cycle_14.wav | AJ55: 5.6385549 | AK55: TRUE
A56: 45482.241 | B56: 0 | C56: 0 | D56: P863_SUMMARY_RESULT | E56: 14 | F56: 45482.241 | G56: Downlink | H56: 3.835135 | I56: -0.2784443 | J56: 180 | K56: Normal | L56: D:\字节\MOS\测试vivo\2024-07-09_05.41.51.509_S_6\Channel 5\Channel_4_cycle_14.wav | M56: 6.4509236
A57: 45482.241 | B57: 0 | C57: 0 | D57: P863_DETAIL_RESULT | E57: 14 | F57: 45482.241 | G57: Downlink | H57: 3.835135 | I57: 3.835135 | J57: -0.2784443 | K57: 292.3958 | L57: 296.2357 | M57: 301.1042 | N57: 48000 | O57: -1 | P57: 136963 | Q57: 48000 | R57: 0 | S57: 0.3691275 | T57: -30.68159 | U57: -80.42223 | V57: -27.89817 | W57: 292.6288 | X57: 39.1509 | Y57: 0.3928571 | Z57: -30.38323 | AA57: -86.88013 | AB57: -28.17661 | AC57: 292.513 | AD57: 39.3023 | AE57: 38 | AF57: 24 | AG57: 180 | AH57: Normal | AI57: D:\字节\MOS\测试vivo\2024-07-09_05.41.51.509_S_6\Channel 5\Channel_4_cycle_14.wav | AJ57: 6.4509236 | AK57: TRUE
A58: 45482.241 | B58: 0 | C58: 0 | D58: P863_SUMMARY_RESULT | E58: 15 | F58: 45482.241 | G58: Uplink | H58: 3.868769 | I58: -0.3347511 | J58: 180 | K58: Normal | L58: D:\字节\MOS\测试vivo\2024-07-09_05.41.51.509_S_6\Channel 6\Channel_5_cycle_15.wav | M58: 5.821891
A59: 45482.241 | B59: 0 | C59: 0 | D59: P863_DETAIL_RESULT | E59: 15 | F59: 45482.241 | G59: Downlink | H59: 3.868769 | I59: 3.868769 | J59: -0.3347511 | K59: 336.1458 | L59: 380.1148 | M59: 425.3125 | N59: 47063.55 | O59: -1 | P59: 136963 | Q59: 48000 | R59: 1 | S59: 0.3691275 | T59: -30.64143 | U59: -80.37804 | V59: -27.84186 | W59: 178.3201 | X59: 39.17906 | Y59: 0.3928571 | Z59: -30.38323 | AA59: -86.88013 | AB59: -28.17661 | AC59: 178.2001 | AD59: 39.3023 | AE59: 38 | AF59: 24 | AG59: 180 | AH59: Normal | AI59: D:\字节\MOS\测试vivo\2024-07-09_05.41.51.509_S_6\Channel 6\Channel_5_cycle_15.wav | AJ59: 5.821891 | AK59: TRUE
A60: 45482.241 | B60: 0 | C60: 0 | D60: P863_SUMMARY_RESULT | E60: 15 | F60: 45482.241 | G60: Downlink | H60: 3.834316 | I60: -0.348177 | J60: 180 | K60: Normal | L60: D:\字节\MOS\测试vivo\2024-07-09_05.41.51.509_S_6\Channel 5\Channel_4_cycle_15.wav | M60: 5.9750407
A61: 45482.241 | B61: 0 | C61: 0 | D61: P863_DETAIL_RESULT | E61: 15 | F61: 45482.241 | G61: Downlink | H61: 3.834316 | I61: 3.834316 | J61: -0.348177 | K61: 258.1667 | L61: 291.7939 | M61: 325.9583 | N61: 47299.64 | O61: -1 | P61: 136963 | Q61: 48000 | R61: 1 | S61: 0.3699552 | T61: -30.62365 | U61: -79.90471 | V61: -27.82844 | W61: 291.5442 | X61: 39.2208 | Y61: 0.3928571 | Z61: -30.38323 | AA61: -86.88013 | AB61: -28.17661 | AC61: 291.902 | AD61: 39.3023 | AE61: 38 | AF61: 24 | AG61: 180 | AH61: Normal | AI61: D:\字节\MOS\测试vivo\2024-07-09_05.41.51.509_S_6\Channel 5\Channel_4_cycle_15.wav | AJ61: 5.9750407 | AK61: TRUE
A62: 45482.241 | B62: 0 | C62: 0 | D62: P863_SUMMARY_RESULT | E62: 16 | F62: 45482.241 | G62: Uplink | H62: 3.905937 | I62: -0.2966213 | J62: 180 | K62: Normal | L62: D:\字节\MOS\测试vivo\2024-07-09_05.41.51.509_S_6\Channel 6\Channel_5_cycle_16.wav | M62: 6.2759297
A63: 45482.241 | B63: 0 | C63: 0 | D63: P863_DETAIL_RESULT | E63: 16 | F63: 45482.241 | G63: Downlink | H63: 3.905937 | I63: 3.905937 | J63: -0.2966213 | K63: 273.2917 | L63: 298.3157 | M63: 323.4792 | N63: 47540.02 | O63: -1 | P63: 136963 | Q63: 48000 | R63: 1 | S63: 0.3668904 | T63: -30.69359 | U63: -80.57038 | V63: -27.87999 | W63: 177.1166 | X63: 38.95639 | Y63: 0.3928571 | Z63: -30.38323 | AA63: -86.88013 | AB63: -28.17661 | AC63: 177.4518 | AD63: 39.3023 | AE63: 38 | AF63: 24 | AG63: 180 | AH63: Normal | AI63: D:\字节\MOS\测试vivo\2024-07-09_05.41.51.509_S_6\Channel 6\Channel_5_cycle_16.wav | AJ63: 6.2759297 | AK63: TRUE
A64: 45482.241 | B64: 0 | C64: 0 | D64: P863_SUMMARY_RESULT | E64: 16 | F64: 45482.241 | G64: Downlink | H64: 4.000782 | I64: -0.3401775 | J64: 180 | K64: Normal | L64: D:\字节\MOS\测试vivo\2024-07-09_05.41.51.509_S_6\Channel 5\Channel_4_cycle_16.wav | M64: 5.5146875
A65: 45482.241 | B65: 0 | C65: 0 | D65: P863_DETAIL_RESULT | E65: 16 | F65: 45482.241 | G65: Downlink | H65: 4.000782 | I65: 4.000782 | J65: -0.3401775 | K65: 374.4583 | L65: 378.5095 | M65: 383.8958 | N65: 48000 | O65: -1 | P65: 136963 | Q65: 48000 | R65: 0 | S65: 0.3713647 | T65: -30.60151 | U65: -80.43676 | V65: -27.83644 | W65: 178.6184 | X65: 39.40139 | Y65: 0.3928571 | Z65: -30.38323 | AA65: -86.88013 | AB65: -28.17661 | AC65: 178.2401 | AD65: 39.3023 | AE65: 38 | AF65: 24 | AG65: 180 | AH65: Normal | AI65: D:\字节\MOS\测试vivo\2024-07-09_05.41.51.509_S_6\Channel 5\Channel_4_cycle_16.wav | AJ65: 5.5146875 | AK65: TRUE
A66: 45482.242 | B66: 0 | C66: 0 | D66: P863_SUMMARY_RESULT | E66: 17 | F66: 45482.241 | G66: Uplink | H66: 4.022734 | I66: -0.2724533 | J66: 180 | K66: Normal | L66: D:\字节\MOS\测试vivo\2024-07-09_05.41.51.509_S_6\Channel 6\Channel_5_cycle_17.wav | M66: 6.2712324
A67: 45482.242 | B67: 0 | C67: 0 | D67: P863_DETAIL_RESULT | E67: 17 | F67: 45482.241 | G67: Downlink | H67: 4.022734 | I67: 4.022734 | J67: -0.2724533 | K67: 275 | L67: 327.7395 | M67: 379.1667 | N67: 46825.21 | O67: -1 | P67: 136963 | Q67: 48000 | R67: 1 | S67: 0.3691275 | T67: -30.69661 | U67: -80.02123 | V67: -27.90416 | W67: 179.8268 | X67: 39.08847 | Y67: 0.3928571 | Z67: -30.38323 | AA67: -86.88013 | AB67: -28.17661 | AC67: 178.3909 | AD67: 39.3023 | AE67: 38 | AF67: 24 | AG67: 180 | AH67: Normal | AI67: D:\字节\MOS\测试vivo\2024-07-09_05.41.51.509_S_6\Channel 6\Channel_5_cycle_17.wav | AJ67: 6.2712324 | AK67: TRUE
A68: 45482.242 | B68: 0 | C68: 0 | D68: P863_SUMMARY_RESULT | E68: 17 | F68: 45482.242 | G68: Downlink | H68: 3.835294 | I68: -0.3217754 | J68: 180 | K68: Normal | L68: D:\字节\MOS\测试vivo\2024-07-09_05.41.51.509_S_6\Channel 5\Channel_4_cycle_17.wav | M68: 6.034759
A69: 45482.242 | B69: 0 | C69: 0 | D69: P863_DETAIL_RESULT | E69: 17 | F69: 45482.242 | G69: Downlink | H69: 3.835294 | I69: 3.835294 | J69: -0.3217754 | K69: 313.6042 | L69: 318.0695 | M69: 322.1875 | N69: 48000 | O69: -1 | P69: 136963 | Q69: 48000 | R69: 0 | S69: 0.3699552 | T69: -30.63912 | U69: -80.51118 | V69: -27.85484 | W69: 291.7267 | X69: 39.23404 | Y69: 0.3928571 | Z69: -30.38323 | AA69: -86.88013 | AB69: -28.17661 | AC69: 177.0172 | AD69: 39.3023 | AE69: 38 | AF69: 24 | AG69: 180 | AH69: Normal | AI69: D:\字节\MOS\测试vivo\2024-07-09_05.41.51.509_S_6\Channel 5\Channel_4_cycle_17.wav | AJ69: 6.034759 | AK69: TRUE
A70: 45482.242 | B70: 0 | C70: 0 | D70: P863_SUMMARY_RESULT | E70: 18 | F70: 45482.242 | G70: Uplink | H70: 3.875723 | I70: -0.2956581 | J70: 180 | K70: Normal | L70: D:\字节\MOS\测试vivo\2024-07-09_05.41.51.509_S_6\Channel 6\Channel_5_cycle_18.wav | M70: 5.7184131
A71: 45482.242 | B71: 0 | C71: 0 | D71: P863_DETAIL_RESULT | E71: 18 | F71: 45482.242 | G71: Downlink | H71: 3.875723 | I71: 3.875723 | J71: -0.2956581 | K71: 314.6042 | L71: 317.8487 | M71: 322.5208 | N71: 48000 | O71: -1 | P71: 136963 | Q71: 48000 | R71: 0 | S71: 0.3691275 | T71: -30.67295 | U71: -80.63873 | V71: -27.88096 | W71: 291.5394 | X71: 38.95723 | Y71: 0.3928571 | Z71: -30.38323 | AA71: -86.88013 | AB71: -28.17661 | AC71: 291.5601 | AD71: 39.3023 | AE71: 38 | AF71: 24 | AG71: 180 | AH71: Normal | AI71: D:\字节\MOS\测试vivo\2024-07-09_05.41.51.509_S_6\Channel 6\Channel_5_cycle_18.wav | AJ71: 5.7184131 | AK71: TRUE
A72: 45482.242 | B72: 0 | C72: 0 | D72: P863_SUMMARY_RESULT | E72: 18 | F72: 45482.242 | G72: Downlink | H72: 3.908957 | I72: -0.3679218 | J72: 180 | K72: Normal | L72: D:\字节\MOS\测试vivo\2024-07-09_05.41.51.509_S_6\Channel 5\Channel_4_cycle_18.wav | M72: 5.9799509
A73: 45482.242 | B73: 0 | C73: 0 | D73: P863_DETAIL_RESULT | E73: 18 | F73: 45482.242 | G73: Downlink | H73: 3.908957 | I73: 3.908957 | J73: -0.3679218 | K73: 313.6875 | L73: 315.9986 | M73: 321.7292 | N73: 48000 | O73: -1 | P73: 136963 | Q73: 48000 | R73: 0 | S73: 0.3668904 | T73: -30.61845 | U73: -80.46622 | V73: -27.80869 | W73: 292.638 | X73: 39.17989 | Y73: 0.3928571 | Z73: -30.38323 | AA73: -86.88013 | AB73: -28.17661 | AC73: 176.1601 | AD73: 39.3023 | AE73: 38 | AF73: 24 | AG73: 180 | AH73: Normal | AI73: D:\字节\MOS\测试vivo\2024-07-09_05.41.51.509_S_6\Channel 5\Channel_4_cycle_18.wav | AJ73: 5.9799509 | AK73: TRUE
A74: 45482.242 | B74: 0 | C74: 0 | D74: P863_SUMMARY_RESULT | E74: 19 | F74: 45482.242 | G74: Uplink | H74: 3.83314 | I74: -0.3001652 | J74: 180 | K74: Normal | L74: D:\字节\MOS\测试vivo\2024-07-09_05.41.51.509_S_6\Channel 6\Channel_5_cycle_19.wav | M74: 5.6360044
A75: 45482.242 | B75: 0 | C75: 0 | D75: P863_DETAIL_RESULT | E75: 19 | F75: 45482.242 | G75: Downlink | H75: 3.83314 | I75: 3.83314 | J75: -0.3001652 | K75: 259.4375 | L75: 263.2408 | M75: 266.3125 | N75: 48000 | O75: -1 | P75: 136963 | Q75: 48000 | R75: 0 | S75: 0.3683036 | T75: -30.69345 | U75: -79.87936 | V75: -27.87645 | W75: 291.8405 | X75: 38.89079 | Y75: 0.3928571 | Z75: -30.38323 | AA75: -86.88013 | AB75: -28.17661 | AC75: 177.0731 | AD75: 39.3023 | AE75: 38 | AF75: 24 | AG75: 180 | AH75: Normal | AI75: D:\字节\MOS\测试vivo\2024-07-09_05.41.51.509_S_6\Channel 6\Channel_5_cycle_19.wav | AJ75: 5.6360044 | AK75: TRUE
A76: 45482.242 | B76: 0 | C76: 0 | D76: P863_SUMMARY_RESULT | E76: 19 | F76: 45482.242 | G76: Downlink | H76: 3.906396 | I76: -0.3456421 | J76: 180 | K76: Normal | L76: D:\字节\MOS\测试vivo\2024-07-09_05.41.51.509_S_6\Channel 5\Channel_4_cycle_19.wav | M76: 5.9870538
A77: 45482.242 | B77: 0 | C77: 0 | D77: P863_DETAIL_RESULT | E77: 19 | F77: 45482.242 | G77: Downlink | H77: 3.906396 | I77: 3.906396 | J77: -0.3456421 | K77: 256.9375 | L77: 261.7589 | M77: 264.7292 | N77: 48000 | O77: -1 | P77: 136963 | Q77: 48000 | R77: 0 | S77: 0.3699552 | T77: -30.6267 | U77: -79.83823 | V77: -27.83097 | W77: 292.1304 | X77: 39.19993 | Y77: 0.3928571 | Z77: -30.38323 | AA77: -86.88013 | AB77: -28.17661 | AC77: 176.8992 | AD77: 39.3023 | AE77: 38 | AF77: 24 | AG77: 180 | AH77: Normal | AI77: D:\字节\MOS\测试vivo\2024-07-09_05.41.51.509_S_6\Channel 5\Channel_4_cycle_19.wav | AJ77: 5.9870538 | AK77: TRUE
A78: 45482.242 | B78: 0 | C78: 0 | D78: P863_SUMMARY_RESULT | E78: 20 | F78: 45482.242 | G78: Uplink | H78: 4.04044 | I78: -0.2287254 | J78: 180 | K78: Normal | L78: D:\字节\MOS\测试vivo\2024-07-09_05.41.51.509_S_6\Channel 6\Channel_5_cycle_20.wav | M78: 6.4164297
A79: 45482.242 | B79: 0 | C79: 0 | D79: P863_DETAIL_RESULT | E79: 20 | F79: 45482.242 | G79: Downlink | H79: 4.04044 | I79: 4.04044 | J79: -0.2287254 | K79: 250.7292 | L79: 256.2892 | M79: 259.3958 | N79: 48000 | O79: -1 | P79: 136963 | Q79: 48000 | R79: 0 | S79: 0.3736018 | T79: -30.68315 | U79: -80.2932 | V79: -27.94789 | W79: 292.0633 | X79: 39.01832 | Y79: 0.3928571 | Z79: -30.38323 | AA79: -86.88013 | AB79: -28.17661 | AC79: 292.1924 | AD79: 39.3023 | AE79: 38 | AF79: 24 | AG79: 180 | AH79: Normal | AI79: D:\字节\MOS\测试vivo\2024-07-09_05.41.51.509_S_6\Channel 6\Channel_5_cycle_20.wav | AJ79: 6.4164297 | AK79: TRUE
A80: 45482.242 | B80: 0 | C80: 0 | D80: P863_SUMMARY_RESULT | E80: 20 | F80: 45482.242 | G80: Downlink | H80: 4.06 | I80: -0.2827187 | J80: 180 | K80: Normal | L80: D:\字节\MOS\测试vivo\2024-07-09_05.41.51.509_S_6\Channel 5\Channel_4_cycle_20.wav | M80: 6.104433
A81: 45482.242 | B81: 0 | C81: 0 | D81: P863_DETAIL_RESULT | E81: 20 | F81: 45482.242 | G81: Downlink | H81: 4.06 | I81: 4.06 | J81: -0.2827187 | K81: 256.9375 | L81: 260.1467 | M81: 263.0417 | N81: 48000 | O81: -1 | P81: 136963 | Q81: 48000 | R81: 0 | S81: 0.3736018 | T81: -30.64044 | U81: -79.92278 | V81: -27.8939 | W81: 176.1601 | X81: 39.08634 | Y81: 0.3928571 | Z81: -30.38323 | AA81: -86.88013 | AB81: -28.17661 | AC81: 175.1216 | AD81: 39.3023 | AE81: 38 | AF81: 24 | AG81: 180 | AH81: Normal | AI81: D:\字节\MOS\测试vivo\2024-07-09_05.41.51.509_S_6\Channel 5\Channel_4_cycle_20.wav | AJ81: 6.104433 | AK81: TRUE
A82: 45482.243 | B82: 0 | C82: 0 | D82: P863_SUMMARY_RESULT | E82: 21 | F82: 45482.242 | G82: Uplink | H82: 3.839252 | I82: -0.2843361 | J82: 180 | K82: Normal | L82: D:\字节\MOS\测试vivo\2024-07-09_05.41.51.509_S_6\Channel 6\Channel_5_cycle_21.wav | M82: 6.0950719
A83: 45482.243 | B83: 0 | C83: 0 | D83: P863_DETAIL_RESULT | E83: 21 | F83: 45482.242 | G83: Downlink | H83: 3.839252 | I83: 3.839252 | J83: -0.2843361 | K83: 257.0208 | L83: 289.693 | M83: 322.5208 | N83: 47311.58 | O83: -1 | P83: 136963 | Q83: 48000 | R83: 1 | S83: 0.3683036 | T83: -30.70206 | U83: -80.00614 | V83: -27.89228 | W83: 291.9877 | X83: 39.43083 | Y83: 0.3928571 | Z83: -30.38323 | AA83: -86.88013 | AB83: -28.17661 | AC83: 291.367 | AD83: 39.3023 | AE83: 38 | AF83: 24 | AG83: 180 | AH83: Normal | AI83: D:\字节\MOS\测试vivo\2024-07-09_05.41.51.509_S_6\Channel 6\Channel_5_cycle_21.wav | AJ83: 6.0950719 | AK83: TRUE
A84: 45482.243 | B84: 0 | C84: 0 | D84: P863_SUMMARY_RESULT | E84: 21 | F84: 45482.242 | G84: Downlink | H84: 4.039597 | I84: -0.3129997 | J84: 180 | K84: Normal | L84: D:\字节\MOS\测试vivo\2024-07-09_05.41.51.509_S_6\Channel 5\Channel_4_cycle_21.wav | M84: 5.780165
A85: 45482.243 | B85: 0 | C85: 0 | D85: P863_DETAIL_RESULT | E85: 21 | F85: 45482.242 | G85: Downlink | H85: 4.039597 | I85: 4.039597 | J85: -0.3129997 | K85: 256.2708 | L85: 288.6849 | M85: 324.4167 | N85: 48729.86 | O85: -1 | P85: 136963 | Q85: 48000 | R85: 1 | S85: 0.3744394 | T85: -30.59772 | U85: -80.0417 | V85: -27.86362 | W85: 291.3823 | X85: 39.05828 | Y85: 0.3928571 | Z85: -30.38323 | AA85: -86.88013 | AB85: -28.17661 | AC85: 179.8419 | AD85: 39.3023 | AE85: 38 | AF85: 24 | AG85: 180 | AH85: Normal | AI85: D:\字节\MOS\测试vivo\2024-07-09_05.41.51.509_S_6\Channel 5\Channel_4_cycle_21.wav | AJ85: 5.780165 | AK85: TRUE
A86: 45482.243 | B86: 0 | C86: 0 | D86: P863_SUMMARY_RESULT | E86: 22 | F86: 45482.243 | G86: Uplink | H86: 3.796601 | I86: -0.3047752 | J86: 180 | K86: Normal | L86: D:\字节\MOS\测试vivo\2024-07-09_05.41.51.509_S_6\Channel 6\Channel_5_cycle_22.wav | M86: 5.7901522
A87: 45482.243 | B87: 0 | C87: 0 | D87: P863_DETAIL_RESULT | E87: 22 | F87: 45482.243 | G87: Downlink | H87: 3.796601 | I87: 3.796601 | J87: -0.3047752 | K87: 312.7917 | L87: 315.9455 | M87: 321.6667 | N87: 48000 | O87: -1 | P87: 136963 | Q87: 48000 | R87: 0 | S87: 0.3691275 | T87: -30.67278 | U87: -80.67966 | V87: -27.87184 | W87: 291.5663 | X87: 39.0781 | Y87: 0.3928571 | Z87: -30.38323 | AA87: -86.88013 | AB87: -28.17661 | AC87: 292.0663 | AD87: 39.3023 | AE87: 38 | AF87: 24 | AG87: 180 | AH87: Normal | AI87: D:\字节\MOS\测试vivo\2024-07-09_05.41.51.509_S_6\Channel 6\Channel_5_cycle_22.wav | AJ87: 5.7901522 | AK87: TRUE
A88: 45482.243 | B88: 0 | C88: 0 | D88: P863_SUMMARY_RESULT | E88: 22 | F88: 45482.243 | G88: Downlink | H88: 3.881479 | I88: -0.3641376 | J88: 180 | K88: Normal | L88: D:\字节\MOS\测试vivo\2024-07-09_05.41.51.509_S_6\Channel 5\Channel_4_cycle_22.wav | M88: 6.2791435
A89: 45482.243 | B89: 0 | C89: 0 | D89: P863_DETAIL_RESULT | E89: 22 | F89: 45482.243 | G89: Downlink | H89: 3.881479 | I89: 3.881479 | J89: -0.3641376 | K89: 313.5 | L89: 316.0554 | M89: 320.8542 | N89: 48000 | O89: -1 | P89: 136963 | Q89: 48000 | R89: 0 | S89: 0.3668904 | T89: -30.62399 | U89: -80.46719 | V89: -27.81248 | W89: 178.5231 | X89: 39.0484 | Y89: 0.3928571 | Z89: -30.38323 | AA89: -86.88013 | AB89: -28.17661 | AC89: 178.2434 | AD89: 39.3023 | AE89: 38 | AF89: 24 | AG89: 180 | AH89: Normal | AI89: D:\字节\MOS\测试vivo\2024-07-09_05.41.51.509_S_6\Channel 5\Channel_4_cycle_22.wav | AJ89: 6.2791435 | AK89: TRUE
A90: 45482.243 | B90: 0 | C90: 0 | D90: P863_SUMMARY_RESULT | E90: 23 | F90: 45482.243 | G90: Uplink | H90: 3.768492 | I90: -0.2436047 | J90: 180 | K90: Normal | L90: D:\字节\MOS\测试vivo\2024-07-09_05.41.51.509_S_6\Channel 6\Channel_5_cycle_23.wav | M90: 5.831368
A91: 45482.243 | B91: 0 | C91: 0 | D91: P863_DETAIL_RESULT | E91: 23 | F91: 45482.243 | G91: Downlink | H91: 3.768492 | I91: 3.768492 | J91: -0.2436047 | K91: 255.5417 | L91: 288.7 | M91: 321.5625 | N91: 47298.54 | O91: -1 | P91: 136963 | Q91: 48000 | R91: 1 | S91: 0.3691275 | T91: -30.71767 | U91: -80.55848 | V91: -27.93301 | W91: 177.5887 | X91: 39.2698 | Y91: 0.3928571 | Z91: -30.38323 | AA91: -86.88013 | AB91: -28.17661 | AC91: 178.251 | AD91: 39.3023 | AE91: 38 | AF91: 24 | AG91: 180 | AH91: Normal | AI91: D:\字节\MOS\测试vivo\2024-07-09_05.41.51.509_S_6\Channel 6\Channel_5_cycle_23.wav | AJ91: 5.831368 | AK91: TRUE
A92: 45482.243 | B92: 0 | C92: 0 | D92: P863_SUMMARY_RESULT | E92: 23 | F92: 45482.243 | G92: Downlink | H92: 3.904448 | I92: -0.3801041 | J92: 180 | K92: Normal | L92: D:\字节\MOS\测试vivo\2024-07-09_05.41.51.509_S_6\Channel 5\Channel_4_cycle_23.wav | M92: 5.9446781
A93: 45482.243 | B93: 0 | C93: 0 | D93: P863_DETAIL_RESULT | E93: 23 | F93: 45482.243 | G93: Downlink | H93: 3.904448 | I93: 3.904448 | J93: -0.3801041 | K93: 317.7708 | L93: 322.5737 | M93: 327.7083 | N93: 48000 | O93: -1 | P93: 136963 | Q93: 48000 | R93: 0 | S93: 0.3691275 | T93: -30.59466 | U93: -80.18989 | V93: -27.79651 | W93: 292.0601 | X93: 39.16658 | Y93: 0.3928571 | Z93: -30.38323 | AA93: -86.88013 | AB93: -28.17661 | AC93: 177.3874 | AD93: 39.3023 | AE93: 38 | AF93: 24 | AG93: 180 | AH93: Normal | AI93: D:\字节\MOS\测试vivo\2024-07-09_05.41.51.509_S_6\Channel 5\Channel_4_cycle_23.wav | AJ93: 5.9446781 | AK93: TRUE
A94: 45482.243 | B94: 0 | C94: 0 | D94: P863_SUMMARY_RESULT | E94: 24 | F94: 45482.243 | G94: Uplink | H94: 3.857663 | I94: -0.2906742 | J94: 180 | K94: Normal | L94: D:\字节\MOS\测试vivo\2024-07-09_05.41.51.509_S_6\Channel 6\Channel_5_cycle_24.wav | M94: 5.5991269
A95: 45482.243 | B95: 0 | C95: 0 | D95: P863_DETAIL_RESULT | E95: 24 | F95: 45482.243 | G95: Downlink | H95: 3.857663 | I95: 3.857663 | J95: -0.2906742 | K95: 308.3542 | L95: 341.7514 | M95: 379.125 | N95: 48728.24 | O95: -1 | P95: 136963 | Q95: 48000 | R95: 1 | S95: 0.3691275 | T95: -30.69536 | U95: -81.19867 | V95: -27.88594 | W95: 177.6801 | X95: 39.33867 | Y95: 0.3928571 | Z95: -30.38323 | AA95: -86.88013 | AB95: -28.17661 | AC95: 178.7442 | AD95: 39.3023 | AE95: 38 | AF95: 24 | AG95: 180 | AH95: Normal | AI95: D:\字节\MOS\测试vivo\2024-07-09_05.41.51.509_S_6\Channel 6\Channel_5_cycle_24.wav | AJ95: 5.5991269 | AK95: TRUE
A96: 45482.243 | B96: 0 | C96: 0 | D96: P863_SUMMARY_RESULT | E96: 24 | F96: 45482.243 | G96: Downlink | H96: 3.74629 | I96: -0.3482533 | J96: 180 | K96: Normal | L96: D:\字节\MOS\测试vivo\2024-07-09_05.41.51.509_S_6\Channel 5\Channel_4_cycle_24.wav | M96: 6.0892617
A97: 45482.243 | B97: 0 | C97: 0 | D97: P863_DETAIL_RESULT | E97: 24 | F97: 45482.243 | G97: Downlink | H97: 3.74629 | I97: 3.74629 | J97: -0.3482533 | K97: 254.2917 | L97: 274.4492 | M97: 303.1667 | N97: 48446.63 | O97: -1 | P97: 136963 | Q97: 48000 | R97: 1 | S97: 0.3736018 | T97: -30.56078 | U97: -80.28404 | V97: -27.82836 | W97: 291.5787 | X97: 39.01968 | Y97: 0.3928571 | Z97: -30.38323 | AA97: -86.88013 | AB97: -28.17661 | AC97: 179.1633 | AD97: 39.3023 | AE97: 38 | AF97: 24 | AG97: 180 | AH97: Normal | AI97: D:\字节\MOS\测试vivo\2024-07-09_05.41.51.509_S_6\Channel 5\Channel_4_cycle_24.wav | AJ97: 6.0892617 | AK97: TRUE
A98: 45482.243 | B98: 0 | C98: 0 | D98: P863_SUMMARY_RESULT | E98: 25 | F98: 45482.243 | G98: Uplink | H98: 2.80054 | I98: 0.4474373 | J98: 180 | K98: Normal | L98: D:\字节\MOS\测试vivo\2024-07-09_05.41.51.509_S_6\Channel 6\Channel_5_cycle_25.wav | M98: 5.8125752
A99: 45482.243 | B99: 0 | C99: 0 | D99: P863_DETAIL_RESULT | E99: 25 | F99: 45482.243 | G99: Downlink | H99: 2.80054 | I99: 2.80054 | J99: 0.4474373 | K99: 281.3333 | L99: 444.2013 | M99: 799.9375 | N99: 48000 | O99: -1 | P99: 136963 | Q99: 48000 | R99: 0 | S99: 0.4250559 | T99: -30.79643 | U99: -79.93269 | V99: -28.62405 | W99: 291.2244 | X99: 38.616 | Y99: 0.3928571 | Z99: -30.38323 | AA99: -86.88013 | AB99: -28.17661 | AC99: 214.9275 | AD99: 39.3023 | AE99: 38 | AF99: 24 | AG99: 180 | AH99: Normal | AI99: D:\字节\MOS\测试vivo\2024-07-09_05.41.51.509_S_6\Channel 6\Channel_5_cycle_25.wav | AJ99: 5.8125752 | AK99: TRUE
A100: 45482.244 | B100: 0 | C100: 0 | D100: P863_SUMMARY_RESULT | E100: 25 | F100: 45482.243 | G100: Downlink | H100: 3.829772 | I100: -0.3288956 | J100: 180 | K100: Normal | L100: D:\字节\MOS\测试vivo\2024-07-09_05.41.51.509_S_6\Channel 5\Channel_4_cycle_25.wav | M100: 6.2182977
...

Sheet CP_Channel6
A1: DATE_TIME | B1: YCOORD | C1: XCOORD | D1: EVENT | E1: CHANNEL_INDEX

Sheet CP_AudioVerificationResults
A1: Channel | B1: Date/Time UTC | C1: Latitude | D1: Longitude | E1: Verification Result

Sheet CP_Calculations
A1: n = Connection Attempts | C1: Device Tested | D1: % Successful Initiations | E1: Low | F1: High | H1: Confidence Interval | K1: Device Tested | L1: % Successful Initiations | M1: Low | N1: High | P1: Confidence Interval
A2: p = percentage of calls | C2: ='Call Performance Summary'!B12 -> 0 | D2: ='Call Performance Summary'!G12 -> 0 | E2: =D2-H2 -> 0 | F2: =D2+H2 -> 0 | H2: =1.645*(SQRT((D2*(1-D2))/('Call Performance Summary'!D12-1))) -> 0 | K2: ='Call Performance Summary'!O12 -> 0 | L2: ='Call Performance Summary'!T12 -> 0 | M2: =L2-P2 -> 0 | N2: =L2+P2 -> 0 | P2: =1.645*(SQRT((L2*(1-L2))/('Call Performance Summary'!Q12-1))) -> 0
A3: s(p) = SQRT[ (p(1 - p) / (n - 1) ] | C3: ='Call Performance Summary'!B13 -> 0 | D3: ='Call Performance Summary'!G13 -> 0 | E3: =D3-H3 -> 0 | F3: =D3+H3 -> 0 | H3: =1.645*(SQRT((D3*(1-D3))/('Call Performance Summary'!D13-1))) -> 0 | K3: ='Call Performance Summary'!O13 -> 0 | L3: ='Call Performance Summary'!T13 -> 0 | M3: =L3-P3 -> 0 | N3: =L3+P3 -> 0 | P3: =1.645*(SQRT((L3*(1-L3))/('Call Performance Summary'!Q13-1))) -> 0
A4: z(a) = z(90th percentile) = 1.645 | C4: ='Call Performance Summary'!B14 -> 0 | D4: ='Call Performance Summary'!G14 -> 0 | E4: =D4-H4 -> 0 | F4: =D4+H4 -> 0 | H4: =1.645*(SQRT((D4*(1-D4))/('Call Performance Summary'!D14-1))) -> 0 | K4: ='Call Performance Summary'!O14 -> 0 | L4: ='Call Performance Summary'!T14 -> 0 | M4: =L4-P4 -> 0 | N4: =L4+P4 -> 0 | P4: =1.645*(SQRT((L4*(1-L4))/('Call Performance Summary'!Q14-1))) -> 0
C5: ='Call Performance Summary'!B15 -> 0 | D5: ='Call Performance Summary'!G15 -> 0 | E5: =D5-H5 -> 0 | F5: =D5+H5 -> 0 | H5: =1.645*(SQRT((D5*(1-D5))/('Call Performance Summary'!D15-1))) -> 0 | K5: ='Call Performance Summary'!O15 -> 0 | L5: ='Call Performance Summary'!T15 -> 0 | M5: =L5-P5 -> 0 | N5: =L5+P5 -> 0 | P5: =1.645*(SQRT((L5*(1-L5))/('Call Performance Summary'!Q15-1))) -> 0
A6: Confidence Interval = +/- z(a) * s(p) = 1.645 * s(p) | C6: ='Call Performance Summary'!B16 -> 0 | D6: ='Call Performance Summary'!G16 -> 0 | E6: =D6-H6 -> 0 | F6: =D6+H6 -> 0 | H6: =1.645*(SQRT((D6*(1-D6))/('Call Performance Summary'!D16-1))) -> 0 | K6: ='Call Performance Summary'!O16 -> 0 | L6: ='Call Performance Summary'!T16 -> 0 | M6: =L6-P6 -> 0 | N6: =L6+P6 -> 0 | P6: =1.645*(SQRT((L6*(1-L6))/('Call Performance Summary'!Q16-1))) -> 0
C7: ='Call Performance Summary'!B17 -> 0 | D7: ='Call Performance Summary'!G17 -> 0 | E7: =D7-H7 -> 0 | F7: =D7+H7 -> 0 | H7: =1.645*(SQRT((D7*(1-D7))/('Call Performance Summary'!D17-1))) -> 0 | K7: ='Call Performance Summary'!O17 -> 0 | L7: ='Call Performance Summary'!T17 -> 0 | M7: =L7-P7 -> 0 | N7: =L7+P7 -> 0 | P7: =1.645*(SQRT((L7*(1-L7))/('Call Performance Summary'!Q17-1))) -> 0
C9: Device Tested | D9: % Failed Initiations | E9: Low | F9: High | H9: Confidence Interval | K9: Device Tested | L9: % Failed Initiations | M9: Low | N9: High | P9: Confidence Interval
C10: ='Call Performance Summary'!B12 -> 0 | D10: ='Call Performance Summary'!H12 -> 0 | E10: =D10-H10 -> 0 | F10: =D10+H10 -> 0 | H10: =1.645*(SQRT((D10*(1-D10))/('Call Performance Summary'!D12-1))) -> 0 | K10: ='Call Performance Summary'!O12 -> 0 | L10: ='Call Performance Summary'!U12 -> 0 | M10: =L10-P10 -> 0 | N10: =L10+P10 -> 0 | P10: =1.645*(SQRT((L10*(1-L10))/('Call Performance Summary'!Q12-1))) -> 0
C11: ='Call Performance Summary'!B13 -> 0 | D11: ='Call Performance Summary'!H13 -> 0 | E11: =D11-H11 -> 0 | F11: =D11+H11 -> 0 | H11: =1.645*(SQRT((D11*(1-D11))/('Call Performance Summary'!D13-1))) -> 0 | K11: ='Call Performance Summary'!O13 -> 0 | L11: ='Call Performance Summary'!U13 -> 0 | M11: =L11-P11 -> 0 | N11: =L11+P11 -> 0 | P11: =1.645*(SQRT((L11*(1-L11))/('Call Performance Summary'!Q13-1))) -> 0
C12: ='Call Performance Summary'!B14 -> 0 | D12: ='Call Performance Summary'!H14 -> 0 | E12: =D12-H12 -> 0 | F12: =D12+H12 -> 0 | H12: =1.645*(SQRT((D12*(1-D12))/('Call Performance Summary'!D14-1))) -> 0 | K12: ='Call Performance Summary'!O14 -> 0 | L12: ='Call Performance Summary'!U14 -> 0 | M12: =L12-P12 -> 0 | N12: =L12+P12 -> 0 | P12: =1.645*(SQRT((L12*(1-L12))/('Call Performance Summary'!Q14-1))) -> 0
C13: ='Call Performance Summary'!B15 -> 0 | D13: ='Call Performance Summary'!H15 -> 0 | E13: =D13-H13 -> 0 | F13: =D13+H13 -> 0 | H13: =1.645*(SQRT((D13*(1-D13))/('Call Performance Summary'!D15-1))) -> 0 | K13: ='Call Performance Summary'!O15 -> 0 | L13: ='Call Performance Summary'!U15 -> 0 | M13: =L13-P13 -> 0 | N13: =L13+P13 -> 0 | P13: =1.645*(SQRT((L13*(1-L13))/('Call Performance Summary'!Q15-1))) -> 0
C14: ='Call Performance Summary'!B16 -> 0 | D14: ='Call Performance Summary'!H16 -> 0 | E14: =D14-H14 -> 0 | F14: =D14+H14 -> 0 | H14: =1.645*(SQRT((D14*(1-D14))/('Call Performance Summary'!D16-1))) -> 0 | K14: ='Call Performance Summary'!O16 -> 0 | L14: ='Call Performance Summary'!U16 -> 0 | M14: =L14-P14 -> 0 | N14: =L14+P14 -> 0 | P14: =1.645*(SQRT((L14*(1-L14))/('Call Performance Summary'!Q16-1))) -> 0
C15: ='Call Performance Summary'!B17 -> 0 | D15: ='Call Performance Summary'!H17 -> 0 | E15: =D15-H15 -> 0 | F15: =D15+H15 -> 0 | H15: =1.645*(SQRT((D15*(1-D15))/('Call Performance Summary'!D17-1))) -> 0 | K15: ='Call Performance Summary'!O17 -> 0 | L15: ='Call Performance Summary'!U17 -> 0 | M15: =L15-P15 -> 0 | N15: =L15+P15 -> 0 | P15: =1.645*(SQRT((L15*(1-L15))/('Call Performance Summary'!Q17-1))) -> 0
C17: Device Tested | D17: % Successful Calls | E17: Low | F17: High | H17: Confidence Interval | K17: Device Tested | L17: % Successful Calls | M17: Low | N17: High | P17: Confidence Interval
C18: ='Call Performance Summary'!B12 -> 0 | D18: ='Call Performance Summary'!I12 -> 0 | E18: =D18-H18 -> 0 | F18: =D18+H18 -> 0 | H18: =1.645*(SQRT((D18*(1-D18))/('Call Retention'!E8-1))) -> 0 | K18: ='Call Performance Summary'!O12 -> 0 | L18: ='Call Performance Summary'!V12 -> 0 | M18: =L18-P18 -> 0 | N18: =L18+P18 -> 0 | P18: =1.645*(SQRT((L18*(1-L18))/('Call Retention'!P8-1))) -> 0
C19: ='Call Performance Summary'!B13 -> 0 | D19: ='Call Performance Summary'!I13 -> 0 | E19: =D19-H19 -> 0 | F19: =D19+H19 -> 0 | H19: =1.645*(SQRT((D19*(1-D19))/('Call Retention'!E9-1))) -> 0 | K19: ='Call Performance Summary'!O13 -> 0 | L19: ='Call Performance Summary'!V13 -> 0 | M19: =L19-P19 -> 0 | N19: =L19+P19 -> 0 | P19: =1.645*(SQRT((L19*(1-L19))/('Call Retention'!P9-1))) -> 0
C20: ='Call Performance Summary'!B14 -> 0 | D20: ='Call Performance Summary'!I14 -> 0 | E20: =D20-H20 -> 0 | F20: =D20+H20 -> 0 | H20: =1.645*(SQRT((D20*(1-D20))/('Call Retention'!E10-1))) -> 0 | K20: ='Call Performance Summary'!O14 -> 0 | L20: ='Call Performance Summary'!V14 -> 0 | M20: =L20-P20 -> 0 | N20: =L20+P20 -> 0 | P20: =1.645*(SQRT((L20*(1-L20))/('Call Retention'!P10-1))) -> 0
C21: ='Call Performance Summary'!B15 -> 0 | D21: ='Call Performance Summary'!I15 -> 0 | E21: =D21-H21 -> 0 | F21: =D21+H21 -> 0 | H21: =1.645*(SQRT((D21*(1-D21))/('Call Retention'!E11-1))) -> 0 | K21: ='Call Performance Summary'!O15 -> 0 | L21: ='Call Performance Summary'!V15 -> 0 | M21: =L21-P21 -> 0 | N21: =L21+P21 -> 0 | P21: =1.645*(SQRT((L21*(1-L21))/('Call Retention'!P11-1))) -> 0
C22: ='Call Performance Summary'!B16 -> 0 | D22: ='Call Performance Summary'!I16 -> 0 | E22: =D22-H22 -> 0 | F22: =D22+H22 -> 0 | H22: =1.645*(SQRT((D22*(1-D22))/('Call Retention'!E12-1))) -> 0 | K22: ='Call Performance Summary'!O16 -> 0 | L22: ='Call Performance Summary'!V16 -> 0 | M22: =L22-P22 -> 0 | N22: =L22+P22 -> 0 | P22: =1.645*(SQRT((L22*(1-L22))/('Call Retention'!P12-1))) -> 0
C23: ='Call Performance Summary'!B17 -> 0 | D23: ='Call Performance Summary'!I17 -> 0 | E23: =D23-H23 -> 0 | F23: =D23+H23 -> 0 | H23: =1.645*(SQRT((D23*(1-D23))/('Call Retention'!E13-1))) -> 0 | K23: ='Call Performance Summary'!O17 -> 0 | L23: ='Call Performance Summary'!V17 -> 0 | M23: =L23-P23 -> 0 | N23: =L23+P23 -> 0 | P23: =1.645*(SQRT((L23*(1-L23))/('Call Retention'!P13-1))) -> 0
C25: Device Tested | D25: % Dropped Calls | E25: Low | F25: High | H25: Confidence Interval | K25: Device Tested | L25: % Dropped Calls | M25: Low | N25: High | P25: Confidence Interval
C26: ='Call Performance Summary'!B12 -> 0 | D26: ='Call Performance Summary'!J12 -> 0 | E26: =D26-H26 -> 0 | F26: =D26+H26 -> 0 | H26: =1.645*(SQRT((D26*(1-D26))/('Call Retention'!E8-1))) -> 0 | K26: ='Call Performance Summary'!O12 -> 0 | L26: ='Call Performance Summary'!W12 -> 0 | M26: =L26-P26 -> 0 | N26: =L26+P26 -> 0 | P26: =1.645*(SQRT((L26*(1-L26))/('Call Retention'!P8-1))) -> 0
C27: ='Call Performance Summary'!B13 -> 0 | D27: ='Call Performance Summary'!J13 -> 0 | E27: =D27-H27 -> 0 | F27: =D27+H27 -> 0 | H27: =1.645*(SQRT((D27*(1-D27))/('Call Retention'!E9-1))) -> 0 | K27: ='Call Performance Summary'!O13 -> 0 | L27: ='Call Performance Summary'!W13 -> 0 | M27: =L27-P27 -> 0 | N27: =L27+P27 -> 0 | P27: =1.645*(SQRT((L27*(1-L27))/('Call Retention'!P9-1))) -> 0
C28: ='Call Performance Summary'!B14 -> 0 | D28: ='Call Performance Summary'!J14 -> 0 | E28: =D28-H28 -> 0 | F28: =D28+H28 -> 0 | H28: =1.645*(SQRT((D28*(1-D28))/('Call Retention'!E10-1))) -> 0 | K28: ='Call Performance Summary'!O14 -> 0 | L28: ='Call Performance Summary'!W14 -> 0 | M28: =L28-P28 -> 0 | N28: =L28+P28 -> 0 | P28: =1.645*(SQRT((L28*(1-L28))/('Call Retention'!P10-1))) -> 0
C29: ='Call Performance Summary'!B15 -> 0 | D29: ='Call Performance Summary'!J15 -> 0 | E29: =D29-H29 -> 0 | F29: =D29+H29 -> 0 | H29: =1.645*(SQRT((D29*(1-D29))/('Call Retention'!E11-1))) -> 0 | K29: ='Call Performance Summary'!O15 -> 0 | L29: ='Call Performance Summary'!W15 -> 0 | M29: =L29-P29 -> 0 | N29: =L29+P29 -> 0 | P29: =1.645*(SQRT((L29*(1-L29))/('Call Retention'!P11-1))) -> 0
C30: ='Call Performance Summary'!B16 -> 0 | D30: ='Call Performance Summary'!J16 -> 0 | E30: =D30-H30 -> 0 | F30: =D30+H30 -> 0 | H30: =1.645*(SQRT((D30*(1-D30))/('Call Retention'!E12-1))) -> 0 | K30: ='Call Performance Summary'!O16 -> 0 | L30: ='Call Performance Summary'!W16 -> 0 | M30: =L30-P30 -> 0 | N30: =L30+P30 -> 0 | P30: =1.645*(SQRT((L30*(1-L30))/('Call Retention'!P12-1))) -> 0
C31: ='Call Performance Summary'!B17 -> 0 | D31: ='Call Performance Summary'!J17 -> 0 | E31: =D31-H31 -> 0 | F31: =D31+H31 -> 0 | H31: =1.645*(SQRT((D31*(1-D31))/('Call Retention'!E13-1))) -> 0 | K31: ='Call Performance Summary'!O17 -> 0 | L31: ='Call Performance Summary'!W17 -> 0 | M31: =L31-P31 -> 0 | N31: =L31+P31 -> 0 | P31: =1.645*(SQRT((L31*(1-L31))/('Call Retention'!P13-1))) -> 0
C33: Device Tested | D33: % Failed Audio Verification | E33: Low | F33: High | H33: Confidence Interval | K33: Device Tested | L33: % Failed Audio Verification | M33: Low | N33: High | P33: Confidence Interval
C34: ='Audio Verification'!B8 -> 0 | D34: ='Audio Verification'!G8 -> 0 | E34: =D34-H34 -> 0 | F34: =D34+H34 -> 0 | H34: =1.645*(SQRT((D34*(1-D34))/('Audio Verification'!D8-1))) -> 0 | K34: ='Audio Verification'!J8 -> 0 | L34: ='Audio Verification'!O8 -> 0 | M34: =L34-P34 -> 0 | N34: =L34+P34 -> 0 | P34: =1.645*(SQRT((L34*(1-L34))/('Audio Verification'!L8-1))) -> 0
C35: ='Audio Verification'!B9 -> 0 | D35: ='Audio Verification'!G9 -> 0 | E35: =D35-H35 -> 0 | F35: =D35+H35 -> 0 | H35: =1.645*(SQRT((D35*(1-D35))/('Audio Verification'!D9-1))) -> 0 | K35: ='Audio Verification'!J9 -> 0 | L35: ='Audio Verification'!O9 -> 0 | M35: =L35-P35 -> 0 | N35: =L35+P35 -> 0 | P35: =1.645*(SQRT((L35*(1-L35))/('Audio Verification'!L9-1))) -> 0
C36: ='Audio Verification'!B10 -> 0 | D36: ='Audio Verification'!G10 -> 0 | E36: =D36-H36 -> 0 | F36: =D36+H36 -> 0 | H36: =1.645*(SQRT((D36*(1-D36))/('Audio Verification'!D10-1))) -> 0 | K36: ='Audio Verification'!J10 -> 0 | L36: ='Audio Verification'!O10 -> 0 | M36: =L36-P36 -> 0 | N36: =L36+P36 -> 0 | P36: =1.645*(SQRT((L36*(1-L36))/('Audio Verification'!L10-1))) -> 0
C37: ='Audio Verification'!B11 -> 0 | D37: ='Audio Verification'!G11 -> 0 | E37: =D37-H37 -> 0 | F37: =D37+H37 -> 0 | H37: =1.645*(SQRT((D37*(1-D37))/('Audio Verification'!D11-1))) -> 0 | K37: ='Audio Verification'!J11 -> 0 | L37: ='Audio Verification'!O11 -> 0 | M37: =L37-P37 -> 0 | N37: =L37+P37 -> 0 | P37: =1.645*(SQRT((L37*(1-L37))/('Audio Verification'!L11-1))) -> 0
C38: ='Audio Verification'!B12 -> 0 | D38: ='Audio Verification'!G12 -> 0 | E38: =D38-H38 -> 0 | F38: =D38+H38 -> 0 | H38: =1.645*(SQRT((D38*(1-D38))/('Audio Verification'!D12-1))) -> 0 | K38: ='Audio Verification'!O12 -> 0 | L38: ='Audio Verification'!O12 -> 0 | M38: =L38-P38 -> 0 | N38: =L38+P38 -> 0 | P38: =1.645*(SQRT((L38*(1-L38))/('Audio Verification'!L12-1))) -> 0
C39: ='Audio Verification'!B13 -> 0 | D39: ='Audio Verification'!G13 -> 0 | E39: =D39-H39 -> 0 | F39: =D39+H39 -> 0 | H39: =1.645*(SQRT((D39*(1-D39))/('Audio Verification'!D13-1))) -> 0 | K39: ='Audio Verification'!O13 -> 0 | L39: ='Audio Verification'!O13 -> 0 | M39: =L39-P39 -> 0 | N39: =L39+P39 -> 0 | P39: =1.645*(SQRT((L39*(1-L39))/('Audio Verification'!L13-1))) -> 0

Sheet CP_CallResults
A1: Channel | B1: Date/Time UTC | C1: Latitude | D1: Longitude | E1: Call Result | F1: Average DL Mos for the Call | G1: Average UL Mos for the Call

Sheet VQ_MOSData
A1: TIME | B1: YCOORD | C1: XCOORD | D1: Channel1-DL | E1: Channel2-DL | F1: Channel3-DL | G1: Channel4-DL | H1: Channel5-DL | I1: Channel6-DL | J1: Channel1-UL | K1: Channel2-UL | L1: Channel3-UL | M1: Channel4-UL | N1: Channel5-UL | O1: Channel6-UL | P1: Channel1001-DL | Q1: Channel1002-DL | R1: Channel1003-DL | S1: Channel1004-DL | T1: Channel1005-DL | U1: Channel1006-DL | V1: Channel1001-UL | W1: Channel1002-UL | X1: Channel1003-UL | Y1: Channel1004-UL | Z1: Channel1005-UL | AA1: Channel1006-UL
A3: 45482.238 | L3: 4.4812732 | N3: 4.086205
A4: 45482.238 | F4: 4.545485 | H4: 4.0119529
A5: 45482.238 | L5: 4.399035 | N5: 4.0285115
A6: 45482.238 | F6: 4.4608784 | H6: 4.0918908
A7: 45482.238 | L7: 4.5356402 | N7: 3.8813744
A8: 45482.238 | F8: 4.4774261 | H8: 4.0077953
A9: 45482.238 | L9: 4.4959545 | N9: 3.9949398
A10: 45482.239 | F10: 4.4813204 | H10: 3.8047533
A11: 45482.239 | L11: 4.1725225 | N11: 3.9346941
A12: 45482.239 | F12: 4.4851398 | H12: 4.0104356
A13: 45482.239 | L13: 4.4018221 | N13: 3.7682793
A14: 45482.239 | F14: 4.3498654 | H14: 3.8053074
A15: 45482.239 | L15: 4.4179935 | N15: 3.4440541
A16: 45482.239 | F16: 4.1900277 | H16: 3.0846403
A17: 45482.239 | L17: 4.4347067 | N17: 3.8414302
A18: 45482.239 | F18: 4.5062346 | H18: 3.8724089
A19: 45482.24 | L19: 4.4715962 | N19: 3.795203
A20: 45482.24 | F20: 4.4789376 | H20: 3.819953
A21: 45482.24 | L21: 4.3922591 | N21: 4.0161481
A22: 45482.24 | F22: 4.4145899 | H22: 3.7751837
A23: 45482.24 | L23: 4.5128798 | N23: 4.0809526
A24: 45482.24 | F24: 4.4748392 | H24: 3.8699861
A25: 45482.24 | L25: 4.4556704 | N25: 3.5781195
A26: 45482.24 | F26: 4.4628758 | H26: 1.9928544
A27: 45482.241 | L27: 4.4900241 | N27: 3.6639292
A28: 45482.241 | F28: 3.656008 | H28: 3.2249103
A29: 45482.241 | L29: 4.501543 | N29: 3.8801558
A30: 45482.241 | F30: 4.4327588 | H30: 3.835135
A31: 45482.241 | L31: 4.0317802 | N31: 3.8687694
A32: 45482.241 | F32: 4.374362 | H32: 3.834316
A33: 45482.241 | L33: 4.458415 | N33: 3.9059372
A34: 45482.241 | F34: 3.7844028 | H34: 4.0007825
A35: 45482.241 | L35: 4.397459 | N35: 4.0227337
A36: 45482.242 | F36: 4.4000044 | H36: 3.8352945
A37: 45482.242 | L37: 4.5125546 | N37: 3.8757231
A38: 45482.242 | F38: 4.512372 | H38: 3.908957
A39: 45482.242 | L39: 4.5023613 | N39: 3.8331401
A40: 45482.242 | F40: 4.4333706 | H40: 3.9063964
A41: 45482.242 | L41: 4.4500136 | N41: 4.0404396
A42: 45482.242 | F42: 4.4505777 | H42: 4.0600004
A43: 45482.242 | L43: 4.492372 | N43: 3.839252
A44: 45482.242 | F44: 4.5212393 | H44: 4.0395966
A45: 45482.243 | L45: 4.4830093 | N45: 3.7966011
A46: 45482.243 | F46: 4.4829602 | H46: 3.8814785
A47: 45482.243 | L47: 4.5409589 | N47: 3.7684915
A48: 45482.243 | F48: 4.3980122 | H48: 3.9044478
A49: 45482.243 | L49: 4.3700247 | N49: 3.8576629
A50: 45482.243 | F50: 4.4631109 | H50: 3.74629
A51: 45482.243 | L51: 4.5230055 | N51: 2.8005402
A52: 45482.243 | F52: 4.5428214 | H52: 3.8297722
A53: 45482.244 | L53: 4.2107158 | N53: 4.0306716
A54: 45482.244 | F54: 4.5266414 | H54: 3.9602299
A55: 45482.244 | L55: 4.4943275 | N55: 3.8104322
A56: 45482.244 | F56: 4.4544168 | H56: 3.9568615
A57: 45482.244 | L57: 4.499577 | N57: 3.8694122
A58: 45482.244 | F58: 4.4020653 | H58: 3.757894
A59: 45482.244 | L59: 4.4947963 | N59: 3.9791417
A60: 45482.244 | F60: 4.4987578 | H60: 3.2818921
A61: 45482.244 | L61: 4.5049548 | N61: 3.9341774
A62: 45482.245 | F62: 4.4614563 | H62: 3.8259432
A63: 45482.245 | L63: 4.4529085 | N63: 2.9920144
A64: 45482.245 | F64: 4.4376268 | H64: 3.847266
A65: 45482.245 | L65: 4.4488707 | N65: 3.9767151
A66: 45482.245 | F66: 4.4290042 | H66: 3.735873
A67: 45482.245 | L67: 4.4883442 | N67: 3.888552
A68: 45482.245 | F68: 4.5051899 | H68: 3.8604548
A69: 45482.245 | L69: 4.4632215 | N69: 3.9600472
A70: 45482.245 | F70: 4.4274445 | H70: 4.0803981
A71: 45482.246 | L71: 4.4404626 | N71: 3.8384039
A72: 45482.246 | F72: 4.5402565 | H72: 4.0224805
A73: 45482.246 | L73: 4.502358 | N73: 3.836755
A74: 45482.246 | F74: 4.5202622 | H74: 3.9374206
A75: 45482.246 | L75: 4.5209193 | N75: 3.9991095
A76: 45482.246 | F76: 4.4194479 | H76: 4.006072
A77: 45482.246 | L77: 4.1578045 | N77: 3.1565933
A78: 45482.246 | F78: 4.3799944 | H78: 3.8158963
A79: 45482.247 | L79: 4.4559302 | N79: 3.9807501
A80: 45482.247 | F80: 4.4330215 | H80: 4.053257
A81: 45482.247 | L81: 4.4569106 | N81: 3.8425043
A82: 45482.247 | F82: 4.5046444 | H82: 3.9059393
A83: 45482.247 | L83: 4.5274425 | N83: 2.448575
A84: 45482.247 | F84: 4.4846444 | H84: 3.8928645
A85: 45482.247 | L85: 4.503417 | N85: 3.7675884
A86: 45482.247 | F86: 4.4388742 | H86: 3.9729028
A87: 45482.247 | L87: 4.4961309 | N87: 4.0819526
A88: 45482.248 | F88: 4.4714646 | H88: 4.1355977
A89: 45482.248 | L89: 4.4030838 | N89: 3.9589167
A90: 45482.248 | F90: 4.5301065 | H90: 3.8485703
A91: 45482.248 | L91: 4.4312963 | N91: 4.0340219
A92: 45482.248 | F92: 4.393301 | H92: 3.9335668
A93: 45482.248 | L93: 4.4825916 | N93: 4.0096693
A94: 45482.248 | F94: 4.5278993 | H94: 3.9522948
A95: 45482.248 | L95: 4.4196911 | N95: 3.7916908
A96: 45482.248 | F96: 4.3929796 | H96: 3.9540608
A97: 45482.249 | L97: 4.4699383 | N97: 3.8153672
A98: 45482.249 | F98: 4.5282221 | H98: 3.8458555
A99: 45482.249 | L99: 4.4898272 | N99: 3.8719535
A100: 45482.249 | F100: 4.4595299 | H100: 4.1333842
A101: 45482.249 | L101: 4.5519981 | N101: 3.8420136
...

Sheet VQ_CallDetails
A1: ChannelIndex | B1: AudioServerNumber | C1: HandsetNumber | D1: StartTimeUTC | E1: EndTimeUTC

Sheet Delay Measurements
A1: Date/Time | B1: Cycle | C1: Measurement # | D1: Source Channel | E1: Destination Channel | F1: Delay(s) | G1: 3 | H1: 4
G2: =IFERROR(IF($D2>0,IF($D2=$G$1,$F2," ")," ")," ") | H2: =IFERROR(IF($D2>0,IF($D2=$H$1,$F2," ")," ")," ")
G3: =IFERROR(IF($D3>0,IF($D3=$G$1,$F3," ")," ")," ") | H3: =IFERROR(IF($D3>0,IF($D3=$H$1,$F3," ")," ")," ")
G4: =IFERROR(IF($D4>0,IF($D4=$G$1,$F4," ")," ")," ") | H4: =IFERROR(IF($D4>0,IF($D4=$H$1,$F4," ")," ")," ")
G5: =IFERROR(IF($D5>0,IF($D5=$G$1,$F5," ")," ")," ") | H5: =IFERROR(IF($D5>0,IF($D5=$H$1,$F5," ")," ")," ")
G6: =IFERROR(IF($D6>0,IF($D6=$G$1,$F6," ")," ")," ") | H6: =IFERROR(IF($D6>0,IF($D6=$H$1,$F6," ")," ")," ")
G7: =IFERROR(IF($D7>0,IF($D7=$G$1,$F7," ")," ")," ") | H7: =IFERROR(IF($D7>0,IF($D7=$H$1,$F7," ")," ")," ")
G8: =IFERROR(IF($D8>0,IF($D8=$G$1,$F8," ")," ")," ") | H8: =IFERROR(IF($D8>0,IF($D8=$H$1,$F8," ")," ")," ")
G9: =IFERROR(IF($D9>0,IF($D9=$G$1,$F9," ")," ")," ") | H9: =IFERROR(IF($D9>0,IF($D9=$H$1,$F9," ")," ")," ")
G10: =IFERROR(IF($D10>0,IF($D10=$G$1,$F10," ")," ")," ") | H10: =IFERROR(IF($D10>0,IF($D10=$H$1,$F10," ")," ")," ")
G11: =IFERROR(IF($D11>0,IF($D11=$G$1,$F11," ")," ")," ") | H11: =IFERROR(IF($D11>0,IF($D11=$H$1,$F11," ")," ")," ")
G12: =IFERROR(IF($D12>0,IF($D12=$G$1,$F12," ")," ")," ") | H12: =IFERROR(IF($D12>0,IF($D12=$H$1,$F12," ")," ")," ")
G13: =IFERROR(IF($D13>0,IF($D13=$G$1,$F13," ")," ")," ") | H13: =IFERROR(IF($D13>0,IF($D13=$H$1,$F13," ")," ")," ")
... G10000: =IFERROR(IF($D10000>0,IF($D10000=$G$1,$F10000," ")," ")," ") | H10000: =IFERROR(IF($D10000>0,IF($D10000=$H$1,$F10000," ")," ")," ")

Sheet Call Activity
B1: TimeDate | C1: DNIS | D1: ANI | E1: Event

Sheet Call Results with Server Times
A1: Channel | B1: Call ID | C1: Access Timeout | D1: Actual Access Time | E1: Expected Duration | F1: Client Call Duration Seconds | G1: Call Result | H1: Client Start Time UTC | I1: Client End Time UTC | J1: Server Start Time UTC | K1: Server End Time UTC | L1: Server Call Duration Seconds

Sheet Remote Channel Metadata

Sheet DM Analysis
A1: DM Analysis
B9: Nomad | I9: Wireless Metrix
A10: Date | B10: Cycle Number | C10: CH1 MOS | D10: CH2 MOS | E10: CH3 MOS | F10: CH4 MOS | G10: CH5 MOS | H10: CH6 MOS | I10: CH1 Link | J10: CHI Delay (Min/Avg/Max) | K10: CH1 Packet Loss (Min/Avg/Max) | L10: CH1 Jitter (Min/Avg/Max) | M10: CH1 RSRP (Min/Avg/Max) | N10: CH1 RSRQ (Min/Avg/Max) | O10: CH1 SINR (Min/Avg/Max) | P10: CH2 Link | Q10: CH2 Delay (Min/Avg/Max) | R10: CH2 Packet Loss (Min/Avg/Max) | S10: CH2 Jitter (Min/Avg/Max) | T10: CH2 RSRP (Min/Avg/Max) | U10: CH2 RSRQ (Min/Avg/Max) | V10: CH2 SINR (Min/Avg/Max) | W10: CH3 Link | X10: CH3 Delay (Min/Avg/Max) | Y10: CH3 Packet Loss (Min/Avg/Max) | Z10: CH3 Jitter (Min/Avg/Max) | AA10: CH3 RSRP (Min/Avg/Max) | AB10: CH3 RSRQ (Min/Avg/Max) | AC10: CH3 SINR (Min/Avg/Max) | AD10: CH4 Link | AE10: CH4 Delay (Min/Avg/Max) | AF10: CH4 Packet Loss (Min/Avg/Max) | AG10: CH4 Jitter (Min/Avg/Max) | AH10: CH4 RSRP (Min/Avg/Max) | AI10: CH4 RSRQ (Min/Avg/Max) | AJ10: CH4 SINR (Min/Avg/Max) | AK10: CH5 Link | AL10: CH5 Delay (Min/Avg/Max) | AM10: CH5 Packet Loss (Min/Avg/Max) | AN10: CH5 Jitter (Min/Avg/Max) | AO10: CH5 RSRP (Min/Avg/Max) | AP10: CH5 RSRQ (Min/Avg/Max) | AQ10: CH5 SINR (Min/Avg/Max) | AR10: CH6 Link | AS10: CH6 Delay (Min/Avg/Max) | AT10: CH6 Packet Loss (Min/Avg/Max) | AU10: CH6 Jitter (Min/Avg/Max) | AV10: CH6 RSRP (Min/Avg/Max) | AW10: CH6 RSRQ (Min/Avg/Max) | AX10: CH6 SINR (Min/Avg/Max)
